{"text_format":"1","workbook":"xlsx","n_sheets":32,"sheets":["Информация","Анкета","Критерии","Долгосрочные параметры","3","анализ потерь (РЭК)","4","5","динамика потерь","15","16","17","17.1","18","ОПР -25 счет","ОХР -26 счет","Закупки","20","20.1","21","25","Цена потерь","Расчет долгосрочных параметров","корректировка 2016 ","P2.1","P2.1 (корректировка)","P2.2","P2.2 (корректировка)","2.3","заключение 2016","РЭК корректировка","заключение"],"not_rendered":{"charts":0,"images":0,"macros":1,"external_links":0,"defined_names":3842,"comments":3,"pivot_tables":0},"unopened":[],"bounds":{"document_bytes":16777216,"sheet_cells":100000,"rows_first":2000,"rows_last":500,"rows_between":2000,"halvings":0,"cell_chars":16384,"cell_head_chars":4096},"cells_cut":0,"cells_raw":0,"read":"whole","date_system":"1900"}

{"sheet":"Информация","index":0,"n_rows":31,"n_cols":3,"rows_kept":31,"cut":false,"hidden":false,"merged":[]}
[null,"ПЕРЕЧЕНЬ ДОКУМЕНТОВ ДЛЯ УТВЕРЖДЕНИЯ ТАРИФОВ НА УСЛУГИ ПО ПЕРЕДАЧЕ ЭЛЕКТРИЧЕСКОЙ ЭНЕРГИИ\n\nДля рассмотрения предложения об утверждении тарифов на услуги по передаче электрической энергии сетевая организация предоставляет в регулирующий орган в срок до 1 мая текущего года следующие материалы:\n1. Письмо на имя Министра с предложением по установлению или корректировке тарифов с краткой пояснительной запиской;\n","При корректировке тарифов не предоставляется:"]
[null,"2. Выписка из Единого государственного реестра юридических лиц.  Документы, удостоверяющие право собственности или аренды сетевого оборудования;","не предоставляется, если нет изменений"]
[null,"3. Расчетные таблицы, подписанные руководителем или  уполномоченным лицом (прикладывается доверенность);"]
[null,"4. Положение по учетной политике на предприятии (с указанием субсчетов, относимых к регулируемому виду деятельности)\n","не предоставляется, если нет изменений"]
[null,"5. Копия договора на услуги по передаче электрической энергии с филиалом \"Удмуртэнерго\" ОАО \"МРСК Центра и Приволжья\" с приложением № 3 к договору на 2016 год (в случае отсутствия документов может быть представлена позднее);","приложение может быть представлено позже"]
[null,"6. Динамика величины и уровня фактических потерь за последние 3 года;"]
[null,"7. Объем воздушных линий электропередач (ВЛЭП) и кабельных линий электропередач (КЛЭП) в условных единицах в зависимости от протяженности, напряжения, конструктивного использования и материала опор (приложение 2.1.) по состоянию на 1 января 2014 года, 1 января 2015 года и на текущую дату (если есть изменения);\n объем подстанций 35-1150кВ, трансформаторных подстанций (ТП), комплексных трансформаторных подстанций (КТП) и распределительных пунктов (РП) 0,4 -20 кВ в условных единицах (приложение 2.2.) по состоянию на 1 января 2014 года, 1 января 2015 года и на текущую дату, если есть изменения;"]
[null,"8. Пояснение о причинах изменения активов организации в условных единицах по каждому пункту  с приложением актов ввода оборудования или списания (при большом количестве -реестр);"]
[null,"9. Программа энергосбережения на период действия тарифов;","не предоставляется, если нет изменений "]
[null,"10. Штатное расписание по участкам обслуживания и ремонта электрических сетей, расчет нормативной численности, фактическая среднесписочная численность за предыдущий год в соответствии с данными статотчетности.","не предоставляется, если нет изменений"]
[null,"11.  Программа капитальных ремонтов на плановый период;"]
[null,"12.  Отчет о выполнении капитальных ремонтов за прошедший  год."]
[null,"13.  Перечень услуг производственного характера сторонних организаций по факту 2014 года, ожидаемое на 2015 год и план на 2016 год с приложением соответствующих договоров на текущий период."]
[null,"14.  Расшифровка статьи \"материалы\"по факту 2014 года, ожидаемое на 2015 год и план на 2016 год."]
[null,"15. Положение о закупках, протокола по результатам торгов за 2014 и 2015 годы (в части, относящейся на регулируемый вид деятельности);"]
[null,"16. Копии счетов–фактур на покупку потерь за 2014 год и 1 квартал 2015 года;"]
[null,"17. Отчетность по форме 46-ээ (передача) за прошедший год;"]
[null,"18. Схема электрических сетей организации, акты разграничения балансовой принадлежности;","не предоставляется, если нет изменений"]
[null,"19. Анализ субсчетов, на которых учитываются затраты по услугам на передачу электрической энергии, за прошедший год и первый квартал текущего года, за подписью бухгалтера;"]
[null,"20. Расчет экономически обоснованного уровня арендной платы с приложением подтверждающих документов (в случае владения имуществом на правах аренды) по факту и на плановый период;"]
[null,"21. Иные документы, подтверждающие фактические расходы, декларации по налогам;"]
[null,"21. Бухгалтерская и статистическая отчетность за прошедший год и 1 квартал текущего года;"]
[null,"22. Расчет выпадающих доходов от технологического присоединения льготных категорий заявителей за прошедший  год и на плановый период;"]
[null,"23. Решение об утверждении инвестиционной программы (инвестиционная программа и отчет об её исполнении за предыдущий год должны быть представлены в отдел энергосбережения и инвестиций);","решение о корректировке инвестпрограммы"]
[null,"24.  Расчет показателей надежности и качества, оказываемых услуг на долгосрочный период. \n","предоставляется по факту 2014 года"]
[null,"25.  Справка о наличии официального сайта в сети Интернет и выделенного абонентского номера для обращений потребителей услуг по передаче электрической энергии и (или) технологическому присоединению, подписанная руководителем или иным уполномоченным лицом заявителя и заверенная печатью заявителя. \n"]
[null,"Информация (расчетные таблицы и обосновывающие материалы) представляется на рассмотрение "]
[null,"в регулирующий орган в сброшюрованном виде за подписью руководителя организации или уполномоченного лица (при наличии доверенности), а также все расчетные таблицы (приложения) "]
[null,"представляются дополнительно в электронном виде в шаблонах (формат Excel). "]
[null,"Если организация обращается за утверждением тарифа впервые, данные на долгосрочный период не заполняются, и не предоставляется расчет показателей надёжности и качества оказываемых услуг (п.23)"]
[null,"Если организация обращается за корректировкой НВВ, рассчитанной методом долгосрочной индексации, в расчетных таблицах заполняются данные по факту 2014 года, ожидаемые данные за 2015 год и план на 2016 год."]

{"sheet":"Анкета","index":1,"n_rows":46,"n_cols":7,"rows_kept":46,"cut":false,"hidden":false,"merged":[[13,1,13,2],[14,1,14,2],[16,1,16,2],[17,1,17,2],[1,0,1,2],[2,1,2,2],[5,1,5,2],[8,1,8,2],[6,1,6,2],[7,1,7,2],[3,1,3,2],[4,1,4,2],[9,1,9,2],[11,1,11,2],[12,0,12,2],[10,1,10,2],[19,1,19,2],[15,1,15,2],[32,1,32,2],[30,1,30,2],[24,1,24,2],[25,1,25,2],[22,1,22,2],[26,1,26,2],[29,1,29,2],[20,1,20,2],[18,1,18,2],[31,1,31,2],[43,2,43,3],[27,0,28,0],[21,1,21,2],[37,0,37,1],[23,1,23,2],[33,0,33,2],[40,0,40,1],[38,0,39,0],[36,0,36,1],[42,0,42,1],[41,0,41,1],[34,0,35,0]]}
[null,null,"версия 1"]
["АНКЕТА",null,null,null,"общая (организация является плательщиком НДС)",null,"да"]
["Наименование организации:","АО \"Чепецкий механический завод\"",null,null,"упрощенная система налогообложения",null,"нет (расходы учитываются в составе 20 счета по другому виду деятельности)"]
["Организационно правовая форма","Акционерное общество",null,null,"система налогообложения для сельхозтоваропроизводителей (единый сельскохозяйственный налог)",null,"нет (расходы учитываются в составе 23  счета -вспомогательное производство)"]
["Система налогообложения организации:","общая (организация является плательщиком НДС)",null,null,"иная (организация не является плательщиком НДС)",null,"нет (расходы учитываются в составе общепроизводственных расходов - 25 счет)"]
["Муниципальное образование по месту регистрации организации или филиала","г.Глазов"]
["ИНН","1829008035"]
["КПП","183650001"]
["Юридический/Почтовый адрес:","ул. Белова, д.7, г.Глазов, Удмуртская Республика, Россия, 427620"]
["Основной вид деятельности организации","Производство ядерных материалов"]
["Право владения электросетевым имуществом (собственность/аренда/хоз. ведение/оперативное управление)","Собственность"]
["Срок действия действующего договора аренды сетей (или иного договора, подтверждающего право владения)"]
["техническая характеристика сетей на 1.04.2015 года"]
["Протяженность сетей ВН (км)","0,8"]
["Протяженность сетей СН-1 (км)","12,3"]
["Протяженность сетей СН-2 (км)",210.256]
["Протяженность сетей НН (км)","2"]
["Установленная (присоединенная) мощность сети (кВА)","322500000"]
["в т.ч. присоединенная мощность сторонних потребителей (кВА)","1000000"]
["Заявленная мощность  (МВт)","50,29"]
["в т.ч. заявленная мощность сторонних потребителей (МВт)","1,02"]
["Наименование смежных сетевых организаций:","ОАО \"МРСК  Центра и Приволжья\""]
["Указать на каких субсчетах организован   раздельный учет доходов и расходов  по передаче электрической энергии","U420031641- передача электрической энергии"]
["Выручка от деятельности по передаче электрической энергии за 2014 год, тыс.руб.",2332]
["Прибыль от продаж по итогам 2014 года в целом по организации, тыс.руб.",1951922]
["в том числе от услуг по передаче электрической энергии, тыс.руб.",541]
["Количество сторонних потребителей, присоединенных к сетям организации",39]
["Действующий тариф на услуги по передаче электрической энергии на 2015 год (1 и 2 полугодия): \nставка на содержание сетей (руб./квт);\n\nставка на компенсацию потерь (руб./кВт.ч)",126.29989999999999,126.29989999999999]
[null,7.0900000000000005E-2,0.1149]
["Постановление (приказ) регулирующего органа о тарифах на 2015 год  (реквизиты)","Постановление РЭК УР от 26.12.2014г. № 30/16"]
["Дата подключения к ЕИАС","2010-11-15"]
["Где  раскрыта информация о предлагаемом размере тарифов  и долгосрочных параметров регулирования (пункт 9(1) Правил регулирования -постановление Правительства РФ от 29.12.2011г. № 1178) (указать ссылку на страницу сайта, где размещена информация)","На официальном сайте ОАО \"ЧМЗ\" (WWW.CHMZ.NET) "]
["Где  раскрыта информация в соответствии с требованиями постановления Правительства РФ от 21.01.2004 № 24 об установленных тарифах на 2015 год и по факту 2014 года (указать ссылки на страницы сайта, где размещена информация)","На официальном сайте ОАО \"ЧМЗ\" (WWW.CHMZ.NET) 05 февраля 2015 года"]
[]
["Руководитель организации","Ф.И.О.:\n(с расшифровкой)","Вергазов Константин Юрьевич"]
[null,"Должность:","Генеральный директор"]
["Номер контактного телефона/факса (приемная):",null,"8 (34141) 9-64-15"]
["Email организации (для официальной рассылки):",null,"chmz@rosatom.ru"]
["Должностное лицо, ответственное за составление формы","Ф.И.О.:\n(с расшифровкой)","Костюкова Ольга Владимировна"]
[null,"Должность:","Зам. Директора филиала АО \"ОТЭК\"                      в г. Глазове"]
["Номер контактного телефона:",null,"8(34141) 9-63-16"]
["Факс:",null,"8 (34141) 3-45-07"]
["Email исполнителя:",null,"MIvPodaruev@oao-otek.ru"]
[]
["Руководитель организации\n(или уполномоченное лицо)",null,"К.Ю. Вергазов"]
[null,null,"         (подпись)                             (Ф.И.О.)"]

{"sheet":"Критерии","index":2,"n_rows":10,"n_cols":5,"rows_kept":10,"cut":false,"hidden":false,"merged":[[0,0,0,4]]}
["Анализ соответствия организации критериям отнесения владельцев объектов электросетевого хозяйства к территориальным сетевым организациям в соответствии с постановлением Правительства Российской Федерации от 28 февраля 2015 г. N 184"]
[]
["№ п/п","Наименование показателя","Допустимое значение","Фактическое значение","Соответствие критериям"]
["1","Владение на праве собственности или на ином законном основании на срок не менее очередного расчетного периода регулирования силовыми трансформаторами, используемыми для осуществления регулируемой деятельности в административных границах субъекта Российской Федерации","2020-12-31","2021-01-01",{"$f":"IF((D4-C4)>=0,\" соответствует\",\"не соответствует\")","v":" соответствует"}]
["2","Суммарная установленная мощность силовых трансформаторов, МВА",10,{"$f":"Анкета!B19/1000","v":1000},{"$f":"IF((D5-C5)>=0,\" соответствует\",\"не соответствует\")","v":" соответствует"}]
["3","Владение на праве собственности или на ином законном основании на срок не менее очередного расчетного периода регулирования линиями электропередачи (воздушными и (или) кабельными), используемыми для осуществления регулируемой деятельности в административных границах субъекта Российской Федерации","2020-12-31","2021-01-01",{"$f":"IF((D6-C6)>0,\" соответствует\",\"не соответствует\")","v":" соответствует"}]
["4","Наличие сетей различного уровня напряжения",2,4,{"$f":"IF((D7-C7)>=0,\" соответствует\",\"не соответствует\")","v":" соответствует"}]
["5","Отсутствие за 3 предшествующих расчетных периода регулирования 3 фактов применения органами регулирования понижающих коэффициентов в связи с недостижением организацией плановых показателей надежности и качества",2,0,{"$f":"IF((D8-C8)<0,\" соответствует\",\"не соответствует\")","v":" соответствует"}]
["6","Наличие выделенного абонентского номера для обращений потребителей услуг по передаче электрической энергии и (или) технологическому присоединению \n(1-имеется/0 -не имеется)",1,1,{"$f":"IF(D9=1,\" соответствует\",\"не соответствует\")","v":" соответствует"}]
["7","Наличие официального сайта в информационно-телекоммуникационной сети \"Интернет\"\n(1-имеется/0 -не имеется)",1,1,{"$f":"IF(D10=1,\" соответствует\",\"не соответствует\")","v":" соответствует"}]

{"sheet":"Долгосрочные параметры","index":3,"n_rows":106,"n_cols":8,"rows_kept":106,"cut":false,"hidden":false,"merged":[[8,0,8,1],[1,0,1,3],[2,0,2,3],[0,1,0,7],[4,0,4,7],[5,0,5,1],[6,0,6,1],[7,0,7,1],[104,0,104,1],[9,0,9,1],[10,0,10,1],[11,0,11,1],[34,4,34,7],[70,0,70,7],[98,0,98,7],[103,0,103,1],[99,0,99,1],[100,0,100,1],[101,0,101,1],[102,0,102,1]]}
[]
["                                    ПРЕДЛОЖЕНИЕ ПО ТАРИФАМ НА  2016 г. "]
[{"$f":"Анкета!B3","v":"АО \"Чепецкий механический завод\""}]
[]
["ДОЛГОСРОЧНЫЕ ПАРАМЕТРЫ РЕГУЛИРОВАНИЯ "]
["Наименование параметра",null,"2015 утверждено",2016,2017,2018,2019,2020]
["Базовый уровень подконтрольных расходов, тыс.руб.","%",{"$f":"C32","v":23004.121440000003},{"$f":"D32","v":34991.752999999997}]
["Индекс эффективности подконтрольных расходов, %","%"]
["Коэффициент эластичности подконтрольных расходов по количеству  активов","%",0.75,0.75,0.75,0.75,0.75,0.75]
["Уровень надежности  реализуемых товаров (услуг)"]
["Уровень  качества реализуемых товаров (услуг)"]
["Уровень потерь электрической энергии при ее передаче по электрическим сетям, %",null,{"$f":"'4'!H19","v":3.6235303992883527},{"$f":"'4'!AB19","v":3.8124176539355159},{"$f":"'4'!AB19","v":3.8124176539355159},{"$f":"'4'!AG19","v":0},{"$f":"'4'!AL19","v":0},{"$f":"'4'!AQ19","v":0}]
[]
["1. Расчет подконтрольных расходов"]
["№ п.п.","Показатели","2015 утверждено","2016 год план",2017,2018,2019,2020]
[null,"Индекс потребительских цен (прогноз СЭР)",6.7000000000000004E-2,0.15,4.2999999999999997E-2,4.2999999999999997E-2,4.2999999999999997E-2,4.2999999999999997E-2]
[null,"Размер активов (количество у.е.)",null,{"$f":"'2.3'!F28","v":4432.3559999999998},{"$f":"'2.3'!F29","v":4434.3559999999998},{"$f":"'2.3'!F30","v":0},{"$f":"'2.3'!F31","v":0},{"$f":"'2.3'!F32","v":0}]
[null,"Коэффициент индексации подконтрольных расходов",1,{"$f":"IF(C32=0,1,D32/C32)","v":1.521107993246622},{"$f":"IF(D17=0,0,(1+E16)*(1-E8)*(1+E9*(E17-D17)/D17))","v":1.0433529725500388},{"$f":"IF(E17=0,0,(1+F16)*(1-F8)*(1+F9*(F17-E17)/E17))","v":0.26074999999999998},{"$f":"IF(F17=0,0,(1+G16)*(1-G8)*(1+G9*(G17-F17)/F17))","v":0},{"$f":"IF(G17=0,0,(1+H16)*(1-H8)*(1+H9*(H17-G17)/G17))","v":0}]
["1.1.","Сырье, основные материалы",{"$f":"'15'!G7","v":0},{"$f":"'15'!J7","v":0},{"$f":"'15'!K7","v":0},{"$f":"'15'!L7","v":0},{"$f":"'15'!M7","v":0},{"$f":"'15'!N7","v":0}]
["1.2.","Вспомогательные материалы",{"$f":"'15'!G8","v":1031.2950000000001},{"$f":"'15'!J8","v":450},{"$f":"'15'!K8","v":0},{"$f":"'15'!L8","v":0},{"$f":"'15'!M8","v":0},{"$f":"'15'!N8","v":0}]
[null,"из них на ремонт",{"$f":"'15'!G9","v":0},{"$f":"'15'!J9","v":0},{"$f":"'15'!K9","v":0},{"$f":"'15'!L9","v":0},{"$f":"'15'!M9","v":0},{"$f":"'15'!N9","v":0}]
["1.3.","Работы и услуги производ. характера",{"$f":"'15'!G10","v":19632.186440000001},{"$f":"'15'!J10","v":32251.75},{"$f":"'15'!K10","v":0},{"$f":"'15'!L10","v":0},{"$f":"'15'!M10","v":0},{"$f":"'15'!N10","v":0}]
[null,"из них на ремонт",{"$f":"'15'!G11","v":4552.1864400000004},{"$f":"'15'!J11","v":8051},{"$f":"'15'!K11","v":0},{"$f":"'15'!L11","v":0},{"$f":"'15'!M11","v":0},{"$f":"'15'!N11","v":0}]
["1.4.","Затраты на оплату труда",{"$f":"'15'!G16","v":0},{"$f":"'15'!J16","v":0},{"$f":"'15'!K16","v":0},{"$f":"'15'!L16","v":0},{"$f":"'15'!M16","v":0},{"$f":"'15'!N16","v":0}]
[null,"в том числе оплата труда производственного персонала",{"$f":"'18'!E6","v":0},{"$f":"'18'!H6","v":0},{"$f":"'18'!I6","v":0},{"$f":"'18'!J6","v":0},{"$f":"'18'!K6","v":0},{"$f":"'18'!L6","v":0}]
[null,"из них на ремонт",{"$f":"'15'!G17","v":0},{"$f":"'15'!J17","v":0},{"$f":"'15'!K17","v":0},{"$f":"'15'!L17","v":0},{"$f":"'15'!M17","v":0},{"$f":"'15'!N17","v":0}]
["1.5.","Прочие затраты ",2340.64,{"$f":"'18'!H52+'21'!H48-'Долгосрочные параметры'!D68-'Долгосрочные параметры'!D75-'Долгосрочные параметры'!D24-'Долгосрочные параметры'!D22-'Долгосрочные параметры'!D20-'Долгосрочные параметры'!D19-'Долгосрочные параметры'!D31-'Долгосрочные параметры'!D30-'Долгосрочные параметры'!D29-'Долгосрочные параметры'!D28","v":2290.002999999997},{"$f":"'18'!I52+'21'!I48-'Долгосрочные параметры'!E68-'Долгосрочные параметры'!E75-'Долгосрочные параметры'!E24-'Долгосрочные параметры'!E22-'Долгосрочные параметры'!E20-'Долгосрочные параметры'!E19-'Долгосрочные параметры'!E31-'Долгосрочные параметры'!E30-'Долгосрочные параметры'!E29-'Долгосрочные параметры'!E28","v":0},{"$f":"'18'!J52+'21'!J48-'Долгосрочные параметры'!F68-'Долгосрочные параметры'!F75-'Долгосрочные параметры'!F24-'Долгосрочные параметры'!F22-'Долгосрочные параметры'!F20-'Долгосрочные параметры'!F19-'Долгосрочные параметры'!F31-'Долгосрочные параметры'!F30-'Долгосрочные параметры'!F29-'Долгосрочные параметры'!F28","v":0},{"$f":"'18'!K52+'21'!K48-'Долгосрочные параметры'!G68-'Долгосрочные параметры'!G75-'Долгосрочные параметры'!G24-'Долгосрочные параметры'!G22-'Долгосрочные параметры'!G20-'Долгосрочные параметры'!G19-'Долгосрочные параметры'!G31-'Долгосрочные параметры'!G30-'Долгосрочные параметры'!G29-'Долгосрочные параметры'!G28","v":0},{"$f":"'18'!L52+'21'!L48-'Долгосрочные параметры'!H68-'Долгосрочные параметры'!H75-'Долгосрочные параметры'!H24-'Долгосрочные параметры'!H22-'Долгосрочные параметры'!H20-'Долгосрочные параметры'!H19-'Долгосрочные параметры'!H31-'Долгосрочные параметры'!H30-'Долгосрочные параметры'!H29-'Долгосрочные параметры'!H28","v":0}]
["1.6.","Прибыль на социальное развитие ",{"$f":"'21'!E13","v":0},{"$f":"'21'!H13","v":0},{"$f":"'21'!I13","v":0},{"$f":"'21'!J13","v":0},{"$f":"'21'!K13","v":0},{"$f":"'21'!L13","v":0}]
["1.7.","Льготы, компенсации и проч.выплаты по Колдоговору",{"$f":"'21'!E16","v":0},{"$f":"'21'!H16","v":0},{"$f":"'21'!I16","v":0},{"$f":"'21'!J16","v":0},{"$f":"'21'!K16","v":0},{"$f":"'21'!L16","v":0}]
["1.8.","Дивиденды по акциям",{"$f":"'21'!E17","v":0},{"$f":"'21'!H17","v":0},{"$f":"'21'!I17","v":0},{"$f":"'21'!J17","v":0},{"$f":"'21'!K17","v":0},{"$f":"'21'!L17","v":0}]
["1.9.","Прибыль на прочие цели",{"$f":"'21'!E18","v":0},{"$f":"'21'!H18","v":0},{"$f":"'21'!I18","v":0},{"$f":"'21'!J18","v":0},{"$f":"'21'!K18","v":0},{"$f":"'21'!L18","v":0}]
["1.10.","ИТОГО подконтрольные расходы",{"$f":"C19+C20+C22+C24+C27+C28+C29+C30+C31","v":23004.121440000003},34991.752999999997,0,0,0,0]
["1.11.","Рост подконтрольных расходов, %",null,{"$f":"IF(C32=0,1,D32/C32)","v":1.521107993246622},{"$f":"IF(D32=0,1,E32/D32)","v":0},{"$f":"IF(E32=0,1,F32/E32)","v":1},{"$f":"IF(F32=0,1,G32/F32)","v":1},{"$f":"IF(G32=0,1,H32/G32)","v":1}]
[]
["2. Расчет неподконтрольных расходов",null,null,null,"Плановые показатели"]
["№ п.п.","Показатели","2015 утверждено","2016 год план",2017,2018,2019,2020]
["2.1.","Финансирование капитальных вложений из прибыли ",{"$f":"'21'!E6","v":0},{"$f":"'21'!H6","v":0},{"$f":"'21'!I6","v":0},{"$f":"'21'!J6","v":0},{"$f":"'21'!K6","v":0},{"$f":"'21'!L6","v":0}]
[null,"ВН",{"$f":"'21'!E9","v":0},{"$f":"'21'!H9","v":0},{"$f":"'21'!I9","v":0},{"$f":"'21'!J9","v":0},{"$f":"'21'!K9","v":0},{"$f":"'21'!L9","v":0}]
[null,"СН1",{"$f":"'21'!E10","v":0},{"$f":"'21'!H10","v":0},{"$f":"'21'!I10","v":0},{"$f":"'21'!J10","v":0},{"$f":"'21'!K10","v":0},{"$f":"'21'!L10","v":0}]
[null,"СН2",{"$f":"'21'!E11","v":0},{"$f":"'21'!H11","v":0},{"$f":"'21'!I11","v":0},{"$f":"'21'!J11","v":0},{"$f":"'21'!K11","v":0},{"$f":"'21'!L11","v":0}]
[null,"НН",{"$f":"'21'!E12","v":0},{"$f":"'21'!H12","v":0},{"$f":"'21'!I12","v":0},{"$f":"'21'!J12","v":0},{"$f":"'21'!K12","v":0},{"$f":"'21'!L12","v":0}]
["2.2.","Амортизация",{"$f":"'15'!G20","v":38855.199999999997},{"$f":"'15'!J20","v":39221.440000000002},{"$f":"'15'!K20","v":0},{"$f":"'15'!L20","v":0},{"$f":"'15'!M20","v":0},{"$f":"'15'!N20","v":0}]
[null,"ВН",{"$f":"'18'!E11","v":1252.2943210000001},{"$f":"'18'!H11","v":1244.51},{"$f":"'18'!I11","v":0},{"$f":"'18'!J11","v":0},{"$f":"'18'!K11","v":0},{"$f":"'18'!L11","v":0}]
[null,"СН1",{"$f":"'18'!E12","v":2668.7570449999998},{"$f":"'18'!H12","v":2652.17},{"$f":"'18'!I12","v":0},{"$f":"'18'!J12","v":0},{"$f":"'18'!K12","v":0},{"$f":"'18'!L12","v":0}]
[null,"СН2",{"$f":"'18'!E13","v":34886.229207999997},{"$f":"'18'!H13","v":35277.142999999996},{"$f":"'18'!I13","v":0},{"$f":"'18'!J13","v":0},{"$f":"'18'!K13","v":0},{"$f":"'18'!L13","v":0}]
[null,"НН",{"$f":"'18'!E14","v":47.919426000000001},{"$f":"'18'!H14","v":47.62},{"$f":"'18'!I14","v":0},{"$f":"'18'!J14","v":0},{"$f":"'18'!K14","v":0},{"$f":"'18'!L14","v":0}]
["2.3.","Коммунальные услуги (ресурсы) по регулируемым ценам, в том числе",{"$f":"SUM(C48:C53)","v":0},0,0,0,0,0]
[null,"электрическая энергия"]
[null,"отопление"]
[null,"газ"]
[null,"ГВС"]
[null,"водоснабжение "]
[null,"водоотведение"]
["2.4.","Страховые взносы социального характера",{"$f":"'15'!G18","v":0},{"$f":"'15'!J18","v":0},{"$f":"'15'!K18","v":0},{"$f":"'15'!L18","v":0},{"$f":"'15'!M18","v":0},{"$f":"'15'!N18","v":0}]
["2.5.","Плата за аренду имущества и лизинг",{"$f":"'15'!G34","v":6148.1686040000004},{"$f":"'15'!J34","v":0},{"$f":"'15'!K34","v":0},{"$f":"'15'!L34","v":0},{"$f":"'15'!M34","v":0},{"$f":"'15'!N34","v":0}]
["2.6.","Налог на имущество",{"$f":"'21'!E36","v":0},{"$f":"'21'!H36","v":0},{"$f":"'21'!I36","v":0},{"$f":"'21'!J36","v":0},{"$f":"'21'!K36","v":0},{"$f":"'21'!L36","v":0}]
[null,"ВН",{"$f":"'21'!E37","v":0},{"$f":"'21'!H37","v":0},{"$f":"'21'!I37","v":0},{"$f":"'21'!J37","v":0},{"$f":"'21'!K37","v":0},{"$f":"'21'!L37","v":0}]
[null,"СН1",{"$f":"'21'!E38","v":0},{"$f":"'21'!H38","v":0},{"$f":"'21'!I38","v":0},{"$f":"'21'!J38","v":0},{"$f":"'21'!K38","v":0},{"$f":"'21'!L38","v":0}]
[null,"СН2",{"$f":"'21'!E39","v":0},{"$f":"'21'!H39","v":0},{"$f":"'21'!I39","v":0},{"$f":"'21'!J39","v":0},{"$f":"'21'!K39","v":0},{"$f":"'21'!L39","v":0}]
[null,"НН",{"$f":"'21'!E40","v":0},{"$f":"'21'!H40","v":0},{"$f":"'21'!I40","v":0},{"$f":"'21'!J40","v":0},{"$f":"'21'!K40","v":0},{"$f":"'21'!L40","v":0}]
["2.7.","Налог на прибыль",{"$f":"'21'!E31","v":0},{"$f":"'21'!H31","v":0},{"$f":"'21'!I31","v":0},{"$f":"'21'!J31","v":0},{"$f":"'21'!K31","v":0},{"$f":"'21'!L31","v":0}]
["2.8.","Прочие налоги и сборы, в том числе",{"$f":"'21'!E29-'21'!E31-'21'!E36+'15'!G29","v":6624.28},{"$f":"'21'!H29-'21'!H31-'21'!H36+'15'!J29","v":7098},{"$f":"'21'!I29-'21'!I31-'21'!I36+'15'!K29","v":0},{"$f":"'21'!J29-'21'!J31-'21'!J36+'15'!L29","v":0},{"$f":"'21'!K29-'21'!K31-'21'!K36+'15'!M29","v":0},{"$f":"'21'!L29-'21'!L31-'21'!L36+'15'!N29","v":0}]
[null,"плата за землю",{"$f":"'15'!G30","v":0},{"$f":"'15'!J30","v":0},{"$f":"'15'!K30","v":0},{"$f":"'15'!L30","v":0},{"$f":"'15'!M30","v":0},{"$f":"'15'!N30","v":0}]
[null,"налог при упрощенной системе налогообложения"]
["2.9.","Расходы на возврат и обслуживание  заемных средств"]
[null,"в том числе на обслуживание заемных средств"]
["2.10.","Компенсация выпадающих доходов по технологическому присоединению (пункт 87 Основ ценообразования)",6773.29]
["2.11.","ИТОГО неподконтрольных расходов",{"$f":"C37+C42+C47+C54+C55+C56+C61+C62+C65+C67","v":58400.938603999995},46319.44,0,0,0,0]
["2.12","Рост неподконтрольных расходов, %",null,{"$f":"IF(C68=0,1,D68/C68)","v":0.79312834874245486},{"$f":"IF(D68=0,1,E68/D68)","v":0},{"$f":"IF(E68=0,1,F68/E68)","v":1},{"$f":"IF(F68=0,1,G68/F68)","v":1},{"$f":"IF(G68=0,1,H68/G68)","v":1}]
[]
["3. Расчет необходимой валовой выручки на содержание сетей"]
["№ п.п.","Показатели","2015 утверждено","2016 год план",2017,2018,2019,2020]
["3.1.","Плановые подконтрольные расходы",{"$f":"C32","v":23004.121440000003},34991.752999999997,0,0,0,0]
["3.2.","Плановые неподконтрольные расходы",{"$f":"C68","v":58400.938603999995},46319.44,0,0,0,0]
["3.3.","Корректировка по факту, \nв том числе",{"$f":"C76+C77","v":0},0,0,0,0,0]
["3.3.1.","результаты деятельности  до перехода к регулированию тарифов  на основе долгосрочных параметров регулирования (пункт 11 Методических указаний )"]
["3.3.2.","корректировка по итогам  истекшего года долгосрочного периода (пункт 9 Методических указаний ), в т.ч."]
["3.3.2.1.","корректировка подконтрольных расходов "]
["3.3.2.2.","корректировка неподконтрольных расходов "]
["3.3.2.3.","корректировка НВВ с учетом изменения полезного отпуска и цен на электрическую энергию (покупка потерь)"]
["3.3.2.4.","изменение (неисполнение) инвестиционной программы "]
["3.4.","Корректировка НВВ с учетом достижения установленного уровня надежности и качества услуг"]
["3.5.","ИТОГО НВВ",{"$f":"C73+C74+C75","v":81405.060043999998},{"$f":"D73+D74+D75","v":81311.192999999999},0,0,0,0]
[null,"% роста",null,{"$f":"IF(C83=0,1,D83/C83)","v":0.99884691389025126},{"$f":"IF(D83=0,1,E83/D83)","v":0},{"$f":"IF(E83=0,1,F83/E83)","v":1},{"$f":"IF(F83=0,1,G83/F83)","v":1},{"$f":"IF(G83=0,1,H83/G83)","v":1}]
["3.6.","Доля капитальных вложений за счет прибыли не более 12 % от НВВ  (п. 11 Методических указаний)",{"$f":"IF(C83=0,0,C37/(C83-C37/0.8-C55))","v":0},0,0,0,0,0]
["3.7.","Распределение НВВ по уровням напряжения",100094.42863156607,{"$f":"D87+D88+D89+D90","v":81311.192999999999},{"$f":"E87+E88+E89+E90","v":0},{"$f":"F87+F88+F89+F90","v":0},{"$f":"G87+G88+G89+G90","v":0},{"$f":"H87+H88+H89+H90","v":0}]
[null,"ВН",14953.189664428079,{"$f":"'18'!H54+'21'!H50","v":2584.5886218435526},{"$f":"'18'!I54+'21'!I50","v":0},{"$f":"'18'!J54+'21'!J50","v":0},{"$f":"'18'!K54+'21'!K50","v":0},{"$f":"'18'!L54+'21'!L50","v":0}]
[null,"СН1",12319.897291520345,{"$f":"'18'!H55+'21'!H51","v":5508.0036503205074},{"$f":"'18'!I55+'21'!I51","v":0},{"$f":"'18'!J55+'21'!J51","v":0},{"$f":"'18'!K55+'21'!K51","v":0},{"$f":"'18'!L55+'21'!L51","v":0}]
[null,"СН2",61027.51448980932,{"$f":"'18'!H56+'21'!H52","v":73119.702209142954},{"$f":"'18'!I56+'21'!I52","v":0},{"$f":"'18'!J56+'21'!J52","v":0},{"$f":"'18'!K56+'21'!K52","v":0},{"$f":"'18'!L56+'21'!L52","v":0}]
[null,"НН",11793.827185808332,{"$f":"'18'!H57+'21'!H53","v":98.898518692993093},{"$f":"'18'!I57+'21'!I53","v":0},{"$f":"'18'!J57+'21'!J53","v":0},{"$f":"'18'!K57+'21'!K53","v":0},{"$f":"'18'!L57+'21'!L53","v":0}]
[]
[null,"в том числе доля, относимая на сторонних потребителей",{"$f":"IF(C86=0,0,C97/C86)","v":0},{"$f":"IF(D86=0,0,D97/D86)","v":2.7124627934370493E-2},0,0,0,0]
[null,"ВН",null,{"$f":"D87*'4'!X27","v":895.41319981290837},{"$f":"E87*'4'!AC27","v":0},{"$f":"F87*'4'!AH27","v":0},{"$f":"G87*'4'!AM27","v":0},{"$f":"H87*'4'!AR27","v":0}]
[null,"СН1",null,{"$f":"D88*'4'!Y27","v":74.761564633716915},{"$f":"E88*'4'!AD27","v":0},{"$f":"F88*'4'!AI27","v":0},{"$f":"G88*'4'!AN27","v":0},{"$f":"H88*'4'!AS27","v":0}]
[null,"СН2",null,{"$f":"D89*'4'!Z27","v":1136.4583210738951},{"$f":"E89*'4'!AE27","v":0},{"$f":"F89*'4'!AJ27","v":0},{"$f":"G89*'4'!AO27","v":0},{"$f":"H89*'4'!AT27","v":0}]
[null,"НН",null,{"$f":"D90*'4'!AA27","v":98.902771504269708},{"$f":"E90*'4'!AF27","v":0},{"$f":"F90*'4'!AK27","v":0},{"$f":"G90*'4'!AP27","v":0},{"$f":"H90*'4'!AU27","v":0}]
[null,"всего",{"$f":"SUM(C93:C96)","v":0},{"$f":"SUM(D93:D96)","v":2205.5358570247904},0,0,0,0]
[null,"% роста",null,{"$f":"IF(C97=0,1,D97/C97)","v":1},{"$f":"IF(D97=0,1,E97/D97)","v":0},{"$f":"IF(E97=0,1,F97/E97)","v":1},{"$f":"IF(F97=0,1,G97/F97)","v":1},{"$f":"IF(G97=0,1,H97/G97)","v":1}]
["ПРЕДЛОЖЕНИЕ ПО ТАРИФАМ"]
["Наименование",null,"2015 утверждено",2016,2017,2018,2019,2020]
["Одноставочный тариф на услуги по передаче электрической энергии, руб./кВт.ч","%",0.32569999999999999,{"$f":"D103/1000+IF('4'!AB23=0,0,D102*12*'5'!AB23/'4'!AB23)/1000","v":0.40408452506127224},{"$f":"E103/1000+IF('4'!AG23=0,0,E102*12*'5'!AG23/'4'!AG23)/1000","v":0},{"$f":"F103/1000+IF('4'!AL23=0,0,F102*12*'5'!AL23/'4'!AL23)/1000","v":0},{"$f":"G103/1000+IF('4'!AQ23=0,0,G102*12*'5'!AQ23/'4'!AQ23)/1000","v":0},{"$f":"H103/1000+IF('4'!AV23=0,0,H102*12*'5'!AV23/'4'!AV23)/1000","v":0}]
["Двухставочный тариф на услуги по передаче электрической энергии:\n- ставка за содержание электрических сетей, руб./МВт","%",126299,{"$f":"IF('5'!AB23=0,0,D97/12/'5'!AB23)*1000","v":207278.41380163006},{"$f":"IF('5'!AG23=0,0,E97/12/'5'!AG23)*1000","v":0},{"$f":"IF('5'!AL23=0,0,F97/12/'5'!AL23)*1000","v":0},{"$f":"IF('5'!AQ23=0,0,G97/12/'5'!AQ23)*1000","v":0},{"$f":"IF('5'!AV23=0,0,H97/12/'5'!AV23)*1000","v":0}]
["- ставка по оплате технологического расхода электрической энегии на ее передачу, руб./МВт.ч.",null,9.2899999999999996E-2,{"$f":"IF('4'!AB23=0,0,('25'!I28*'4'!AC27+'25'!I31*'4'!AD27+'25'!I32*'4'!AE27+'25'!I33*'4'!AF27)/'4'!AB23)*1000","v":3.2237731483696144},{"$f":"IF('4'!AG23=0,0,('25'!K28*'4'!AH27+'25'!K31*'4'!AI27+'25'!K32*'4'!AJ27+'25'!K33*'4'!AK27)/'4'!AG23)*1000","v":0},{"$f":"IF('4'!AL23=0,0,('25'!L28*'4'!AM27+'25'!L31*'4'!AN27+'25'!L32*'4'!AO27+'25'!L33*'4'!AP27)/'4'!AL23)*1000","v":0},{"$f":"IF('4'!AQ23=0,0,('25'!M28*'4'!AR27+'25'!M31*'4'!AS27+'25'!M32*'4'!AT27+'25'!M33*'4'!AU27)/'4'!AQ23)*1000","v":0},{"$f":"IF('4'!AV23=0,0,('25'!S28*'4'!AW27+'25'!S31*'4'!AX27+'25'!S32*'4'!AY27+'25'!S33*'4'!AZ27)/'4'!AV23)*1000","v":0}]
["Рост одноставочного тарифа, %",null,null,{"$f":"IF(C101=0,0,D101/C101)","v":1.2406647990828132},{"$f":"IF(D101=0,0,E101/D101)","v":0},{"$f":"IF(E101=0,0,F101/E101)","v":0},{"$f":"IF(F101=0,0,G101/F101)","v":0},{"$f":"IF(G101=0,0,H101/G101)","v":0}]
["Руководитель организации\n(или уполномоченное лицо)",null,null,"К. Ю. Вергазов"]
[null,null,"         (подпись)                             (Ф.И.О.)"]

{"sheet":"3","index":4,"n_rows":25,"n_cols":11,"rows_kept":25,"cut":false,"hidden":true,"merged":[[1,0,1,10],[22,1,22,2],[24,1,24,2],[3,7,3,10],[3,0,4,0],[3,3,3,6],[3,2,4,2],[3,1,4,1]]}
[null,null,null,null,null,null,"Таблица № П1.3"]
["Расчёт технологического расхода электрической энергии (потерь) в электрических сетях (в соответствии с экспертным заключением)"]
[]
["№","Показатели","ед. измерения","2016 предложение организации ",null,null,null,"2016 принято уполномоченным органом "]
[null,null,null,"ВН","СН1","СН2","НН","ВН","СН1","СН2","НН"]
["1",2,"3","20","21","22","23","20","21","22","23"]
["1.","Условно-постоянные потери","тыс. кВтч",{"$f":"SUM(D8:D17)","v":0},0,0,0,0,0,0,0]
["1.1","Потери электроэнергии холостого хода в силовом\nтрансформаторе   (автотрансформаторе) ","тыс. кВтч"]
["1.2","Потери электроэнергии в шунтирующих реакторах (ШР)и соединительных проводах и сборных шинах распределительных устройств подстанций (СППС)","тыс. кВтч"]
["1.3","Потери электроэнергии в синхронных компенсаторах","тыс. кВтч"]
["1.4","Потери электроэнергии в статических компенсирующих устройствах - батареях статических конденсаторов (БК) и статических тиристорных компенсаторах (СТК)","тыс. кВтч"]
["1.5","Потери электроэнергии в вентильных разрядниках (РВ), ограничителях перенапряжений (ОПН), измерительных трансформаторах тока (ТТ)и напряжения (ТН) и устройствах присоединения ВЧ связи (УПВЧ)","тыс. кВтч"]
["1.6","Потери электроэнергии на корону","тыс. кВтч"]
["1.7","Потери электроэнергии от токов утечки по изоляторам воздушных линий","тыс. кВтч"]
["1.8","Расход электроэнергии на плавку гололеда","тыс. кВтч"]
["1.9","Потери электроэнергии в изоляции силовых кабелей","тыс. кВтч"]
["1.10","Расход электроэнергии на собственные нужды (СН) подстанций","тыс. кВтч"]
["2.","Условно переменные потери","тыс. кВтч",{"$f":"D19","v":0},0,0,0,0,0,0,0]
["2.1","Нагрузочные потери электроэнергии","тыс. кВтч"]
["3.","Потери электроэнергии   обусловленные допустимой    погрешностью    системы учета    электроэнергии","тыс. кВтч"]
["4.","Итого:","тыс. кВтч",{"$f":"D7+D18+D20","v":0},0,0,0,0,0,0,0]
[]
[null,"Руководитель организации",null,null,null,null,null,null,"         (подпись)                             (Ф.И.О.)"]
[]
[null,"Должностное лицо, ответственное за составление формы",null,null,null,null,null,null,"         (подпись)                             (Ф.И.О.)"]

{"sheet":"анализ потерь (РЭК)","index":5,"n_rows":26,"n_cols":10,"rows_kept":26,"cut":false,"hidden":true,"merged":[[1,0,1,8],[24,1,24,10],[20,9,22,9],[2,0,2,6],[3,0,5,0],[3,1,5,1],[3,2,5,2],[3,3,5,3],[3,4,5,4],[3,5,5,5],[3,6,5,6],[3,8,5,8],[3,7,5,7]]}
[null,null,null,null,null,null,null,null,"Приложение к заключению"]
["Анализ объема услуг по передаче электрической энергии и технологического расхода (потерь) электрической энергии в сетях"]
[{"$f":"Анкета!B3","v":"АО \"Чепецкий механический завод\""}]
["№ п.п.","Показатели","Единица измерения","2011 год факт","2012 год факт","2013 год факт","2014 год ожидаемое","2015 год план организации","2015 год признано обоснованным РЭК"]
[null,null,null,{"$f":"D4","v":"2011 год факт"},"2012 год факт","2013 год факт","2014 год ожидаемое","2015 год план организации","2015 год признано обоснованным РЭК"]
[null,null,null,"Всего","Всего","Всего","Всего","Всего","Всего"]
[1,2,3,4,5,6,7,8,9]
["1.","Поступление эл.энергии в сеть , ВСЕГО ","тыс. кВтч",{"$f":"'динамика потерь'!D8","v":0},{"$f":"'динамика потерь'!#REF!","v":{"$error":"#REF!"}},{"$f":"'динамика потерь'!E8","v":321252.47100000002},{"$f":"'динамика потерь'!F8","v":328595.18},{"$f":"'динамика потерь'!G8","v":324540}]
["1.1.","для собственного потребления","тыс. кВтч",{"$f":"D8-D10","v":0},{"$error":"#REF!"},314187.81860768929,322702.88719863509,318689.86813331232,0]
["1.2.","для сторонних потребителей","тыс. кВтч",{"$f":"D19+D13","v":0},{"$error":"#REF!"},7064.6523923107379,5892.2928013649016,5850.1318666876969,0]
["2.","Потери электроэнергии в сети ВСЕГО","тыс. кВтч",{"$f":"'динамика потерь'!D11","v":0},{"$f":"'динамика потерь'!#REF!","v":{"$error":"#REF!"}},{"$f":"'динамика потерь'!E11","v":15213.955},{"$f":"'динамика потерь'!F11","v":11942.487999999999},{"$f":"'динамика потерь'!G11","v":13649.655000000001}]
["2.1.","потери, относимые на собственное потреление","тыс. кВтч",{"$f":"D11-D13","v":0},{"$error":"#REF!"},14894.513607689261,11735.848198635098,13413.538133312304,0]
["2.2.","потери, относимые на сторонних потребителей","тыс. кВтч",{"$f":"'динамика потерь'!D13","v":0},{"$f":"'динамика потерь'!#REF!","v":{"$error":"#REF!"}},{"$f":"'динамика потерь'!E13","v":319.44139231073802},{"$f":"'динамика потерь'!F13","v":206.63980136490136},{"$f":"'динамика потерь'!G13","v":236.11686668769647}]
["3.","Относительные потери  (п.2./п.1.)","%",{"$f":"IF(D8=0,0,D11/D8)","v":0},{"$error":"#REF!"},4.7358250514437282E-2,3.6344075406096944E-2,4.2058467369199486E-2,0]
["3.1."," на собственное потреление","%",{"$f":"IF(D9=0,0,D12/D9)","v":0},{"$error":"#REF!"},4.7406400648165488E-2,3.6367347997761382E-2,{"$f":"IF(H9=0,0,H12/H9)","v":4.2089628427412817E-2},0]
["3.2."," на сторонних потребителей","%",0,{"$error":"#REF!"},4.5216859170370834E-2,3.5069506613288962E-2,{"$f":"IF(H10=0,0,H13/H10)","v":4.036094776464999E-2},0]
["4.","Полезный отпуск из сети ","тыс. кВтч",{"$f":"D8-D11","v":0},{"$error":"#REF!"},306038.516,316652.69199999998,{"$f":"H8-H11","v":310890.34499999997},0]
["4.1.","собственное потребление","тыс. кВтч",{"$f":"D9-D12","v":0},{"$error":"#REF!"},299293.30500000005,310967.03899999999,{"$f":"H9-H12","v":305276.33},0]
["4.2.","сторонним потребителям (сетевым организациям)","тыс. кВтч",{"$f":"'динамика потерь'!D19","v":0},{"$f":"'динамика потерь'!#REF!","v":{"$error":"#REF!"}},{"$f":"'динамика потерь'!E19","v":6745.2110000000002},{"$f":"'динамика потерь'!F19","v":5685.6530000000002},{"$f":"'динамика потерь'!G19","v":5614.0150000000003},{"$f":"'динамика потерь'!I19","v":0}]
["5.","Потери на сторонних потребителей в соответствии с балансом ФСТ (при отсутствии информации не заполняется)","тыс. кВтч",{"$f":"'динамика потерь'!D20","v":0},{"$f":"'динамика потерь'!#REF!","v":{"$error":"#REF!"}},{"$f":"'динамика потерь'!E20","v":0},{"$f":"'динамика потерь'!F20","v":0},{"$f":"'динамика потерь'!G20","v":0},{"$f":"'динамика потерь'!I20","v":0}]
["6.","Норматив потерь в соответствии с приказом Минэнерго","%",{"$f":"'динамика потерь'!D27","v":0},{"$f":"'динамика потерь'!#REF!","v":{"$error":"#REF!"}},{"$f":"'динамика потерь'!E27","v":3.73E-2},{"$f":"'динамика потерь'!F27","v":3.6200000000000003E-2},{"$f":"'динамика потерь'!H27","v":0},{"$f":"'динамика потерь'!I27","v":0},"(п.38 Основ) Уровень потерь электрической энергии при ее передаче по электрическим сетям территориальной сетевой организации определяется органами исполнительной власти субъектов РФ в области государственного регулирования тарифов перед началом долгосрочного периода регулирования и устанавливается на долгосрочный период регулирования как минимальное значение из норматива потерь электрической энергии при ее передаче по электрическим сетям, утвержденного Министерством энергетики Российской Федерации, и уровня фактических потерь электрической энергии при ее передаче по электрическим сетям соответствующей территориальной сетевой организации за последний истекший год."]
["7.","Плановое снижение  потерь в сетях  в соответствии с программой энергосбережения","%",{"$f":"'динамика потерь'!D32","v":0},{"$f":"'динамика потерь'!#REF!","v":{"$error":"#REF!"}},{"$f":"'динамика потерь'!E32","v":0},{"$f":"'динамика потерь'!F32","v":0},{"$f":"'динамика потерь'!H32","v":0},{"$f":"'динамика потерь'!I32","v":0}]
["8.","Уровень потерь электрической энергии при ее передаче по электрическим сетям, определенный РЭК Удмуртской Республики.","%",{"$f":"'динамика потерь'!D22","v":0},{"$f":"'динамика потерь'!#REF!","v":{"$error":"#REF!"}},{"$f":"'динамика потерь'!E22","v":0},{"$f":"'динамика потерь'!F22","v":0},{"$f":"'динамика потерь'!H22","v":0},{"$f":"'динамика потерь'!I22","v":0}]
["9.","Величина потерь, относимая  на сторонних потребителей, в соответствии с установленным уровнем потерь","тыс. кВтч",{"$f":"'динамика потерь'!D21","v":0},{"$f":"'динамика потерь'!#REF!","v":{"$error":"#REF!"}},{"$f":"'динамика потерь'!E21","v":0},{"$f":"'динамика потерь'!F21","v":0},{"$f":"'динамика потерь'!H21","v":0},{"$f":"'динамика потерь'!I21","v":0}]
[null,"Специалист-эксперт\nотдела регулирования тарифов в ТЭК"]
[null,"РЭК Удмуртской Республики:                                                                                                       _______________________"]

{"sheet":"4","index":6,"n_rows":35,"n_cols":78,"rows_kept":35,"cut":false,"hidden":false,"merged":[[3,62,3,66],[3,67,3,71],[3,72,3,76],[3,37,3,41],[3,42,3,46],[3,47,3,51],[3,52,3,56],[3,57,3,61],[3,17,3,21],[3,22,3,26],[3,32,3,36],[3,27,3,31],[3,12,3,16],[1,0,1,11],[3,0,5,0],[3,1,5,1],[3,7,3,11],[3,2,3,6]]}
[null,{"$f":"Анкета!B3","v":"АО \"Чепецкий механический завод\""}]
["Баланс электрической энергии по сетям ВН, СН1, СН2, и НН"]
[null,null,null,null,null,null,null,null,null,null,null,null,null,null,null,null,null,null,null,null,null,null,null,null,null,null,null,null,null,null,null,null,null,null,null,null,null,null,null,null,null,null,null,null,null,null,null,null,null,null,null,null,null,null,null,null,null,null,null,null,null,"тыс. кВтч"]
["№ п.п.","Показатели","2013 год факт",null,null,null,null,"2014 год  утверждено",null,null,null,null,"2014 год факт",null,null,null,null,"2015 год  утверждено",null,null,null,null,"2015 год ожидаемое",null,null,null,null,"2016 год предложение организации",null,null,null,null,"2017 год предложение организации",null,null,null,null,"2018 год предложение организации",null,null,null,null,"2019 год предложение организации",null,null,null,null,"2020 год предложение организации",null,null,null,null,"2016 год принято уполномоченным органом до корректировки",null,null,null,null,"2017 год принято уполномоченным органом",null,null,null,null,"2018 год принято уполномоченным органом",null,null,null,null,"2019 год принято уполномоченным органом",null,null,null,null,"2020 год принято уполномоченным органом"]
[null,null,{"$f":"C4","v":"2013 год факт"},{"$f":"C4","v":"2013 год факт"},{"$f":"C4","v":"2013 год факт"},{"$f":"C4","v":"2013 год факт"},{"$f":"C4","v":"2013 год факт"},{"$f":"H4","v":"2014 год  утверждено"},{"$f":"H4","v":"2014 год  утверждено"},{"$f":"H4","v":"2014 год  утверждено"},{"$f":"H4","v":"2014 год  утверждено"},{"$f":"H4","v":"2014 год  утверждено"},{"$f":"M4","v":"2014 год факт"},{"$f":"M4","v":"2014 год факт"},{"$f":"M4","v":"2014 год факт"},{"$f":"M4","v":"2014 год факт"},{"$f":"M4","v":"2014 год факт"},{"$f":"R4","v":"2015 год  утверждено"},{"$f":"R4","v":"2015 год  утверждено"},{"$f":"R4","v":"2015 год  утверждено"},{"$f":"R4","v":"2015 год  утверждено"},{"$f":"R4","v":"2015 год  утверждено"},{"$f":"W4","v":"2015 год ожидаемое"},{"$f":"W4","v":"2015 год ожидаемое"},{"$f":"W4","v":"2015 год ожидаемое"},{"$f":"W4","v":"2015 год ожидаемое"},{"$f":"W4","v":"2015 год ожидаемое"},{"$f":"AB4","v":"2016 год предложение организации"},{"$f":"AB4","v":"2016 год предложение организации"},{"$f":"AB4","v":"2016 год предложение организации"},{"$f":"AB4","v":"2016 год предложение организации"},{"$f":"AB4","v":"2016 год предложение организации"},{"$f":"AG4","v":"2017 год предложение организации"},{"$f":"AG4","v":"2017 год предложение организации"},{"$f":"AG4","v":"2017 год предложение организации"},{"$f":"AG4","v":"2017 год предложение организации"},{"$f":"AG4","v":"2017 год предложение организации"},{"$f":"AL4","v":"2018 год предложение организации"},{"$f":"AL4","v":"2018 год предложение организации"},{"$f":"AL4","v":"2018 год предложение организации"},{"$f":"AL4","v":"2018 год предложение организации"},{"$f":"AL4","v":"2018 год предложение организации"},{"$f":"AQ4","v":"2019 год предложение организации"},{"$f":"AQ4","v":"2019 год предложение организации"},{"$f":"AQ4","v":"2019 год предложение организации"},{"$f":"AQ4","v":"2019 год предложение организации"},{"$f":"AQ4","v":"2019 год предложение организации"},{"$f":"AV4","v":"2020 год предложение организации"},{"$f":"AV4","v":"2020 год предложение организации"},{"$f":"AV4","v":"2020 год предложение организации"},{"$f":"AV4","v":"2020 год предложение организации"},{"$f":"AV4","v":"2020 год предложение организации"},{"$f":"BA4","v":"2016 год принято уполномоченным органом до корректировки"},{"$f":"BA4","v":"2016 год принято уполномоченным органом до корректировки"},{"$f":"BA4","v":"2016 год принято уполномоченным органом до корректировки"},{"$f":"BA4","v":"2016 год принято уполномоченным органом до корректировки"},{"$f":"BA4","v":"2016 год принято уполномоченным органом до корректировки"},{"$f":"BF4","v":"2017 год принято уполномоченным органом"},{"$f":"BF4","v":"2017 год принято уполномоченным органом"},{"$f":"BF4","v":"2017 год принято уполномоченным органом"},{"$f":"BF4","v":"2017 год принято уполномоченным органом"},{"$f":"BF4","v":"2017 год принято уполномоченным органом"},{"$f":"BK4","v":"2018 год принято уполномоченным органом"},{"$f":"BK4","v":"2018 год принято уполномоченным органом"},{"$f":"BK4","v":"2018 год принято уполномоченным органом"},{"$f":"BK4","v":"2018 год принято уполномоченным органом"},{"$f":"BK4","v":"2018 год принято уполномоченным органом"},{"$f":"BP4","v":"2019 год принято уполномоченным органом"},{"$f":"BP4","v":"2019 год принято уполномоченным органом"},{"$f":"BP4","v":"2019 год принято уполномоченным органом"},{"$f":"BP4","v":"2019 год принято уполномоченным органом"},{"$f":"BP4","v":"2019 год принято уполномоченным органом"},{"$f":"BU4","v":"2020 год принято уполномоченным органом"},{"$f":"BU4","v":"2020 год принято уполномоченным органом"},{"$f":"BU4","v":"2020 год принято уполномоченным органом"},{"$f":"BU4","v":"2020 год принято уполномоченным органом"},{"$f":"BU4","v":"2020 год принято уполномоченным органом"}]
[null,null,"Всего","ВН","СН1","СН2","НН","Всего","ВН","СН1","СН2","НН","Всего","ВН","СН1","СН2","НН","Всего","ВН","СН1","СН2","НН","Всего","ВН","СН1","СН2","НН","Всего","ВН","СН1","СН2","НН","Всего","ВН","СН1","СН2","НН","Всего","ВН","СН1","СН2","НН","Всего","ВН","СН1","СН2","НН","Всего","ВН","СН1","СН2","НН","Всего","ВН","СН1","СН2","НН","Всего","ВН","СН1","СН2","НН","Всего","ВН","СН1","СН2","НН","Всего","ВН","СН1","СН2","НН","Всего","ВН","СН1","СН2","НН"]
[1,2,3,{"$f":"C7+1","v":4},{"$f":"D7+1","v":5},6,7,8,9,10,11,12,13,14,15,16,17,{"$f":"Q7+1","v":18},{"$f":"R7+1","v":19},{"$f":"S7+1","v":20},{"$f":"T7+1","v":21},{"$f":"U7+1","v":22},{"$f":"Q7+1","v":18},19,20,21,22,23,24,25,26,27,28,29,30,31,32,33,34,35,36,37,38,39,40,41,42,43,44,45,46,47,{"$f":"AU7+1","v":43},{"$f":"BA7+1","v":44},{"$f":"BB7+1","v":45},{"$f":"BC7+1","v":46},{"$f":"BD7+1","v":47},{"$f":"#REF!+1","v":{"$error":"#REF!"}},{"$f":"BF7+1","v":{"$error":"#REF!"}},{"$error":"#REF!"},{"$error":"#REF!"},{"$error":"#REF!"},{"$error":"#REF!"},{"$error":"#REF!"},{"$error":"#REF!"},{"$error":"#REF!"},{"$error":"#REF!"},{"$error":"#REF!"},{"$error":"#REF!"},{"$error":"#REF!"},{"$error":"#REF!"},{"$error":"#REF!"},{"$error":"#REF!"},{"$error":"#REF!"},{"$error":"#REF!"},{"$error":"#REF!"},{"$error":"#REF!"}]
["1.","Поступление эл.энергии в сеть , ВСЕГО ",{"$f":"C9+C15+C16+C17","v":321252.47100000002},21510.379000000001,40219.788,317606.6409,828.45699999999999,329581.56400000001,36132.805,39987.983000000022,327613.59678650001,1151.0824772100077,328595.18,29854.374,86531.636999999988,324930.19069999998,752.30200000000002,{"$f":"R9+R15+R16+R17","v":343243.35500000004},{"$f":"S9+S15+S16+S17","v":4867.152},{"$f":"T9+T15+T16+T17","v":46995.080953599994},{"$f":"U9+U15+U16+U17","v":341629.3633468941},{"$f":"V9+V15+V16+V17","v":1001.0029116790574},324540,29854.374,70650.456999999995,320756.98500000004,868.5,336996.04300000001,8717.6299999999992,50241.07,334398.46576569998,{"$f":"AF9+AF15+AF16+AF17","v":757},0,0,0,0,0,0,0,0,0,0,0,0,0,0,0,{"$f":"AV9+AV15+AV16+AV17","v":0},0,0,0,0,343243.35500000004,4867.152,6142.0889999999999,340254.70900000003,2339.3415629628762,{"$error":"#REF!"},{"$error":"#REF!"},{"$error":"#REF!"},{"$error":"#REF!"},{"$error":"#REF!"},{"$f":"BK9+BK15+BK16+BK17","v":{"$error":"#REF!"}},{"$error":"#REF!"},{"$error":"#REF!"},{"$error":"#REF!"},{"$error":"#REF!"},{"$error":"#REF!"},{"$error":"#REF!"},{"$error":"#REF!"},{"$error":"#REF!"},{"$error":"#REF!"},{"$error":"#REF!"},{"$error":"#REF!"},{"$error":"#REF!"},{"$error":"#REF!"},{"$error":"#REF!"}]
["1.1.","из собственной сети, всего",{"$f":"D11+E11+F11+G11","v":0},{"$f":"D11+D12+D13+D14","v":0},{"$f":"E11+E12+E13+E14","v":0},{"$f":"F11+F12+F13+F14","v":58084.336899999995},{"$f":"G11+G12+G13+G14","v":828.45699999999999},{"$f":"I11+J11+K11+L11","v":0},{"$f":"I11+I12+I13+I14","v":0},{"$f":"J11+J12+J13+J14","v":0},{"$f":"K11+K12+K13+K14","v":74152.820786500029},{"$f":"L11+L12+L13+L14","v":1151.0824772100077},{"$f":"N11+O11+P11+Q11","v":0},{"$f":"N11+N12+N13+N14","v":0},{"$f":"O11+O12+O13+O14","v":0},{"$f":"P11+P12+P13+P14","v":112721.02169999998},{"$f":"Q11+Q12+Q13+Q14","v":752.30200000000002},{"$f":"S11+T11+U11+V11","v":0},{"$f":"S11+S12+S13+S14","v":0},{"$f":"T11+T12+T13+T14","v":4766.4019535999996},{"$f":"U11+U12+U13+U14","v":45481.839346894078},{"$f":"V11+V12+V13+V14","v":1001.0029116790574},{"$f":"X11+Y11+Z11+AA11","v":0},{"$f":"X11+X12+X13+X14","v":0},{"$f":"Y11+Y12+Y13+Y14","v":0},{"$f":"Z11+Z12+Z13+Z14","v":96721.815999999992},{"$f":"AA11+AA12+AA13+AA14","v":868.5},{"$f":"AC11+AD11+AE11+AF11","v":0},{"$f":"AC11+AC12+AC13+AC14","v":0},{"$f":"AD11+AD12+AD13+AD14","v":0},{"$f":"AE11+AE12+AE13+AE14","v":56361.122765699998},{"$f":"AF11+AF12+AF13+AF14","v":757},{"$f":"AH11+AI11+AJ11+AK11","v":0},{"$f":"AH11+AH12+AH13+AH14","v":0},{"$f":"AI11+AI12+AI13+AI14","v":0},{"$f":"AJ11+AJ12+AJ13+AJ14","v":0},{"$f":"AK11+AK12+AK13+AK14","v":0},{"$f":"AM11+AN11+AO11+AP11","v":0},{"$f":"AM11+AM12+AM13+AM14","v":0},{"$f":"AN11+AN12+AN13+AN14","v":0},{"$f":"AO11+AO12+AO13+AO14","v":0},{"$f":"AP11+AP12+AP13+AP14","v":0},{"$f":"AR11+AS11+AT11+AU11","v":0},{"$f":"AR11+AR12+AR13+AR14","v":0},{"$f":"AS11+AS12+AS13+AS14","v":0},{"$f":"AT11+AT12+AT13+AT14","v":0},{"$f":"AU11+AU12+AU13+AU14","v":0},{"$f":"AW11+AX11+AY11+AZ11","v":0},{"$f":"AW11+AW12+AW13+AW14","v":0},{"$f":"AX11+AX12+AX13+AX14","v":0},{"$f":"AY11+AY12+AY13+AY14","v":0},{"$f":"AZ11+AZ12+AZ13+AZ14","v":0},{"$f":"BB11+BC11+BD11+BE11","v":0},{"$f":"BB11+BB12+BB13+BB14","v":0},{"$f":"BC11+BC12+BC13+BC14","v":3343.4719999999998},{"$f":"BD11+BD12+BD13+BD14","v":4677.1229999999996},{"$f":"BE11+BE12+BE13+BE14","v":2339.3415629628762},{"$f":"BG11+BH11+BI11+BJ11","v":0},{"$f":"BG11+BG12+BG13+BG14","v":{"$error":"#REF!"}},{"$f":"BH11+BH12+BH13+BH14","v":{"$error":"#REF!"}},{"$f":"BI11+BI12+BI13+BI14","v":{"$error":"#REF!"}},{"$f":"BJ11+BJ12+BJ13+BJ14","v":{"$error":"#REF!"}},{"$f":"BL11+BM11+BN11+BO11","v":0},{"$f":"BL11+BL12+BL13+BL14","v":{"$error":"#REF!"}},{"$f":"BM11+BM12+BM13+BM14","v":{"$error":"#REF!"}},{"$f":"BN11+BN12+BN13+BN14","v":{"$error":"#REF!"}},{"$f":"BO11+BO12+BO13+BO14","v":{"$error":"#REF!"}},{"$f":"BQ11+BR11+BS11+BT11","v":0},{"$f":"BQ11+BQ12+BQ13+BQ14","v":{"$error":"#REF!"}},{"$f":"BR11+BR12+BR13+BR14","v":{"$error":"#REF!"}},{"$f":"BS11+BS12+BS13+BS14","v":{"$error":"#REF!"}},{"$f":"BT11+BT12+BT13+BT14","v":{"$error":"#REF!"}},{"$f":"BV11+BW11+BX11+BY11","v":0},{"$f":"BV11+BV12+BV13+BV14","v":{"$error":"#REF!"}},{"$f":"BW11+BW12+BW13+BW14","v":{"$error":"#REF!"}},{"$f":"BX11+BX12+BX13+BX14","v":{"$error":"#REF!"}},{"$f":"BY11+BY12+BY13+BY14","v":{"$error":"#REF!"}}]
[null,"    в том числе из сети"]
[null,"МСК"]
[null,"ВН",null,null,null,{"$f":"D17-D18-D23","v":20616.4725},null,null,null,null,35056.581430700004,null,null,null,null,{"$f":"N17-N18-N23","v":28841.5952},null,null,null,4766.4019535999996,null,null,null,null,null,{"$f":"X17-X18-X23","v":28330.694},null,null,null,null,{"$f":"AC17-AC18-AC23","v":8537.1750589999992},null,null,null,null,null,null,null,null,null,null,null,null,null,null,null,null,null,null,null,null,null,null,0,3343.4719999999998,0,0,null,{"$f":"#REF!","v":{"$error":"#REF!"}},{"$f":"#REF!","v":{"$error":"#REF!"}},{"$f":"#REF!","v":{"$error":"#REF!"}},{"$f":"#REF!","v":{"$error":"#REF!"}},null,{"$f":"BG12","v":{"$error":"#REF!"}},{"$f":"BH12","v":{"$error":"#REF!"}},{"$error":"#REF!"},{"$error":"#REF!"},null,{"$f":"BL12","v":{"$error":"#REF!"}},{"$f":"BM12","v":{"$error":"#REF!"}},{"$error":"#REF!"},{"$error":"#REF!"},null,{"$f":"BQ12","v":{"$error":"#REF!"}},{"$f":"BR12","v":{"$error":"#REF!"}},{"$error":"#REF!"},{"$error":"#REF!"}]
[null,"СН1",null,null,null,{"$f":"E15+E17-E18-E22-E23-E25","v":37467.864399999999},null,null,null,null,39096.239355800019,null,null,null,null,{"$f":"O15+O17-O18-O22-O23-O25","v":83879.426499999987},null,null,null,null,45481.839346894078,null,null,null,null,{"$f":"Y15+Y17-Y18-Y22-Y23-Y25","v":68391.121999999988},null,null,null,null,{"$f":"AD15+AD17-AD18-AD22-AD23-AD25","v":47823.947706699997},null,null,null,null,null,null,null,null,null,null,null,null,null,null,null,null,null,null,null,null,null,null,0,0,4677.1229999999996,0,null,{"$f":"#REF!","v":{"$error":"#REF!"}},{"$f":"#REF!","v":{"$error":"#REF!"}},{"$f":"#REF!","v":{"$error":"#REF!"}},{"$f":"#REF!","v":{"$error":"#REF!"}},null,{"$f":"BG13","v":{"$error":"#REF!"}},{"$error":"#REF!"},{"$error":"#REF!"},{"$error":"#REF!"},null,{"$f":"BL13","v":{"$error":"#REF!"}},{"$error":"#REF!"},{"$error":"#REF!"},{"$error":"#REF!"},null,{"$f":"BQ13","v":{"$error":"#REF!"}},{"$error":"#REF!"},{"$error":"#REF!"},{"$error":"#REF!"}]
[null,"СН2",null,null,null,null,828.45699999999999,null,null,null,null,1151.0824772100077,null,null,null,null,752.30200000000002,null,null,null,null,1001.0029116790574,null,null,null,null,868.5,null,null,null,null,757,null,null,null,null,null,null,null,null,null,null,null,null,null,null,null,null,null,null,null,null,null,0,0,0,2339.3415629628762,null,{"$f":"#REF!","v":{"$error":"#REF!"}},{"$f":"#REF!","v":{"$error":"#REF!"}},{"$f":"#REF!","v":{"$error":"#REF!"}},{"$f":"#REF!","v":{"$error":"#REF!"}},null,{"$error":"#REF!"},{"$error":"#REF!"},{"$error":"#REF!"},{"$error":"#REF!"},null,{"$error":"#REF!"},{"$error":"#REF!"},{"$error":"#REF!"},{"$error":"#REF!"},null,{"$error":"#REF!"},{"$error":"#REF!"},{"$error":"#REF!"},{"$error":"#REF!"}]
["1.2.","от электростанций ПЭ ",{"$f":"SUM(D15:G15)","v":290536},null,32422.277999999998,258113.72200000001,null,{"$f":"SUM(I15:L15)","v":292890.83799999999},null,39430.061999999998,253460.77599999998,null,{"$f":"SUM(N15:Q15)","v":253524},null,{"$f":"62439.925-19868.171","v":42571.754000000001},210952.24600000001,null,{"$f":"SUM(S15:V15)","v":334169.00400000002},null,39430.061999999998,294738.94200000004,null,{"$f":"SUM(X15:AA15)","v":265350},null,{"$f":"62439.925-19868.171","v":42571.754000000001},222778.24600000001,null,{"$f":"SUM(AC15:AF15)","v":316663},null,{"$f":"62439.925-19868.171","v":42571.754000000001},274091.24599999998,null,{"$f":"SUM(AH15:AK15)","v":0},null,null,null,null,{"$f":"SUM(AM15:AP15)","v":0},null,null,null,null,{"$f":"SUM(AR15:AU15)","v":0},null,null,null,null,{"$f":"SUM(AW15:AZ15)","v":0},null,null,null,null,{"$f":"SUM(BB15:BE15)","v":334169.00400000002},0,0,334169.00400000002,0,{"$f":"SUM(BG15:BJ15)","v":{"$error":"#REF!"}},{"$f":"#REF!","v":{"$error":"#REF!"}},{"$f":"#REF!","v":{"$error":"#REF!"}},{"$f":"#REF!","v":{"$error":"#REF!"}},{"$f":"#REF!","v":{"$error":"#REF!"}},{"$f":"SUM(BL15:BO15)","v":{"$error":"#REF!"}},{"$error":"#REF!"},{"$error":"#REF!"},{"$error":"#REF!"},{"$error":"#REF!"},{"$f":"SUM(BQ15:BT15)","v":{"$error":"#REF!"}},{"$error":"#REF!"},{"$error":"#REF!"},{"$error":"#REF!"},{"$error":"#REF!"},{"$f":"SUM(BV15:BY15)","v":{"$error":"#REF!"}},{"$error":"#REF!"},{"$error":"#REF!"},{"$error":"#REF!"},{"$error":"#REF!"}]
["1.3.","от других поставщиков (в т.ч. с оптового рынка)*",{"$f":"SUM(D16:G16)","v":0},null,null,null,null,{"$f":"SUM(I16:L16)","v":0},null,null,null,null,{"$f":"SUM(N16:Q16)","v":0},null,null,null,null,{"$f":"SUM(S16:V16)","v":0},null,null,null,null,{"$f":"SUM(X16:AA16)","v":0},null,null,null,null,{"$f":"SUM(AC16:AF16)","v":0},null,null,null,null,{"$f":"SUM(AH16:AK16)","v":0},null,null,null,null,{"$f":"SUM(AM16:AP16)","v":0},null,null,null,null,{"$f":"SUM(AR16:AU16)","v":0},null,null,null,null,{"$f":"SUM(AW16:AZ16)","v":0},null,null,null,null,{"$f":"SUM(BB16:BE16)","v":0},0,0,0,0,{"$f":"SUM(BG16:BJ16)","v":{"$error":"#REF!"}},{"$f":"#REF!","v":{"$error":"#REF!"}},{"$f":"#REF!","v":{"$error":"#REF!"}},{"$f":"#REF!","v":{"$error":"#REF!"}},{"$f":"#REF!","v":{"$error":"#REF!"}},{"$f":"SUM(BL16:BO16)","v":{"$error":"#REF!"}},{"$error":"#REF!"},{"$error":"#REF!"},{"$error":"#REF!"},{"$error":"#REF!"},{"$f":"SUM(BQ16:BT16)","v":{"$error":"#REF!"}},{"$error":"#REF!"},{"$error":"#REF!"},{"$error":"#REF!"},{"$error":"#REF!"},{"$f":"SUM(BV16:BY16)","v":{"$error":"#REF!"}},{"$error":"#REF!"},{"$error":"#REF!"},{"$error":"#REF!"},{"$error":"#REF!"}]
["1.4.","поступление эл. энергии от других электросетевых организаций **",{"$f":"SUM(D17:G17)","v":30716.471000000001},21510.379000000001,7797.510000000002,1408.5820000000001,null,{"$f":"SUM(I17:L17)","v":36690.726000000024},36132.805,557.92100000002165,null,null,{"$f":"SUM(N17:Q17)","v":75071.179999999993},29854.374,{"$f":"65823.59+20707.867-42571.574","v":43959.882999999994},{"$f":"437.508+819.415","v":1256.923},null,{"$f":"SUM(S17:V17)","v":9074.3510000000006},4867.152,2798.6170000000002,1408.5820000000001,null,{"$f":"SUM(X17:AA17)","v":59189.999999999993},29854.374,{"$f":"52452.549+18197.908-42571.754","v":28078.702999999994},{"$f":"437.508+819.415","v":1256.923},null,{"$f":"SUM(AC17:AF17)","v":20333.043000000001},8717.6299999999992,7669.3159999999998,3946.0970000000002,null,{"$f":"SUM(AH17:AK17)","v":0},null,null,null,null,{"$f":"SUM(AM17:AP17)","v":0},null,null,null,null,{"$f":"SUM(AR17:AU17)","v":0},null,null,null,null,{"$f":"SUM(AW17:AZ17)","v":0},null,null,null,null,{"$f":"SUM(BB17:BE17)","v":9074.3510000000006},4867.152,2798.6170000000002,1408.5820000000001,0,{"$f":"SUM(BG17:BJ17)","v":{"$error":"#REF!"}},{"$f":"#REF!","v":{"$error":"#REF!"}},{"$f":"#REF!","v":{"$error":"#REF!"}},{"$f":"#REF!","v":{"$error":"#REF!"}},{"$f":"#REF!","v":{"$error":"#REF!"}},{"$f":"SUM(BL17:BO17)","v":{"$error":"#REF!"}},{"$error":"#REF!"},{"$error":"#REF!"},{"$error":"#REF!"},{"$error":"#REF!"},{"$f":"SUM(BQ17:BT17)","v":{"$error":"#REF!"}},{"$error":"#REF!"},{"$error":"#REF!"},{"$error":"#REF!"},{"$error":"#REF!"},{"$f":"SUM(BV17:BY17)","v":{"$error":"#REF!"}},{"$error":"#REF!"},{"$error":"#REF!"},{"$error":"#REF!"},{"$error":"#REF!"}]
["2.","Потери электроэнергии в сети ",{"$f":"SUM(D18:G18)","v":15213.955},893.90650000000005,2349.8036000000002,11970.2449,null,{"$f":"SUM(I18:L18)","v":11942.488161989999},1076.2235692999998,595.87164419999965,10224.23460039,46.158348099999991,{"$f":"SUM(N18:Q18)","v":11942.487999999999},1012.7788,2115.2584999999999,8814.4506999999994,null,{"$f":"SUM(S18:V18)","v":14566.191562962895},100.75004639999999,1513.2416067059198,12879.426998177907,72.772911679067477,{"$f":"SUM(X18:AA18)","v":13649.655000000001},1523.68,1464.9670000000001,10606.428,54.58,{"$f":"SUM(AC18:AF18)","v":12847.696636396124},180.45494099999996,1622.7542933000002,10989.387402096123,55.1,{"$f":"SUM(AH18:AK18)","v":0},null,null,null,null,{"$f":"SUM(AM18:AP18)","v":0},null,null,null,null,{"$f":"SUM(AR18:AU18)","v":0},null,null,null,null,{"$f":"SUM(AW18:AZ18)","v":0},null,null,null,null,{"$f":"SUM(BB18:BE18)","v":13209.66},1523.6800000000003,1464.9660000000001,10166.433999999999,54.58,{"$f":"SUM(BG18:BJ18)","v":{"$error":"#REF!"}},{"$f":"#REF!","v":{"$error":"#REF!"}},{"$f":"#REF!","v":{"$error":"#REF!"}},{"$f":"#REF!","v":{"$error":"#REF!"}},{"$f":"#REF!","v":{"$error":"#REF!"}},{"$f":"SUM(BL18:BO18)","v":{"$error":"#REF!"}},{"$error":"#REF!"},{"$error":"#REF!"},{"$error":"#REF!"},{"$error":"#REF!"},{"$f":"SUM(BQ18:BT18)","v":{"$error":"#REF!"}},{"$error":"#REF!"},{"$error":"#REF!"},{"$error":"#REF!"},{"$error":"#REF!"},{"$f":"SUM(BV18:BY18)","v":{"$error":"#REF!"}},{"$error":"#REF!"},{"$error":"#REF!"},{"$error":"#REF!"},{"$error":"#REF!"}]
[null,"то же в % (п.1.1/п.1.3)",{"$f":"IF(C8=0,0,C18/C8*100)","v":4.7358250514437286},4.1556985118672252,5.8424067277530165,3.7688899911160512,0,3.6235303992883527,2.9785220640910657,1.4901267818384321,3.1208212054315174,4.0099948538768952,3.6344075406096943,3.3923967054207873,2.4444914869690955,2.7127213636291998,0,{"$f":"IF(R8=0,0,R18/R8*100)","v":4.2436922232516032},{"$f":"IF(S8=0,0,S18/S8*100)","v":2.0699999999999994},{"$f":"IF(T8=0,0,T18/T8*100)","v":3.2199999999999998},{"$f":"IF(U8=0,0,U18/U8*100)","v":3.7699999999999996},{"$f":"IF(V8=0,0,V18/V8*100)","v":7.2700000000000005},4.2058467369199484,5.1037077515006679,2.0735421428342637,3.3066865246909583,6.2843983880253305,3.8124176539355159,2.0699999999999994,3.2299357742579931,3.2863151381190727,{"$f":"IF(AF8=0,0,AF18/AF8*100)","v":7.2787318361955098},0,0,0,0,0,0,0,0,0,0,0,0,0,0,0,{"$f":"IF(AV8=0,0,AV18/AV8*100)","v":0},0,0,0,0,3.8484823690177481,{"$f":"AW19","v":0},{"$f":"AX19","v":0},0,0,{"$error":"#REF!"},{"$error":"#REF!"},{"$error":"#REF!"},{"$error":"#REF!"},{"$f":"IF(BJ8=0,0,BJ18/BJ8*100)","v":{"$error":"#REF!"}},{"$error":"#REF!"},{"$error":"#REF!"},{"$error":"#REF!"},{"$error":"#REF!"},{"$error":"#REF!"},{"$error":"#REF!"},{"$error":"#REF!"},{"$error":"#REF!"},{"$error":"#REF!"},{"$error":"#REF!"},{"$error":"#REF!"},{"$error":"#REF!"},{"$error":"#REF!"},{"$error":"#REF!"},{"$error":"#REF!"}]
["3.","Расход электроэнергии на произв и хознужды электросетевого хозяйства",{"$f":"SUM(D20:G20)","v":0},null,null,null,null,{"$f":"SUM(I20:L20)","v":0},null,null,null,null,{"$f":"SUM(N20:Q20)","v":0},null,null,null,null,{"$f":"SUM(S20:V20)","v":0},null,null,null,null,{"$f":"SUM(X20:AA20)","v":0},null,null,null,null,{"$f":"SUM(AC20:AF20)","v":0},null,null,null,null,{"$f":"SUM(AH20:AK20)","v":0},null,null,null,null,{"$f":"SUM(AM20:AP20)","v":0},null,null,null,null,{"$f":"SUM(AR20:AU20)","v":0},null,null,null,null,{"$f":"SUM(AW20:AZ20)","v":0},null,null,null,null,{"$f":"SUM(BB20:BE20)","v":0},null,null,null,null,{"$f":"SUM(BG20:BJ20)","v":{"$error":"#REF!"}},{"$f":"#REF!","v":{"$error":"#REF!"}},{"$f":"#REF!","v":{"$error":"#REF!"}},{"$f":"#REF!","v":{"$error":"#REF!"}},{"$f":"#REF!","v":{"$error":"#REF!"}},{"$f":"SUM(BL20:BO20)","v":{"$error":"#REF!"}},{"$f":"BG20","v":{"$error":"#REF!"}},{"$f":"BH20","v":{"$error":"#REF!"}},{"$f":"BI20","v":{"$error":"#REF!"}},{"$f":"BJ20","v":{"$error":"#REF!"}},{"$f":"SUM(BQ20:BT20)","v":{"$error":"#REF!"}},{"$f":"BL20","v":{"$error":"#REF!"}},{"$f":"BM20","v":{"$error":"#REF!"}},{"$f":"BN20","v":{"$error":"#REF!"}},{"$f":"BO20","v":{"$error":"#REF!"}},{"$f":"SUM(BV20:BY20)","v":{"$error":"#REF!"}},{"$f":"BQ20","v":{"$error":"#REF!"}},{"$f":"BR20","v":{"$error":"#REF!"}},{"$f":"BS20","v":{"$error":"#REF!"}},{"$f":"BT20","v":{"$error":"#REF!"}}]
["4.","Полезный отпуск из сети ",{"$f":"C22+C23","v":306038.516},{"$f":"D8-D18-D20","v":20616.4725},{"$f":"E8-E18-E20","v":37869.984400000001},{"$f":"F8-F18-F20","v":305636.39600000001},{"$f":"G8-G18-G20","v":828.45699999999999},{"$f":"H22+H23","v":317639.0757089},{"$f":"I8-I18-I20","v":35056.581430700004},{"$f":"J8-J18-J20","v":39392.111355800022},{"$f":"K8-K18-K20","v":317389.36218611},{"$f":"L8-L18-L20","v":1104.9241291100077},{"$f":"M22+M23","v":316652.69199999998},{"$f":"N8-N18-N20","v":28841.5952},{"$f":"O8-O18-O20","v":84416.378499999992},{"$f":"P8-P18-P20","v":316115.74},{"$f":"Q8-Q18-Q20","v":752.30200000000002},{"$f":"R22+R23","v":328677.16343703715},{"$f":"S8-S18-S20","v":4766.4019535999996},{"$f":"T8-T18-T20","v":45481.839346894078},{"$f":"U8-U18-U20","v":328749.9363487162},{"$f":"V8-V18-V20","v":928.22999999999001},{"$f":"W22+W23","v":310890.34499999997},{"$f":"X8-X18-X20","v":28330.694},{"$f":"Y8-Y18-Y20","v":69185.489999999991},{"$f":"Z8-Z18-Z20","v":310150.55700000003},{"$f":"AA8-AA18-AA20","v":813.92},{"$f":"AB22+AB23","v":324148.34636360389},{"$f":"AC8-AC18-AC20","v":8537.1750589999992},{"$f":"AD8-AD18-AD20","v":48618.315706699999},{"$f":"AE8-AE18-AE20","v":323409.07836360385},{"$f":"AF8-AF18-AF20","v":701.9},{"$f":"AG22+AG23","v":0},{"$f":"AH8-AH18-AH20","v":0},{"$f":"AI8-AI18-AI20","v":0},{"$f":"AJ8-AJ18-AJ20","v":0},{"$f":"AK8-AK18-AK20","v":0},{"$f":"AL22+AL23","v":0},{"$f":"AM8-AM18-AM20","v":0},{"$f":"AN8-AN18-AN20","v":0},{"$f":"AO8-AO18-AO20","v":0},{"$f":"AP8-AP18-AP20","v":0},{"$f":"AQ22+AQ23","v":0},{"$f":"AR8-AR18-AR20","v":0},{"$f":"AS8-AS18-AS20","v":0},{"$f":"AT8-AT18-AT20","v":0},{"$f":"AU8-AU18-AU20","v":0},{"$f":"AV22+AV23","v":0},{"$f":"AW8-AW18-AW20","v":0},{"$f":"AX8-AX18-AX20","v":0},{"$f":"AY8-AY18-AY20","v":0},{"$f":"AZ8-AZ18-AZ20","v":0},{"$f":"BA22+BA23","v":328677.16343703715},{"$f":"BB8-BB18-BB20","v":3343.4719999999998},{"$f":"BC8-BC18-BC20","v":4677.1229999999996},{"$f":"BD8-BD18-BD20","v":330088.27500000002},{"$f":"BE8-BE18-BE20","v":2284.7615629628763},{"$f":"BF22+BF23","v":{"$error":"#REF!"}},{"$f":"BG8-BG18-BG20","v":{"$error":"#REF!"}},{"$f":"BH8-BH18-BH20","v":{"$error":"#REF!"}},{"$f":"BI8-BI18-BI20","v":{"$error":"#REF!"}},{"$f":"BJ8-BJ18-BJ20","v":{"$error":"#REF!"}},{"$f":"BK22+BK23","v":{"$error":"#REF!"}},{"$f":"BL8-BL18-BL20","v":{"$error":"#REF!"}},{"$f":"BM8-BM18-BM20","v":{"$error":"#REF!"}},{"$f":"BN8-BN18-BN20","v":{"$error":"#REF!"}},{"$f":"BO8-BO18-BO20","v":{"$error":"#REF!"}},{"$f":"BP22+BP23","v":{"$error":"#REF!"}},{"$f":"BQ8-BQ18-BQ20","v":{"$error":"#REF!"}},{"$f":"BR8-BR18-BR20","v":{"$error":"#REF!"}},{"$f":"BS8-BS18-BS20","v":{"$error":"#REF!"}},{"$f":"BT8-BT18-BT20","v":{"$error":"#REF!"}},{"$f":"BU22+BU23","v":{"$error":"#REF!"}},{"$f":"BV8-BV18-BV20","v":{"$error":"#REF!"}},{"$f":"BW8-BW18-BW20","v":{"$error":"#REF!"}},{"$f":"BX8-BX18-BX20","v":{"$error":"#REF!"}},{"$f":"BY8-BY18-BY20","v":{"$error":"#REF!"}}]
["4.1.","собственное потребление",{"$f":"SUM(D22:G22)","v":299293.30499999999},null,null,299293.30499999999,null,{"$f":"SUM(I22:L22)","v":310956.17970889999},null,null,310743.17970889999,213,{"$f":"SUM(N22:Q22)","v":310967.03899999999},null,0,{"$f":"P15+O15+M17-M18-M23","v":310967.03899999999},null,{"$f":"SUM(S22:V22)","v":321570.16343703715},null,null,321570.16343703715,null,{"$f":"SUM(X22:AA22)","v":305276.32999999996},null,null,{"$f":"Z15+Y15+W17-W18-W23","v":305276.32999999996},null,{"$f":"SUM(AC22:AF22)","v":318646.34636360389},null,null,{"$f":"AE15+AD15+AB17-AB18-AB23","v":318646.34636360389},null,{"$f":"SUM(AH22:AK22)","v":0},null,null,null,null,{"$f":"SUM(AM22:AP22)","v":0},null,null,null,null,{"$f":"SUM(AR22:AU22)","v":0},null,null,null,null,{"$f":"SUM(AW22:AZ22)","v":0},null,null,null,null,{"$f":"SUM(BB22:BE22)","v":321570.16343703715},0,0,321570.16343703715,0,{"$f":"SUM(BG22:BJ22)","v":{"$error":"#REF!"}},{"$f":"#REF!","v":{"$error":"#REF!"}},{"$f":"#REF!","v":{"$error":"#REF!"}},{"$f":"#REF!","v":{"$error":"#REF!"}},{"$f":"#REF!","v":{"$error":"#REF!"}},{"$f":"SUM(BL22:BO22)","v":{"$error":"#REF!"}},{"$f":"BG22","v":{"$error":"#REF!"}},{"$error":"#REF!"},{"$error":"#REF!"},{"$error":"#REF!"},{"$f":"SUM(BQ22:BT22)","v":{"$error":"#REF!"}},{"$f":"BL22","v":{"$error":"#REF!"}},{"$error":"#REF!"},{"$error":"#REF!"},{"$error":"#REF!"},{"$f":"SUM(BV22:BY22)","v":{"$error":"#REF!"}},{"$f":"BQ22","v":{"$error":"#REF!"}},{"$error":"#REF!"},{"$error":"#REF!"},{"$error":"#REF!"}]
["4.2.","сторонним потребителям",{"$f":"SUM(D23:G23)","v":6745.2110000000002},0,402.12,5514.634,828.45699999999999,{"$f":"SUM(I23:L23)","v":6682.8960000000006},null,295.87200000000001,5495.1,891.92399999999998,{"$f":"SUM(N23:Q23)","v":5685.6530000000002},0,536.952,4396.3990000000003,752.30200000000002,{"$f":"SUM(S23:V23)","v":7107},null,null,6178.77,928.23,{"$f":"SUM(X23:AA23)","v":5614.0150000000003},0,794.36800000000005,4005.692,813.95500000000004,{"$f":"SUM(AC23:AF23)","v":5502},0,794.36800000000005,4005.692,701.94,{"$f":"SUM(AH23:AK23)","v":0},null,null,null,null,{"$f":"SUM(AM23:AP23)","v":0},null,null,null,null,{"$f":"SUM(AR23:AU23)","v":0},null,null,null,null,{"$f":"SUM(AW23:AZ23)","v":0},null,null,null,null,{"$f":"SUM(BB23:BE23)","v":7107},0,0,6178.77,928.23,{"$f":"SUM(BG23:BJ23)","v":{"$error":"#REF!"}},{"$f":"#REF!","v":{"$error":"#REF!"}},{"$f":"#REF!","v":{"$error":"#REF!"}},{"$f":"#REF!","v":{"$error":"#REF!"}},{"$f":"#REF!","v":{"$error":"#REF!"}},{"$f":"SUM(BL23:BO23)","v":{"$error":"#REF!"}},{"$error":"#REF!"},{"$error":"#REF!"},{"$error":"#REF!"},{"$error":"#REF!"},{"$f":"SUM(BQ23:BT23)","v":{"$error":"#REF!"}},{"$error":"#REF!"},{"$error":"#REF!"},{"$error":"#REF!"},{"$error":"#REF!"},{"$f":"SUM(BV23:BY23)","v":{"$error":"#REF!"}},{"$error":"#REF!"},{"$error":"#REF!"},{"$error":"#REF!"},{"$error":"#REF!"}]
[null,"в том числе: сальдо переток (транзит) в другие электросетевые организации***",{"$f":"SUM(D24:G24)","v":298891.185},null,null,{"$f":"F21-C23","v":298891.185},null,{"$f":"SUM(I24:L24)","v":0},null,null,null,null,{"$f":"SUM(N24:Q24)","v":0},null,null,null,null,{"$f":"SUM(S24:V24)","v":0},null,null,null,null,{"$f":"SUM(X24:AA24)","v":0},null,null,null,null,{"$f":"SUM(AC24:AF24)","v":0},null,null,null,null,{"$f":"SUM(AH24:AK24)","v":0},null,null,null,null,{"$f":"SUM(AM24:AP24)","v":0},null,null,null,null,{"$f":"SUM(AR24:AU24)","v":0},null,null,null,null,{"$f":"SUM(AW24:AZ24)","v":0},null,null,null,null,{"$f":"SUM(BB24:BE24)","v":0},0,0,0,0,{"$f":"SUM(BG24:BJ24)","v":{"$error":"#REF!"}},{"$f":"#REF!","v":{"$error":"#REF!"}},{"$f":"#REF!","v":{"$error":"#REF!"}},{"$f":"#REF!","v":{"$error":"#REF!"}},{"$f":"#REF!","v":{"$error":"#REF!"}},{"$f":"SUM(BL24:BO24)","v":{"$error":"#REF!"}},{"$error":"#REF!"},{"$error":"#REF!"},{"$error":"#REF!"},{"$error":"#REF!"},{"$f":"SUM(BQ24:BT24)","v":{"$error":"#REF!"}},{"$error":"#REF!"},{"$error":"#REF!"},{"$error":"#REF!"},{"$error":"#REF!"},{"$f":"SUM(BV24:BY24)","v":{"$error":"#REF!"}},{"$error":"#REF!"},{"$error":"#REF!"},{"$error":"#REF!"},{"$error":"#REF!"}]
["4.3.","сальдо переток в сопредельные регионы",{"$f":"SUM(D25:G25)","v":0},null,null,null,null,{"$f":"SUM(I25:L25)","v":0},null,null,null,null,{"$f":"SUM(N25:Q25)","v":0},null,null,null,null,{"$f":"SUM(S25:V25)","v":0},null,null,null,null,{"$f":"SUM(X25:AA25)","v":0},null,null,null,null,{"$f":"SUM(AC25:AF25)","v":0},null,null,null,null,{"$f":"SUM(AH25:AK25)","v":0},null,null,null,null,{"$f":"SUM(AM25:AP25)","v":0},null,null,null,null,{"$f":"SUM(AR25:AU25)","v":0},null,null,null,null,{"$f":"SUM(AW25:AZ25)","v":0},null,null,null,null,{"$f":"SUM(BB25:BE25)","v":0},0,0,0,0,{"$f":"SUM(BG25:BJ25)","v":{"$error":"#REF!"}},{"$f":"#REF!","v":{"$error":"#REF!"}},{"$f":"#REF!","v":{"$error":"#REF!"}},{"$f":"#REF!","v":{"$error":"#REF!"}},{"$f":"#REF!","v":{"$error":"#REF!"}},{"$f":"SUM(BL25:BO25)","v":{"$error":"#REF!"}},{"$error":"#REF!"},{"$error":"#REF!"},{"$error":"#REF!"},{"$error":"#REF!"},{"$f":"SUM(BQ25:BT25)","v":{"$error":"#REF!"}},{"$error":"#REF!"},{"$error":"#REF!"},{"$error":"#REF!"},{"$error":"#REF!"},{"$f":"SUM(BV25:BY25)","v":{"$error":"#REF!"}},{"$error":"#REF!"},{"$error":"#REF!"},{"$error":"#REF!"},{"$error":"#REF!"}]
["5.","проверка",null,{"$f":"D21-D22-D23-D25-E12-F12-G12","v":0},{"$f":"E21-E22-E23-E25-F13-G13","v":0},{"$f":"F21-F22-F23-F25-G14","v":1.48929757415317E-11},{"$f":"G21-G22-G23-G25","v":0},null,{"$f":"I21-I22-I23-I25-J12-K12-L12","v":0},{"$f":"J21-J22-J23-J25-K13-L13","v":0},{"$f":"K21-K22-K23-K25-L14","v":0},{"$f":"L21-L22-L23-L25","v":1.2911000771964609E-4},null,{"$f":"N21-N22-N23-N25-O12-P12-Q12","v":0},{"$f":"O21-O22-O23-O25-P13-Q13","v":0},{"$f":"P21-P22-P23-P25-Q14","v":0},{"$f":"Q21-Q22-Q23-Q25","v":0},null,{"$f":"S21-S22-S23-S25-T12-U12-V12","v":0},{"$f":"T21-T22-T23-T25-U13-V13","v":0},{"$f":"U21-U22-U23-U25-V14","v":0},{"$f":"V21-V22-V23-V25","v":-1.0004441719502211E-11},null,{"$f":"X21-X22-X23-X25-Y12-Z12-AA12","v":0},{"$f":"Y21-Y22-Y23-Y25-Z13-AA13","v":0},{"$f":"Z21-Z22-Z23-Z25-AA14","v":3.5000000071704562E-2},{"$f":"AA21-AA22-AA23-AA25","v":-3.5000000000081855E-2},null,{"$f":"AC21-AC22-AC23-AC25-AD12-AE12-AF12","v":0},{"$f":"AD21-AD22-AD23-AD25-AE13-AF13","v":0},{"$f":"AE21-AE22-AE23-AE25-AF14","v":3.9999999959945853E-2},{"$f":"AF21-AF22-AF23-AF25","v":-4.0000000000077307E-2},null,{"$f":"AH21-AH22-AH23-AH25-AI12-AJ12-AK12","v":0},{"$f":"AI21-AI22-AI23-AI25-AJ13-AK13","v":0},{"$f":"AJ21-AJ22-AJ23-AJ25-AK14","v":0},{"$f":"AK21-AK22-AK23-AK25","v":0},null,{"$f":"AM21-AM22-AM23-AM25-AN12-AO12-AP12","v":0},{"$f":"AN21-AN22-AN23-AN25-AO13-AP13","v":0},{"$f":"AO21-AO22-AO23-AO25-AP14","v":0},{"$f":"AP21-AP22-AP23-AP25","v":0},null,{"$f":"AR21-AR22-AR23-AR25-AS12-AT12-AU12","v":0},{"$f":"AS21-AS22-AS23-AS25-AT13-AU13","v":0},{"$f":"AT21-AT22-AT23-AT25-AU14","v":0},{"$f":"AU21-AU22-AU23-AU25","v":0},null,{"$f":"AW21-AW22-AW23-AW25-AX12-AY12-AZ12","v":0},{"$f":"AX21-AX22-AX23-AX25-AY13-AZ13","v":0},{"$f":"AY21-AY22-AY23-AY25-AZ14","v":0},{"$f":"AZ21-AZ22-AZ23-AZ25","v":0},null,{"$f":"BB21-BB22-BB23-BB25-BC12-BD12-BE12","v":0},{"$f":"BC21-BC22-BC23-BC25-BD13-BE13","v":0},{"$f":"BD21-BD22-BD23-BD25-BE14","v":0},{"$f":"BE21-BE22-BE23-BE25","v":1356.5315629628763},null,{"$f":"BG21-BG22-BG23-BG25-BH12-BI12-BJ12","v":{"$error":"#REF!"}},{"$f":"BH21-BH22-BH23-BH25-BI13-BJ13","v":{"$error":"#REF!"}},{"$f":"BI21-BI22-BI23-BI25-BJ14","v":{"$error":"#REF!"}},{"$f":"BJ21-BJ22-BJ23-BJ25","v":{"$error":"#REF!"}},null,{"$f":"BL21-BL22-BL23-BL25-BM12-BN12-BO12","v":{"$error":"#REF!"}},{"$f":"BM21-BM22-BM23-BM25-BN13-BO13","v":{"$error":"#REF!"}},{"$f":"BN21-BN22-BN23-BN25-BO14","v":{"$error":"#REF!"}},{"$f":"BO21-BO22-BO23-BO25","v":{"$error":"#REF!"}},null,{"$f":"BQ21-BQ22-BQ23-BQ25-BR12-BS12-BT12","v":{"$error":"#REF!"}},{"$f":"BR21-BR22-BR23-BR25-BS13-BT13","v":{"$error":"#REF!"}},{"$f":"BS21-BS22-BS23-BS25-BT14","v":{"$error":"#REF!"}},{"$f":"BT21-BT22-BT23-BT25","v":{"$error":"#REF!"}},null,{"$f":"BV21-BV22-BV23-BV25-BW12-BX12-BY12","v":{"$error":"#REF!"}},{"$f":"BW21-BW22-BW23-BW25-BX13-BY13","v":{"$error":"#REF!"}},{"$f":"BX21-BX22-BX23-BX25-BY14","v":{"$error":"#REF!"}},{"$f":"BY21-BY22-BY23-BY25","v":{"$error":"#REF!"}}]
["6","Доля сторонних потребителей для распределения НВВ (формулы можно корректировать)",null,{"$f":"IF(D8=0,0,C23/(D8-C18))","v":1.0712764896391982},{"$f":"IF(E8=0,0,(E23)/(E8-E18-F18-G18))","v":1.5526024885308208E-2},{"$f":"IF(F8=0,0,(F23+G23)/(F8-F18-G18))","v":2.0753716124829583E-2},{"$f":"IF(G8=0,0,G23/(G8-G18))","v":1},null,{"$f":"IF(I8=0,0,H23/(I8-H18))","v":0.27626326867696221},{"$f":"IF(J8=0,0,(J23)/(J8-J18-K18-L18))","v":1.0159840015681609E-2},{"$f":"IF(K8=0,0,(K23+L23)/(K8-K18-L18))","v":2.0126550443665091E-2},{"$f":"IF(L8=0,0,L23/(L8-L18))","v":0.80722646605466508},null,{"$f":"IF(N8=0,0,M23/(N8-M18))","v":0.31742346953302408},{"$f":"IF(O8=0,0,(O23)/(O8-O18-P18-Q18))","v":7.1023585723960876E-3},{"$f":"IF(P8=0,0,(P23+Q23)/(P8-P18-Q18))","v":1.6287392079875555E-2},{"$f":"IF(Q8=0,0,Q23/(Q8-Q18))","v":1},null,{"$f":"IF(S8=0,0,R23/(S8-R18))","v":-0.73275296526668976},{"$f":"IF(T8=0,0,(T23)/(T8-T18-U18-V18))","v":0},{"$f":"IF(U8=0,0,(U23+V23)/(U8-U18-V18))","v":2.1623041667029136E-2},{"$f":"IF(V8=0,0,V23/(V8-V18))","v":1.0000000000000109},null,{"$f":"IF(X8=0,0,W23/(X8-W18))","v":0.34644321817613749},{"$f":"IF(Y8=0,0,(Y23)/(Y8-Y18-Z18-AA18))","v":1.357325981971101E-2},{"$f":"IF(Z8=0,0,(Z23+AA23)/(Z8-Z18-AA18))","v":1.5542436398650859E-2},{"$f":"IF(AA8=0,0,AA23/(AA8-AA18))","v":1.0000430017692157},null,{"$f":"IF(AC8=0,0,AB23/(AC8-AB18))","v":-1.332181895447822},{"$f":"IF(AD8=0,0,(AD23)/(AD8-AD18-AE18-AF18))","v":2.1141524189662277E-2},{"$f":"IF(AE8=0,0,(AE23+AF23)/(AE8-AE18-AF18))","v":1.4558757012435392E-2},{"$f":"IF(AF8=0,0,AF23/(AF8-AF18))","v":1.0000569881749537},null,{"$f":"IF(AH8=0,0,AG23/(AH8-AG18))","v":0},{"$f":"IF(AI8=0,0,(AI23)/(AI8-AI18-AJ18-AK18))","v":0},{"$f":"IF(AJ8=0,0,(AJ23+AK23)/(AJ8-AJ18-AK18))","v":0},{"$f":"IF(AK8=0,0,AK23/(AK8-AK18))","v":0},null,{"$f":"IF(AM8=0,0,AL23/(AM8-AL18))","v":0},{"$f":"IF(AN8=0,0,(AN23)/(AN8-AN18-AO18-AP18))","v":0},{"$f":"IF(AO8=0,0,(AO23+AP23)/(AO8-AO18-AP18))","v":0},{"$f":"IF(AP8=0,0,AP23/(AP8-AP18))","v":0},null,{"$f":"IF(AR8=0,0,AQ23/(AR8-AQ18))","v":0},{"$f":"IF(AS8=0,0,(AS23)/(AS8-AS18-AT18-AU18))","v":0},{"$f":"IF(AT8=0,0,(AT23+AU23)/(AT8-AT18-AU18))","v":0},{"$f":"IF(AU8=0,0,AU23/(AU8-AU18))","v":0},null,{"$f":"IF(AW8=0,0,AV23/(AW8-AV18))","v":0},{"$f":"IF(AX8=0,0,(AX23)/(AX8-AX18-AY18-AZ18))","v":0},{"$f":"IF(AY8=0,0,(AY23+AZ23)/(AY8-AY18-AZ18))","v":0},{"$f":"IF(AZ8=0,0,AZ23/(AZ8-AZ18))","v":0},null,{"$f":"IF(BB8=0,0,BA23/(BB8-BA18))","v":-0.85190208987513105},{"$f":"IF(BC8=0,0,(BC23)/(BC8-BC18-BD18-BE18))","v":0},{"$f":"IF(BD8=0,0,(BD23+BE23)/(BD8-BD18-BE18))","v":2.153416486762056E-2},{"$f":"IF(BE8=0,0,BE23/(BE8-BE18))","v":0.40626996490446571},null,{"$f":"IF(BG8=0,0,BF23/(BG8-BF18))","v":{"$error":"#REF!"}},{"$f":"IF(BH8=0,0,(BH23)/(BH8-BH18-BI18-BJ18))","v":{"$error":"#REF!"}},{"$f":"IF(BI8=0,0,(BI23+BJ23)/(BI8-BI18-BJ18))","v":{"$error":"#REF!"}},{"$f":"IF(BJ8=0,0,BJ23/(BJ8-BJ18))","v":{"$error":"#REF!"}},null,{"$f":"IF(BL8=0,0,BK23/(BL8-BK18))","v":{"$error":"#REF!"}},{"$f":"IF(BM8=0,0,(BM23)/(BM8-BM18-BN18-BO18))","v":{"$error":"#REF!"}},{"$f":"IF(BN8=0,0,(BN23+BO23)/(BN8-BN18-BO18))","v":{"$error":"#REF!"}},{"$f":"IF(BO8=0,0,BO23/(BO8-BO18))","v":{"$error":"#REF!"}},null,{"$f":"IF(BQ8=0,0,BP23/(BQ8-BP18))","v":{"$error":"#REF!"}},{"$f":"IF(BR8=0,0,(BR23)/(BR8-BR18-BS18-BT18))","v":{"$error":"#REF!"}},{"$f":"IF(BS8=0,0,(BS23+BT23)/(BS8-BS18-BT18))","v":{"$error":"#REF!"}},{"$f":"IF(BT8=0,0,BT23/(BT8-BT18))","v":{"$error":"#REF!"}},null,{"$f":"IF(BV8=0,0,BU23/(BV8-BU18))","v":{"$error":"#REF!"}},{"$f":"IF(BW8=0,0,(BW23)/(BW8-BW18-BX18-BY18))","v":{"$error":"#REF!"}},{"$f":"IF(BX8=0,0,(BX23+BY23)/(BX8-BX18-BY18))","v":{"$error":"#REF!"}},{"$f":"IF(BY8=0,0,BY23/(BY8-BY18))","v":{"$error":"#REF!"}}]
[null,"Справочно:",null,null,null,null,null,null,null,null,null,null,null,null,null,null,null,null,null,null,null,null,null,null,null,null,null,null,null,null,null,null,null,null,null,null,null,null,null,null,null,null,null,null,null,null,null,null,null,null,null,null,{"$f":"BB28+BC28+BD28+BE28","v":-1056.9262957446708},{"$f":"BB18*BB27","v":-1298.0261763009398},{"$f":"BC18*BC27","v":0},{"$f":"BD18*BD27","v":218.92566587178314},{"$f":"BE18*BE27","v":22.174214684485737},null,null,null,null,null,null,null,null,null,null,null,null,null,null,null,null,null,null,null,null,"потери на сторонних потребителей"]
[null,"* название организации поставщика (производителя электрической энергии):"]
[null,"** название электросетевой организации (организаций) в соответствии с актами балансового разграничения сетей:"]
[null,"*** название электросетевой организации (организаций) в соответствии с актами балансового разграничения сетей:"]
[]
[null,"Руководитель организации",null,null,null,null,"К.Ю. Вергазов"]
[]
[null,"Должностное лицо, ответственное за составление формы",null,null,null,null,"О.В. Костюкова"]

{"sheet":"5","index":7,"n_rows":30,"n_cols":82,"rows_kept":30,"cut":false,"hidden":false,"merged":[[3,62,3,66],[3,67,3,71],[3,72,3,76],[3,77,3,81],[3,0,5,0],[3,1,5,1],[3,37,3,41],[3,42,3,46],[3,47,3,51],[3,52,3,56],[3,57,3,61],[1,0,1,14],[3,32,3,36],[3,27,3,31],[3,2,3,6],[3,7,3,11],[3,22,3,26],[3,12,3,16],[3,17,3,21]]}
[null,{"$f":"Анкета!B3","v":"АО \"Чепецкий механический завод\""},null,null,null,null,null,null,null,null,null,null,null,null,null,null,null,null,null,null,null,null,null,null,null,null,null,null,null,null,null,null,null,null,null,null,null,null,null,null,null,null,null,null,null,null,null,null,null,null,null,"Продолжение таблицы№ П1.5.",null,null,null,null,null,null,null,null,null,"Таблица № П1.5."]
["Электрическая мощность по диапазонам напряжения"]
[null,null,null,null,null,null,null,null,null,null,null,null,null,null,null,null,null,null,null,null,null,null,null,null,null,null,null,null,null,null,null,null,null,null,null,null,null,null,null,null,null,null,null,null,null,null,null,null,null,null,null,"МВт",null,null,null,null,null,null,null,null,null,"МВт",null,null,null,null,"МВт",null,null,null,null,"МВт",null,null,null,null,"МВт",null,null,null,null,"МВт"]
["№ п.п.","Показатели","2013 год факт",null,null,null,null,"2014 год  утверждено",null,null,null,null,"2014 год факт",null,null,null,null,"2015 год  утверждено",null,null,null,null,"2015 год ожидаемое",null,null,null,null,"2016 год предложение организации",null,null,null,null,"2017 год предложение организации",null,null,null,null,"2018 год предложение организации",null,null,null,null,"2019 год предложение организации",null,null,null,null,"2020 год предложение организации",null,null,null,null,"2016 год принято уполномоченным органом до корректировки",null,null,null,null,"2016 год принято уполномоченным органом после корректировки",null,null,null,null,"2017 год принято уполномоченным органом",null,null,null,null,"2018 год принято уполномоченным органом",null,null,null,null,"2019 год принято уполномоченным органом",null,null,null,null,"2020 год принято уполномоченным органом"]
[null,null,{"$f":"C4","v":"2013 год факт"},{"$f":"C4","v":"2013 год факт"},{"$f":"C4","v":"2013 год факт"},{"$f":"C4","v":"2013 год факт"},{"$f":"C4","v":"2013 год факт"},{"$f":"H4","v":"2014 год  утверждено"},{"$f":"H4","v":"2014 год  утверждено"},{"$f":"H4","v":"2014 год  утверждено"},{"$f":"H4","v":"2014 год  утверждено"},{"$f":"H4","v":"2014 год  утверждено"},{"$f":"M4","v":"2014 год факт"},{"$f":"M4","v":"2014 год факт"},{"$f":"M4","v":"2014 год факт"},{"$f":"M4","v":"2014 год факт"},{"$f":"M4","v":"2014 год факт"},{"$f":"R4","v":"2015 год  утверждено"},{"$f":"R4","v":"2015 год  утверждено"},{"$f":"R4","v":"2015 год  утверждено"},{"$f":"R4","v":"2015 год  утверждено"},{"$f":"R4","v":"2015 год  утверждено"},{"$f":"W4","v":"2015 год ожидаемое"},{"$f":"W4","v":"2015 год ожидаемое"},{"$f":"W4","v":"2015 год ожидаемое"},{"$f":"W4","v":"2015 год ожидаемое"},{"$f":"W4","v":"2015 год ожидаемое"},"Всего","ВН","СН1","СН2","НН"]
[null,null,"Всего","ВН","СН1","СН2","НН","Всего","ВН","СН1","СН2","НН","Всего","ВН","СН1","СН2","НН","Всего","ВН","СН1","СН2","НН","Всего","ВН","СН1","СН2","НН",{"$f":"AB5","v":"Всего"},{"$f":"AC5","v":"ВН"},{"$f":"AD5","v":"СН1"},{"$f":"AE5","v":"СН2"},{"$f":"AF5","v":"НН"},"Всего","ВН","СН1","СН2","НН","Всего","ВН","СН1","СН2","НН","Всего","ВН","СН1","СН2","НН","Всего","ВН","СН1","СН2","НН","Всего","ВН","СН1","СН2","НН","Всего","ВН","СН1","СН2","НН","Всего","ВН","СН1","СН2","НН","Всего","ВН","СН1","СН2","НН","Всего","ВН","СН1","СН2","НН","Всего","ВН","СН1","СН2","НН"]
[1,2,3,4,{"$f":"D7+1","v":5},{"$f":"E7+1","v":6},7,8,9,10,11,12,13,14,15,16,17,{"$f":"Q7+1","v":18},{"$f":"R7+1","v":19},{"$f":"S7+1","v":20},{"$f":"T7+1","v":21},{"$f":"U7+1","v":22},{"$f":"Q7+1","v":18},19,20,21,22,23,24,25,26,27,28,29,30,31,32,33,34,35,36,37,38,39,40,41,42,43,44,45,46,47,{"$f":"AU7+1","v":43},{"$f":"BA7+1","v":44},{"$f":"BB7+1","v":45},{"$f":"BC7+1","v":46},{"$f":"BD7+1","v":47},{"$f":"AZ7+1","v":48},49,50,51,52,{"$f":"BJ7+1","v":53},54,55,56,57,58,59,60,61,62,63,64,65,66,67,68,69,70,71,72]
["1.","Поступление мощности в сеть , ВСЕГО ",{"$f":"C9+C15+C16+C17","v":51.773162127316681},3.4666203062046739,6.4818352941176469,51.185598855761484,0.13351442385173248,53.115481708299761,5.8231756647864623,6.4444775181305429,52.798323414423848,0.18550886014665716,52.956515713134571,4.8113414987912977,13.945469298952457,52.365864738114425,0.12124125705076552,{"$f":"R9+R15+R16+R17","v":55.317220789685749},{"$f":"S9+S15+S16+S17","v":0.78439194198227236},{"$f":"T9+T15+T16+T17","v":7.5737439087187743},{"$f":"U9+U15+U16+U17","v":55.057109322625969},{"$f":"V9+V15+V16+V17","v":0.16132198415456203},52.302981466559224,4.8113414987912977,11.386052699435938,51.693309427880742,0.13996776792908944,54.310401772763896,1.4049363416599516,8.0968686543110397,53.891775304705888,0.12199838839645447,0,0,0,0,0,0,0,0,0,0,0,0,0,0,0,{"$f":"AV9+AV15+AV16+AV17","v":0},0,0,0,0,55.317220789685742,0.78439194198227236,0.98986124093473005,54.835569540692994,0.37700911570715168,0,0,0,0,0,0,0,0,0,{"$f":"BO9+BO15+BO16+BO17","v":0},0,0,0,0,0,0,0,0,0,0,0,0,0,0,0]
["1.1.","из собственной сети, всего",{"$f":"D11+E11+F11+G11","v":0},{"$f":"D11+D12+D13+D14","v":0},{"$f":"E11+E12+E13+E14","v":0},{"$f":"F11+F12+F13+F14","v":9.3608923287671217},{"$f":"G11+G12+G13+G14","v":0.13351442385173248},{"$f":"I11+J11+K11+L11","v":0},{"$f":"I11+I12+I13+I14","v":0},{"$f":"J11+J12+J13+J14","v":0},{"$f":"K11+K12+K13+K14","v":11.950494889041099},{"$f":"L11+L12+L13+L14","v":0.18550886014665716},{"$f":"N11+O11+P11+Q11","v":0},{"$f":"N11+N12+N13+N14","v":0},{"$f":"O11+O12+O13+O14","v":0},{"$f":"P11+P12+P13+P14","v":18.166159822723607},{"$f":"Q11+Q12+Q13+Q14","v":0.12124125705076552},{"$f":"S11+T11+U11+V11","v":0},{"$f":"S11+S12+S13+S14","v":0},{"$f":"T11+T12+T13+T14","v":0.76815502878323927},{"$f":"U11+U12+U13+U14","v":7.3298693548580305},{"$f":"V11+V12+V13+V14","v":0.16132198415456203},{"$f":"X11+Y11+Z11+AA11","v":0},{"$f":"X11+X12+X13+X14","v":0},{"$f":"Y11+Y12+Y13+Y14","v":0},{"$f":"Z11+Z12+Z13+Z14","v":15.587722159548749},{"$f":"AA11+AA12+AA13+AA14","v":0.13996776792908944},{"$f":"AC11+AD11+AE11+AF11","v":0},{"$f":"AC11+AC12+AC13+AC14","v":0},{"$f":"AD11+AD12+AD13+AD14","v":0},{"$f":"AE11+AE12+AE13+AE14","v":9.083178527912974},{"$f":"AF11+AF12+AF13+AF14","v":0.12199838839645447},{"$f":"AH11+AI11+AJ11+AK11","v":0},{"$f":"AH11+AH12+AH13+AH14","v":0},{"$f":"AI11+AI12+AI13+AI14","v":0},{"$f":"AJ11+AJ12+AJ13+AJ14","v":0},{"$f":"AK11+AK12+AK13+AK14","v":0},{"$f":"AM11+AN11+AO11+AP11","v":0},{"$f":"AM11+AM12+AM13+AM14","v":0},{"$f":"AN11+AN12+AN13+AN14","v":0},{"$f":"AO11+AO12+AO13+AO14","v":0},{"$f":"AP11+AP12+AP13+AP14","v":0},{"$f":"AR11+AS11+AT11+AU11","v":0},{"$f":"AR11+AR12+AR13+AR14","v":0},{"$f":"AS11+AS12+AS13+AS14","v":0},{"$f":"AT11+AT12+AT13+AT14","v":0},{"$f":"AU11+AU12+AU13+AU14","v":0},{"$f":"AW11+AX11+AY11+AZ11","v":0},{"$f":"AW11+AW12+AW13+AW14","v":0},{"$f":"AX11+AX12+AX13+AX14","v":0},{"$f":"AY11+AY12+AY13+AY14","v":0},{"$f":"AZ11+AZ12+AZ13+AZ14","v":0},{"$f":"BB11+BC11+BD11+BE11","v":0},{"$f":"BB11+BB12+BB13+BB14","v":0},{"$f":"BC11+BC12+BC13+BC14","v":0.53883513295729246},{"$f":"BD11+BD12+BD13+BD14","v":0.75376680096696203},{"$f":"BE11+BE12+BE13+BE14","v":0.37700911570715168},{"$f":"BG11+BH11+BI11+BJ11","v":0},{"$f":"BG11+BG12+BG13+BG14","v":0},{"$f":"BH11+BH12+BH13+BH14","v":0},{"$f":"BI11+BI12+BI13+BI14","v":0},{"$f":"BJ11+BJ12+BJ13+BJ14","v":0},{"$f":"BL11+BM11+BN11+BO11","v":0},{"$f":"BL11+BL12+BL13+BL14","v":0},{"$f":"BM11+BM12+BM13+BM14","v":0},{"$f":"BN11+BN12+BN13+BN14","v":0},{"$f":"BO11+BO12+BO13+BO14","v":0},{"$f":"BQ11+BR11+BS11+BT11","v":0},{"$f":"BQ11+BQ12+BQ13+BQ14","v":0},{"$f":"BR11+BR12+BR13+BR14","v":0},{"$f":"BS11+BS12+BS13+BS14","v":0},{"$f":"BT11+BT12+BT13+BT14","v":0},{"$f":"BV11+BW11+BX11+BY11","v":0},{"$f":"BV11+BV12+BV13+BV14","v":0},{"$f":"BW11+BW12+BW13+BW14","v":0},{"$f":"BX11+BX12+BX13+BX14","v":0},{"$f":"BY11+BY12+BY13+BY14","v":0},{"$f":"CA11+CB11+CC11+CD11","v":0},{"$f":"CA11+CA12+CA13+CA14","v":0},{"$f":"CB11+CB12+CB13+CB14","v":0},{"$f":"CC11+CC12+CC13+CC14","v":0},{"$f":"CD11+CD12+CD13+CD14","v":0}]
[null,"    в том числе из сети"]
[null,"МСК",null,{"$f":"'4'!D11/6205","v":0},{"$f":"'4'!E11/6205","v":0},{"$f":"'4'!F11/6205","v":0},{"$f":"'4'!G11/6205","v":0},null,{"$f":"'4'!I11/6205","v":0},{"$f":"'4'!J11/6205","v":0},{"$f":"'4'!K11/6205","v":0},{"$f":"'4'!L11/6205","v":0},null,{"$f":"'4'!N11/6205","v":0},{"$f":"'4'!O11/6205","v":0},{"$f":"'4'!P11/6205","v":0},{"$f":"'4'!Q11/6205","v":0},null,{"$f":"'4'!S11/6205","v":0},{"$f":"'4'!T11/6205","v":0},{"$f":"'4'!U11/6205","v":0},{"$f":"'4'!V11/6205","v":0},null,{"$f":"'4'!X11/6205","v":0},{"$f":"'4'!Y11/6205","v":0},{"$f":"'4'!Z11/6205","v":0},{"$f":"'4'!AA11/6205","v":0},null,{"$f":"'4'!AC11/6205","v":0},{"$f":"'4'!AD11/6205","v":0},{"$f":"'4'!AE11/6205","v":0},{"$f":"'4'!AF11/6205","v":0},null,null,null,null,null,null,null,null,null,null,null,null,null,null,null,null,null,null,null,null,null,{"$f":"'4'!BB11/6205","v":0},{"$f":"'4'!BC11/6205","v":0},{"$f":"'4'!BD11/6205","v":0},{"$f":"'4'!BE11/6205","v":0}]
[null,"ВН",null,{"$f":"'4'!D12/6205","v":0},{"$f":"'4'!E12/6205","v":0},{"$f":"'4'!F12/6205","v":3.3225580177276388},{"$f":"'4'!G12/6205","v":0},null,{"$f":"'4'!I12/6205","v":0},{"$f":"'4'!J12/6205","v":0},{"$f":"'4'!K12/6205","v":5.6497310927800166},{"$f":"'4'!L12/6205","v":0},null,{"$f":"'4'!N12/6205","v":0},{"$f":"'4'!O12/6205","v":0},{"$f":"'4'!P12/6205","v":4.6481217082997581},{"$f":"'4'!Q12/6205","v":0},null,{"$f":"'4'!S12/6205","v":0},{"$f":"'4'!T12/6205","v":0.76815502878323927},{"$f":"'4'!U12/6205","v":0},{"$f":"'4'!V12/6205","v":0},null,{"$f":"'4'!X12/6205","v":0},{"$f":"'4'!Y12/6205","v":0},{"$f":"'4'!Z12/6205","v":4.5657846897663177},{"$f":"'4'!AA12/6205","v":0},null,{"$f":"'4'!AC12/6205","v":0},{"$f":"'4'!AD12/6205","v":0},{"$f":"'4'!AE12/6205","v":1.3758541593875906},{"$f":"'4'!AF12/6205","v":0},null,null,null,null,null,null,null,null,null,null,null,null,null,null,null,null,null,null,null,null,null,{"$f":"'4'!BB12/6205","v":0},{"$f":"'4'!BC12/6205","v":0.53883513295729246},{"$f":"'4'!BD12/6205","v":0},{"$f":"'4'!BE12/6205","v":0},null,null,null,null,null,null,{"$f":"BG12","v":0},{"$f":"BH12","v":0},0,0,null,{"$f":"BL12","v":0},{"$f":"BM12","v":0},0,0,null,{"$f":"BQ12","v":0},{"$f":"BR12","v":0},0,0,null,{"$f":"BV12","v":0},{"$f":"BW12","v":0},0,0]
[null,"СН1",null,{"$f":"'4'!D13/6205","v":0},{"$f":"'4'!E13/6205","v":0},{"$f":"'4'!F13/6205","v":6.0383343110394838},{"$f":"'4'!G13/6205","v":0},null,{"$f":"'4'!I13/6205","v":0},{"$f":"'4'!J13/6205","v":0},{"$f":"'4'!K13/6205","v":6.3007637962610827},{"$f":"'4'!L13/6205","v":0},null,{"$f":"'4'!N13/6205","v":0},{"$f":"'4'!O13/6205","v":0},{"$f":"'4'!P13/6205","v":13.518038114423849},{"$f":"'4'!Q13/6205","v":0},null,{"$f":"'4'!S13/6205","v":0},{"$f":"'4'!T13/6205","v":0},{"$f":"'4'!U13/6205","v":7.3298693548580305},{"$f":"'4'!V13/6205","v":0},null,{"$f":"'4'!X13/6205","v":0},{"$f":"'4'!Y13/6205","v":0},{"$f":"'4'!Z13/6205","v":11.021937469782431},{"$f":"'4'!AA13/6205","v":0},null,{"$f":"'4'!AC13/6205","v":0},{"$f":"'4'!AD13/6205","v":0},{"$f":"'4'!AE13/6205","v":7.7073243685253825},{"$f":"'4'!AF13/6205","v":0},null,null,null,null,null,null,null,null,null,null,null,null,null,null,null,null,null,null,null,null,null,{"$f":"'4'!BB13/6205","v":0},{"$f":"'4'!BC13/6205","v":0},{"$f":"'4'!BD13/6205","v":0.75376680096696203},{"$f":"'4'!BE13/6205","v":0},null,null,null,null,null,null,{"$f":"BG13","v":0},0,0,0,null,{"$f":"BL13","v":0},0,0,0,null,{"$f":"BQ13","v":0},0,0,0,null,{"$f":"BV13","v":0},0,0,0]
[null,"СН2",null,{"$f":"'4'!D14/6205","v":0},{"$f":"'4'!E14/6205","v":0},{"$f":"'4'!F14/6205","v":0},{"$f":"'4'!G14/6205","v":0.13351442385173248},null,{"$f":"'4'!I14/6205","v":0},{"$f":"'4'!J14/6205","v":0},{"$f":"'4'!K14/6205","v":0},{"$f":"'4'!L14/6205","v":0.18550886014665716},null,{"$f":"'4'!N14/6205","v":0},{"$f":"'4'!O14/6205","v":0},{"$f":"'4'!P14/6205","v":0},{"$f":"'4'!Q14/6205","v":0.12124125705076552},null,{"$f":"'4'!S14/6205","v":0},{"$f":"'4'!T14/6205","v":0},{"$f":"'4'!U14/6205","v":0},{"$f":"'4'!V14/6205","v":0.16132198415456203},null,{"$f":"'4'!X14/6205","v":0},{"$f":"'4'!Y14/6205","v":0},{"$f":"'4'!Z14/6205","v":0},{"$f":"'4'!AA14/6205","v":0.13996776792908944},null,{"$f":"'4'!AC14/6205","v":0},{"$f":"'4'!AD14/6205","v":0},{"$f":"'4'!AE14/6205","v":0},{"$f":"'4'!AF14/6205","v":0.12199838839645447},null,null,null,null,null,null,null,null,null,null,null,null,null,null,null,null,null,null,null,null,null,{"$f":"'4'!BB14/6205","v":0},{"$f":"'4'!BC14/6205","v":0},{"$f":"'4'!BD14/6205","v":0},{"$f":"'4'!BE14/6205","v":0.37700911570715168},null,null,null,null,null,null,0,0,0,0,null,0,0,0,0,null,0,0,0,0,null,0,0,0,0]
["1.2.","от электростанций ПЭ ",{"$f":"SUM(D15:G15)","v":46.822884770346498},{"$f":"'4'!D15/6205","v":0},{"$f":"'4'!E15/6205","v":5.2251858178887991},{"$f":"'4'!F15/6205","v":41.597698952457698},{"$f":"'4'!G15/6205","v":0},{"$f":"SUM(I15:L15)","v":47.202391297340853},{"$f":"'4'!I15/6205","v":0},{"$f":"'4'!J15/6205","v":6.3545627719580979},{"$f":"'4'!K15/6205","v":40.847828525382752},{"$f":"'4'!L15/6205","v":0},{"$f":"SUM(N15:Q15)","v":40.858017727639002},{"$f":"'4'!N15/6205","v":0},{"$f":"'4'!O15/6205","v":6.860878968573731},{"$f":"'4'!P15/6205","v":33.997138759065272},{"$f":"'4'!Q15/6205","v":0},{"$f":"SUM(S15:V15)","v":53.854795165189373},{"$f":"'4'!S15/6205","v":0},{"$f":"'4'!T15/6205","v":6.3545627719580979},{"$f":"'4'!U15/6205","v":47.500232393231272},{"$f":"'4'!V15/6205","v":0},{"$f":"SUM(X15:AA15)","v":42.763900080580179},{"$f":"'4'!X15/6205","v":0},{"$f":"'4'!Y15/6205","v":6.860878968573731},{"$f":"'4'!Z15/6205","v":35.903021112006449},{"$f":"'4'!AA15/6205","v":0},{"$f":"SUM(AC15:AF15)","v":51.033521353746977},{"$f":"'4'!AC15/6205","v":0},{"$f":"'4'!AD15/6205","v":6.860878968573731},{"$f":"'4'!AE15/6205","v":44.172642385173248},{"$f":"'4'!AF15/6205","v":0},{"$f":"SUM(AH15:AK15)","v":0},null,null,null,null,{"$f":"SUM(AM15:AP15)","v":0},null,null,null,null,{"$f":"SUM(AR15:AU15)","v":0},null,null,null,null,{"$f":"SUM(AW15:AZ15)","v":0},null,null,null,null,{"$f":"SUM(BB15:BE15)","v":53.854795165189365},{"$f":"'4'!BB15/6205","v":0},{"$f":"'4'!BC15/6205","v":0},{"$f":"'4'!BD15/6205","v":53.854795165189365},{"$f":"'4'!BE15/6205","v":0},{"$f":"SUM(BG15:BJ15)","v":0},null,null,null,null,{"$f":"SUM(BL15:BO15)","v":0},0,0,0,0,{"$f":"SUM(BQ15:BT15)","v":0},0,0,0,0,{"$f":"SUM(BV15:BY15)","v":0},0,0,0,0,{"$f":"SUM(CA15:CD15)","v":0},0,0,0,0]
["1.3.","от других поставщиков (в т.ч. с оптового рынка)",{"$f":"SUM(D16:G16)","v":0},{"$f":"'4'!D16/6205","v":0},{"$f":"'4'!E16/6205","v":0},{"$f":"'4'!F16/6205","v":0},{"$f":"'4'!G16/6205","v":0},{"$f":"SUM(I16:L16)","v":0},{"$f":"'4'!I16/6205","v":0},{"$f":"'4'!J16/6205","v":0},{"$f":"'4'!K16/6205","v":0},{"$f":"'4'!L16/6205","v":0},{"$f":"SUM(N16:Q16)","v":0},{"$f":"'4'!N16/6205","v":0},{"$f":"'4'!O16/6205","v":0},{"$f":"'4'!P16/6205","v":0},{"$f":"'4'!Q16/6205","v":0},{"$f":"SUM(S16:V16)","v":0},{"$f":"'4'!S16/6205","v":0},{"$f":"'4'!T16/6205","v":0},{"$f":"'4'!U16/6205","v":0},{"$f":"'4'!V16/6205","v":0},{"$f":"SUM(X16:AA16)","v":0},{"$f":"'4'!X16/6205","v":0},{"$f":"'4'!Y16/6205","v":0},{"$f":"'4'!Z16/6205","v":0},{"$f":"'4'!AA16/6205","v":0},{"$f":"SUM(AC16:AF16)","v":0},{"$f":"'4'!AC16/6205","v":0},{"$f":"'4'!AD16/6205","v":0},{"$f":"'4'!AE16/6205","v":0},{"$f":"'4'!AF16/6205","v":0},{"$f":"SUM(AH16:AK16)","v":0},null,null,null,null,{"$f":"SUM(AM16:AP16)","v":0},null,null,null,null,{"$f":"SUM(AR16:AU16)","v":0},null,null,null,null,{"$f":"SUM(AW16:AZ16)","v":0},null,null,null,null,{"$f":"SUM(BB16:BE16)","v":0},{"$f":"'4'!BB16/6205","v":0},{"$f":"'4'!BC16/6205","v":0},{"$f":"'4'!BD16/6205","v":0},{"$f":"'4'!BE16/6205","v":0},{"$f":"SUM(BG16:BJ16)","v":0},null,null,null,null,{"$f":"SUM(BL16:BO16)","v":0},0,0,0,0,{"$f":"SUM(BQ16:BT16)","v":0},0,0,0,0,{"$f":"SUM(BV16:BY16)","v":0},0,0,0,0,{"$f":"SUM(CA16:CD16)","v":0},0,0,0,0]
["1.4.","от других организаций ",{"$f":"SUM(D17:G17)","v":4.9502773569701857},{"$f":"'4'!D17/6205","v":3.4666203062046739},{"$f":"'4'!E17/6205","v":1.256649476228848},{"$f":"'4'!F17/6205","v":0.22700757453666401},{"$f":"'4'!G17/6205","v":0},{"$f":"SUM(I17:L17)","v":5.9130904109589073},{"$f":"'4'!I17/6205","v":5.8231756647864623},{"$f":"'4'!J17/6205","v":8.9914746172445062E-2},{"$f":"'4'!K17/6205","v":0},{"$f":"'4'!L17/6205","v":0},{"$f":"SUM(N17:Q17)","v":12.098497985495568},{"$f":"'4'!N17/6205","v":4.8113414987912977},{"$f":"'4'!O17/6205","v":7.0845903303787257},{"$f":"'4'!P17/6205","v":0.20256615632554392},{"$f":"'4'!Q17/6205","v":0},{"$f":"SUM(S17:V17)","v":1.4624256244963738},{"$f":"'4'!S17/6205","v":0.78439194198227236},{"$f":"'4'!T17/6205","v":0.45102610797743758},{"$f":"'4'!U17/6205","v":0.22700757453666401},{"$f":"'4'!V17/6205","v":0},{"$f":"SUM(X17:AA17)","v":9.5390813859790473},{"$f":"'4'!X17/6205","v":4.8113414987912977},{"$f":"'4'!Y17/6205","v":4.5251737308622069},{"$f":"'4'!Z17/6205","v":0.20256615632554392},{"$f":"'4'!AA17/6205","v":0},{"$f":"SUM(AC17:AF17)","v":3.2768804190169214},{"$f":"'4'!AC17/6205","v":1.4049363416599516},{"$f":"'4'!AD17/6205","v":1.2359896857373085},{"$f":"'4'!AE17/6205","v":0.63595439161966161},{"$f":"'4'!AF17/6205","v":0},{"$f":"SUM(AH17:AK17)","v":0},null,null,null,null,{"$f":"SUM(AM17:AP17)","v":0},null,null,null,null,{"$f":"SUM(AR17:AU17)","v":0},null,null,null,null,{"$f":"SUM(AW17:AZ17)","v":0},null,null,null,null,{"$f":"SUM(BB17:BE17)","v":1.4624256244963738},{"$f":"'4'!BB17/6205","v":0.78439194198227236},{"$f":"'4'!BC17/6205","v":0.45102610797743758},{"$f":"'4'!BD17/6205","v":0.22700757453666401},{"$f":"'4'!BE17/6205","v":0},{"$f":"SUM(BG17:BJ17)","v":0},null,null,null,null,{"$f":"SUM(BL17:BO17)","v":0},0,0,0,0,{"$f":"SUM(BQ17:BT17)","v":0},0,0,0,0,{"$f":"SUM(BV17:BY17)","v":0},0,0,0,0,{"$f":"SUM(CA17:CD17)","v":0},0,0,0,0]
["2.","Потери в сети ",{"$f":"SUM(D18:G18)","v":2.4518863819500405},{"$f":"'4'!D18/6205","v":0.14406228847703464},{"$f":"'4'!E18/6205","v":0.37869518130539892},{"$f":"'4'!F18/6205","v":1.9291289121676067},{"$f":"'4'!G18/6205","v":0},{"$f":"SUM(I18:L18)","v":1.9246556264286865},{"$f":"'4'!I18/6205","v":0.17344457200644639},{"$f":"'4'!J18/6205","v":9.6030885447219924E-2},{"$f":"'4'!K18/6205","v":1.6477412732296535},{"$f":"'4'!L18/6205","v":7.4388957453666383E-3},{"$f":"SUM(N18:Q18)","v":1.9246556003223207},{"$f":"'4'!N18/6205","v":0.16321979049153909},{"$f":"'4'!O18/6205","v":0.3408958098307816},{"$f":"'4'!P18/6205","v":1.4205399999999999},{"$f":"'4'!Q18/6205","v":0},{"$f":"SUM(S18:V18)","v":2.3474925967708131},{"$f":"'4'!S18/6205","v":1.6236913199033035E-2},{"$f":"'4'!T18/6205","v":0.24387455386074453},{"$f":"'4'!U18/6205","v":2.0756530214629989},{"$f":"'4'!V18/6205","v":1.172810824803666E-2},{"$f":"SUM(X18:AA18)","v":2.1997832393231267},{"$f":"'4'!X18/6205","v":0.24555680902497987},{"$f":"'4'!Y18/6205","v":0.2360946011281225},{"$f":"'4'!Z18/6205","v":1.7093356970185334},{"$f":"'4'!AA18/6205","v":8.7961321514907331E-3},{"$f":"SUM(AC18:AF18)","v":2.0705393451081582},{"$f":"'4'!AC18/6205","v":2.9082182272360993E-2},{"$f":"'4'!AD18/6205","v":0.26152365726027399},{"$f":"'4'!AE18/6205","v":1.7710535700396652},{"$f":"'4'!AF18/6205","v":8.8799355358581793E-3},{"$f":"SUM(AH18:AK18)","v":0},null,null,null,null,{"$f":"SUM(AM18:AP18)","v":0},null,null,null,null,{"$f":"SUM(AR18:AU18)","v":0},null,null,null,null,{"$f":"SUM(AW18:AZ18)","v":0},null,null,null,null,{"$f":"SUM(BB18:BE18)","v":2.1288734891216761},{"$f":"'4'!BB18/6205","v":0.24555680902497989},{"$f":"'4'!BC18/6205","v":0.23609443996776794},{"$f":"'4'!BD18/6205","v":1.6384261079774374},{"$f":"'4'!BE18/6205","v":8.7961321514907331E-3},{"$f":"SUM(BG18:BJ18)","v":0},null,null,null,null,{"$f":"SUM(BL18:BO18)","v":0},0,0,0,0,{"$f":"SUM(BQ18:BT18)","v":0},0,0,0,0,{"$f":"SUM(BV18:BY18)","v":0},0,0,0,0,{"$f":"SUM(CA18:CD18)","v":0},0,0,0,0]
[null,"то же в %",{"$f":"IF(C8=0,0,C18/C8*100)","v":4.7358250514437286},4.1556985118672243,5.8424067277530165,3.7688899911160512,0,3.6235303992883527,2.9785220640910657,1.4901267818384321,3.1208212054315174,4.0099948538768952,{"$f":"IF(M8=0,0,M18/M8*100)","v":3.6344075406096952},3.3923967054207869,2.4444914869690955,2.7127213636291998,0,4.2436922232516032,2.0699999999999994,3.2199999999999998,3.7699999999999996,7.2700000000000005,4.2058467369199484,5.1037077515006679,2.0735421428342637,3.3066865246909583,6.2843983880253305,3.8124176539355159,2.0699999999999994,3.2299357742579931,3.2863151381190718,7.2787318361955098,0,0,0,0,0,0,0,0,0,0,0,0,0,0,0,{"$f":"IF(AV8=0,0,AV18/AV8*100)","v":0},0,0,0,0,3.8484823690177481,31.305371190379923,23.851266238571274,2.9878892873750051,2.3331351378578549,0,0,0,0,0,0,0,0,0,{"$f":"IF(BO8=0,0,BO18/BO8*100)","v":0},0,0,0,0,0,0,0,0,0,0,0,0,0,0,0]
["3.","Мощность на производ. и хоз. нужды",{"$f":"SUM(D20:G20)","v":0},null,null,null,null,{"$f":"SUM(I20:L20)","v":0},null,null,null,null,{"$f":"SUM(N20:Q20)","v":0},null,null,null,null,{"$f":"SUM(S20:V20)","v":0},null,null,null,null,{"$f":"SUM(X20:AA20)","v":0},null,null,null,null,{"$f":"SUM(AC20:AF20)","v":0},null,null,null,null,{"$f":"SUM(AH20:AK20)","v":0},null,null,null,null,{"$f":"SUM(AM20:AP20)","v":0},null,null,null,null,{"$f":"SUM(AR20:AU20)","v":0},null,null,null,null,{"$f":"SUM(AW20:AZ20)","v":0},null,null,null,null,{"$f":"SUM(BB20:BE20)","v":0},null,null,null,null,{"$f":"SUM(BG20:BJ20)","v":0},null,null,null,null,{"$f":"SUM(BL20:BO20)","v":0},{"$f":"BG20","v":0},{"$f":"BH20","v":0},{"$f":"BI20","v":0},{"$f":"BJ20","v":0},{"$f":"SUM(BQ20:BT20)","v":0},{"$f":"BL20","v":0},{"$f":"BM20","v":0},{"$f":"BN20","v":0},{"$f":"BO20","v":0},{"$f":"SUM(BV20:BY20)","v":0},{"$f":"BQ20","v":0},{"$f":"BR20","v":0},{"$f":"BS20","v":0},{"$f":"BT20","v":0},{"$f":"SUM(CA20:CD20)","v":0},{"$f":"BV20","v":0},{"$f":"BW20","v":0},{"$f":"BX20","v":0},{"$f":"BY20","v":0}]
["4.","Полезный отпуск мощности ",{"$f":"C22+C23","v":49.321275745366641},{"$f":"D8-D18-D20","v":3.3225580177276393},{"$f":"E8-E18-E20","v":6.1031401128122482},{"$f":"F8-F18-F20","v":49.256469943593878},{"$f":"G8-G18-G20","v":0.13351442385173248},{"$f":"H22+H23","v":51.190826061063653},{"$f":"I8-I18-I20","v":5.6497310927800157},{"$f":"J8-J18-J20","v":6.3484466326833227},{"$f":"K8-K18-K20","v":51.150582141194192},{"$f":"L8-L18-L20","v":0.17806996440129053},{"$f":"M22+M23","v":51.031860112812247},{"$f":"N8-N18-N20","v":4.648121708299759},{"$f":"O8-O18-O20","v":13.604573489121675},{"$f":"P8-P18-P20","v":50.945324738114422},{"$f":"Q8-Q18-Q20","v":0.12124125705076552},{"$f":"R22+R23","v":52.969728192914936},{"$f":"S8-S18-S20","v":0.76815502878323927},{"$f":"T8-T18-T20","v":7.3298693548580296},{"$f":"U8-U18-U20","v":52.981456301162972},{"$f":"V8-V18-V20","v":0.14959387590652537},{"$f":"W22+W23","v":50.103198227236092},{"$f":"X8-X18-X20","v":4.5657846897663177},{"$f":"Y8-Y18-Y20","v":11.149958098307815},{"$f":"Z8-Z18-Z20","v":49.983973730862211},{"$f":"AA8-AA18-AA20","v":0.13117163577759872},{"$f":"AB22+AB23","v":52.239862427655744},{"$f":"AC8-AC18-AC20","v":1.3758541593875906},{"$f":"AD8-AD18-AD20","v":7.8353449970507656},{"$f":"AE8-AE18-AE20","v":52.120721734666226},{"$f":"AF8-AF18-AF20","v":0.11311845286059628},{"$f":"AG22+AG23","v":0},{"$f":"AH8-AH18-AH20","v":0},{"$f":"AI8-AI18-AI20","v":0},{"$f":"AJ8-AJ18-AJ20","v":0},{"$f":"AK8-AK18-AK20","v":0},{"$f":"AL22+AL23","v":0},{"$f":"AM8-AM18-AM20","v":0},{"$f":"AN8-AN18-AN20","v":0},{"$f":"AO8-AO18-AO20","v":0},{"$f":"AP8-AP18-AP20","v":0},{"$f":"AQ22+AQ23","v":0},{"$f":"AR8-AR18-AR20","v":0},{"$f":"AS8-AS18-AS20","v":0},{"$f":"AT8-AT18-AT20","v":0},{"$f":"AU8-AU18-AU20","v":0},{"$f":"AV22+AV23","v":0},{"$f":"AW8-AW18-AW20","v":0},{"$f":"AX8-AX18-AX20","v":0},{"$f":"AY8-AY18-AY20","v":0},{"$f":"AZ8-AZ18-AZ20","v":0},{"$f":"BA22+BA23","v":52.969728192914936},{"$f":"BB8-BB18-BB20","v":0.53883513295729246},{"$f":"BC8-BC18-BC20","v":0.75376680096696214},{"$f":"BD8-BD18-BD20","v":53.197143432715556},{"$f":"BE8-BE18-BE20","v":0.36821298355566096},{"$f":"BF22+BF23","v":0},{"$f":"BG8-BG18-BG20","v":0},{"$f":"BH8-BH18-BH20","v":0},{"$f":"BI8-BI18-BI20","v":0},{"$f":"BJ8-BJ18-BJ20","v":0},{"$f":"BK22+BK23","v":0},{"$f":"BL8-BL18-BL20","v":0},{"$f":"BM8-BM18-BM20","v":0},{"$f":"BN8-BN18-BN20","v":0},{"$f":"BO8-BO18-BO20","v":0},{"$f":"BP22+BP23","v":0},{"$f":"BQ8-BQ18-BQ20","v":0},{"$f":"BR8-BR18-BR20","v":0},{"$f":"BS8-BS18-BS20","v":0},{"$f":"BT8-BT18-BT20","v":0},{"$f":"BU22+BU23","v":0},{"$f":"BV8-BV18-BV20","v":0},{"$f":"BW8-BW18-BW20","v":0},{"$f":"BX8-BX18-BX20","v":0},{"$f":"BY8-BY18-BY20","v":0},{"$f":"BZ22+BZ23","v":0},{"$f":"CA8-CA18-CA20","v":0},{"$f":"CB8-CB18-CB20","v":0},{"$f":"CC8-CC18-CC20","v":0},{"$f":"CD8-CD18-CD20","v":0}]
["4.1.","в т.ч. Заявленная (расчетная) мощность собств. потр.",48.234215149073329,{"$f":"'4'!D22/6205","v":0},{"$f":"'4'!E22/6205","v":0},{"$f":"'4'!F22/6205","v":48.234215149073329},{"$f":"'4'!G22/6205","v":0},50.113808172264299,{"$f":"'4'!I22/6205","v":0},{"$f":"'4'!J22/6205","v":0},{"$f":"'4'!K22/6205","v":50.079481016744559},{"$f":"'4'!L22/6205","v":3.4327155519742143E-2},{"$f":"SUM(N22:Q22)","v":50.115558259468166},{"$f":"'4'!N22/6205","v":0},{"$f":"'4'!O22/6205","v":0},{"$f":"'4'!P22/6205","v":50.115558259468166},{"$f":"'4'!Q22/6205","v":0},{"$f":"SUM(S22:V22)","v":51.824361553108325},{"$f":"'4'!S22/6205","v":0},{"$f":"'4'!T22/6205","v":0},{"$f":"'4'!U22/6205","v":51.824361553108325},{"$f":"'4'!V22/6205","v":0},49.198441579371469,{"$f":"'4'!X22/6205","v":0},{"$f":"'4'!Y22/6205","v":0},{"$f":"'4'!Z22/6205","v":49.198441579371469},{"$f":"'4'!AA22/6205","v":0},51.353158156906346,{"$f":"'4'!AC22/6205","v":0},{"$f":"'4'!AD22/6205","v":0},{"$f":"'4'!AE22/6205","v":51.353158156906346},{"$f":"'4'!AF22/6205","v":0},0,null,null,null,null,0,null,null,null,null,0,null,null,null,null,{"$f":"SUM(AW22:AZ22)","v":0},null,null,null,null,{"$f":"SUM(BB22:BE22)","v":51.824361553108325},{"$f":"'4'!BB22/6205","v":0},{"$f":"'4'!BC22/6205","v":0},{"$f":"'4'!BD22/6205","v":51.824361553108325},{"$f":"'4'!BE22/6205","v":0},{"$f":"SUM(BG22:BJ22)","v":0},null,null,null,null,{"$f":"SUM(BL22:BO22)","v":0},{"$f":"BG22","v":0},0,0,0,{"$f":"SUM(BQ22:BT22)","v":0},{"$f":"BL22","v":0},0,0,0,{"$f":"SUM(BV22:BY22)","v":0},{"$f":"BQ22","v":0},0,0,0,{"$f":"SUM(CA22:CD22)","v":0},{"$f":"BV22","v":0},0,0,0]
["4.2.","Заявленная (расчетная) мощность сторонних потребителей",1.087060596293312,{"$f":"'4'!D23/6205","v":0},{"$f":"'4'!E23/6205","v":6.4805801772763905E-2},{"$f":"'4'!F23/6205","v":0.8887403706688155},{"$f":"'4'!G23/6205","v":0.13351442385173248},1.0770178887993556,{"$f":"'4'!I23/6205","v":0},{"$f":"'4'!J23/6205","v":4.7682836422240131E-2},{"$f":"'4'!K23/6205","v":0.88559226430298155},{"$f":"'4'!L23/6205","v":0.14374278807413376},{"$f":"SUM(N23:Q23)","v":0.91630185334407743},{"$f":"'4'!N23/6205","v":0},{"$f":"'4'!O23/6205","v":8.6535374697824338E-2},{"$f":"'4'!P23/6205","v":0.70852522159548759},{"$f":"'4'!Q23/6205","v":0.12124125705076552},{"$f":"SUM(S23:V23)","v":1.1453666398066076},{"$f":"'4'!S23/6205","v":0},{"$f":"'4'!T23/6205","v":0},{"$f":"'4'!U23/6205","v":0.99577276390008063},{"$f":"'4'!V23/6205","v":0.14959387590652701},0.9047566478646254,{"$f":"'4'!X23/6205","v":0},{"$f":"'4'!Y23/6205","v":0.12802062852538276},{"$f":"'4'!Z23/6205","v":0.64555874294923454},{"$f":"'4'!AA23/6205","v":0.13117727639000806},0.88670427074939573,{"$f":"'4'!AC23/6205","v":0},{"$f":"'4'!AD23/6205","v":0.12802062852538276},{"$f":"'4'!AE23/6205","v":0.64555874294923454},{"$f":"'4'!AF23/6205","v":0.11312489927477841},0,null,null,null,null,0,null,null,null,null,0,null,null,null,null,{"$f":"SUM(AW23:AZ23)","v":0},null,null,null,null,{"$f":"SUM(BB23:BE23)","v":1.1453666398066076},{"$f":"'4'!BB23/6205","v":0},{"$f":"'4'!BC23/6205","v":0},{"$f":"'4'!BD23/6205","v":0.99577276390008063},{"$f":"'4'!BE23/6205","v":0.14959387590652701},{"$f":"SUM(BG23:BJ23)","v":0},null,null,null,null,{"$f":"SUM(BL23:BO23)","v":0},0,0,0,0,{"$f":"SUM(BQ23:BT23)","v":0},0,0,0,0,{"$f":"SUM(BV23:BY23)","v":0},0,0,0,0,{"$f":"SUM(CA23:CD23)","v":0},0,0,0,0]
[null,"в том числе: сальдо переток (транзит) в другие организации",48.169409347300565,{"$f":"'4'!D24/6205","v":0},{"$f":"'4'!E24/6205","v":0},{"$f":"'4'!F24/6205","v":48.169409347300565},{"$f":"'4'!G24/6205","v":0},0,{"$f":"'4'!I24/6205","v":0},{"$f":"'4'!J24/6205","v":0},{"$f":"'4'!K24/6205","v":0},{"$f":"'4'!L24/6205","v":0},{"$f":"SUM(N24:Q24)","v":0},{"$f":"'4'!N24/6205","v":0},{"$f":"'4'!O24/6205","v":0},{"$f":"'4'!P24/6205","v":0},{"$f":"'4'!Q24/6205","v":0},{"$f":"SUM(S24:V24)","v":0},{"$f":"'4'!S24/6205","v":0},{"$f":"'4'!T24/6205","v":0},{"$f":"'4'!U24/6205","v":0},{"$f":"'4'!V24/6205","v":0},0,{"$f":"'4'!X24/6205","v":0},{"$f":"'4'!Y24/6205","v":0},{"$f":"'4'!Z24/6205","v":0},{"$f":"'4'!AA24/6205","v":0},0,{"$f":"'4'!AC24/6205","v":0},{"$f":"'4'!AD24/6205","v":0},{"$f":"'4'!AE24/6205","v":0},{"$f":"'4'!AF24/6205","v":0},0,null,null,null,null,0,null,null,null,null,0,null,null,null,null,{"$f":"SUM(AW24:AZ24)","v":0},null,null,null,null,{"$f":"SUM(BB24:BE24)","v":0},{"$f":"'4'!BB24/6205","v":0},{"$f":"'4'!BC24/6205","v":0},{"$f":"'4'!BD24/6205","v":0},{"$f":"'4'!BE24/6205","v":0},{"$f":"SUM(BG24:BJ24)","v":0},null,null,null,null,{"$f":"SUM(BL24:BO24)","v":0},0,0,0,0,{"$f":"SUM(BQ24:BT24)","v":0},0,0,0,0,{"$f":"SUM(BV24:BY24)","v":0},0,0,0,0,{"$f":"SUM(CA24:CD24)","v":0},0,0,0,0]
["4.3.","сальдо переток в сопредельные регионы",0,{"$f":"'4'!D25/6205","v":0},{"$f":"'4'!E25/6205","v":0},{"$f":"'4'!F25/6205","v":0},{"$f":"'4'!G25/6205","v":0},0,{"$f":"'4'!I25/6205","v":0},{"$f":"'4'!J25/6205","v":0},{"$f":"'4'!K25/6205","v":0},{"$f":"'4'!L25/6205","v":0},{"$f":"SUM(N25:Q25)","v":0},{"$f":"'4'!N25/6205","v":0},{"$f":"'4'!O25/6205","v":0},{"$f":"'4'!P25/6205","v":0},{"$f":"'4'!Q25/6205","v":0},{"$f":"SUM(S25:V25)","v":0},{"$f":"'4'!S25/6205","v":0},{"$f":"'4'!T25/6205","v":0},{"$f":"'4'!U25/6205","v":0},{"$f":"'4'!V25/6205","v":0},0,{"$f":"'4'!X25/6205","v":0},{"$f":"'4'!Y25/6205","v":0},{"$f":"'4'!Z25/6205","v":0},{"$f":"'4'!AA25/6205","v":0},0,{"$f":"'4'!AC25/6205","v":0},{"$f":"'4'!AD25/6205","v":0},{"$f":"'4'!AE25/6205","v":0},{"$f":"'4'!AF25/6205","v":0},0,null,null,null,null,0,null,null,null,null,0,null,null,null,null,{"$f":"SUM(AW25:AZ25)","v":0},null,null,null,null,{"$f":"SUM(BB25:BE25)","v":0},{"$f":"'4'!BB25/6205","v":0},{"$f":"'4'!BC25/6205","v":0},{"$f":"'4'!BD25/6205","v":0},{"$f":"'4'!BE25/6205","v":0},{"$f":"SUM(BG25:BJ25)","v":0},null,null,null,null,{"$f":"SUM(BL25:BO25)","v":0},0,0,0,0,{"$f":"SUM(BQ25:BT25)","v":0},0,0,0,0,{"$f":"SUM(BV25:BY25)","v":0},0,0,0,0,{"$f":"SUM(CA25:CD25)","v":0},0,0,0,0]
["5.","проверка",null,{"$f":"D21-D22-D23-D25-E12-F12-G12","v":4.4408920985006262E-16},{"$f":"E21-E22-E23-E25-F13-G13","v":8.8817841970012523E-16},{"$f":"F21-F22-F23-F25-G14","v":1.1379786002407855E-15},{"$f":"G21-G22-G23-G25","v":0},null,{"$f":"I21-I22-I23-I25-J12-K12-L12","v":-8.8817841970012523E-16},{"$f":"J21-J22-J23-J25-K13-L13","v":0},{"$f":"K21-K22-K23-K25-L14","v":-5.3568260938163803E-15},{"$f":"L21-L22-L23-L25","v":2.0807414624623988E-8},null,{"$f":"N21-N22-N23-N25-O12-P12-Q12","v":8.8817841970012523E-16},{"$f":"O21-O22-O23-O25-P13-Q13","v":1.7763568394002505E-15},{"$f":"P21-P22-P23-P25-Q14","v":3.0808688933348094E-15},{"$f":"Q21-Q22-Q23-Q25","v":0},null,{"$f":"S21-S22-S23-S25-T12-U12-V12","v":0},{"$f":"T21-T22-T23-T25-U13-V13","v":-8.8817841970012523E-16},{"$f":"U21-U22-U23-U25-V14","v":3.858025010572419E-15},{"$f":"V21-V22-V23-V25","v":-1.6375789613221059E-15},null,{"$f":"X21-X22-X23-X25-Y12-Z12-AA12","v":0},{"$f":"Y21-Y22-Y23-Y25-Z13-AA13","v":1.7763568394002505E-15},{"$f":"Z21-Z22-Z23-Z25-AA14","v":5.6406124176455741E-6},{"$f":"AA21-AA22-AA23-AA25","v":-5.640612409346657E-6},null,{"$f":"AC21-AC22-AC23-AC25-AD12-AE12-AF12","v":0},{"$f":"AD21-AD22-AD23-AD25-AE13-AF13","v":0},{"$f":"AE21-AE22-AE23-AE25-AF14","v":6.4464141909248429E-6},{"$f":"AF21-AF22-AF23-AF25","v":-6.4464141821263254E-6},null,{"$f":"AH21-AH22-AH23-AH25-AI12-AJ12-AK12","v":0},{"$f":"AI21-AI22-AI23-AI25-AJ13-AK13","v":0},{"$f":"AJ21-AJ22-AJ23-AJ25-AK14","v":0},{"$f":"AK21-AK22-AK23-AK25","v":0},null,{"$f":"AM21-AM22-AM23-AM25-AN12-AO12-AP12","v":0},{"$f":"AN21-AN22-AN23-AN25-AO13-AP13","v":0},{"$f":"AO21-AO22-AO23-AO25-AP14","v":0},{"$f":"AP21-AP22-AP23-AP25","v":0},null,{"$f":"AR21-AR22-AR23-AR25-AS12-AT12-AU12","v":0},{"$f":"AS21-AS22-AS23-AS25-AT13-AU13","v":0},{"$f":"AT21-AT22-AT23-AT25-AU14","v":0},{"$f":"AU21-AU22-AU23-AU25","v":0},null,{"$f":"AW21-AW22-AW23-AW25-AX12-AY12-AZ12","v":0},{"$f":"AX21-AX22-AX23-AX25-AY13-AZ13","v":0},{"$f":"AY21-AY22-AY23-AY25-AZ14","v":0},{"$f":"AZ21-AZ22-AZ23-AZ25","v":0},null,{"$f":"BB21-BB22-BB23-BB25-BC12-BD12-BE12","v":0},{"$f":"BC21-BC22-BC23-BC25-BD13-BE13","v":1.1102230246251565E-16},{"$f":"BD21-BD22-BD23-BD25-BE14","v":-9.9920072216264089E-16},{"$f":"BE21-BE22-BE23-BE25","v":0.21861910764913395},null,{"$f":"BG21-BG22-BG23-BG25-BH12-BI12-BJ12","v":0},{"$f":"BH21-BH22-BH23-BH25-BI13-BJ13","v":0},{"$f":"BI21-BI22-BI23-BI25-BJ14","v":0},{"$f":"BJ21-BJ22-BJ23-BJ25","v":0},null,{"$f":"BL21-BL22-BL23-BL25-BM12-BN12-BO12","v":0},{"$f":"BM21-BM22-BM23-BM25-BN13-BO13","v":0},{"$f":"BN21-BN22-BN23-BN25-BO14","v":0},{"$f":"BO21-BO22-BO23-BO25","v":0},null,{"$f":"BQ21-BQ22-BQ23-BQ25-BR12-BS12-BT12","v":0},{"$f":"BR21-BR22-BR23-BR25-BS13-BT13","v":0},{"$f":"BS21-BS22-BS23-BS25-BT14","v":0},{"$f":"BT21-BT22-BT23-BT25","v":0},null,{"$f":"BV21-BV22-BV23-BV25-BW12-BX12-BY12","v":0},{"$f":"BW21-BW22-BW23-BW25-BX13-BY13","v":0},{"$f":"BX21-BX22-BX23-BX25-BY14","v":0},{"$f":"BY21-BY22-BY23-BY25","v":0},null,{"$f":"CA21-CA22-CA23-CA25-CB12-CC12-CD12","v":0},{"$f":"CB21-CB22-CB23-CB25-CC13-CD13","v":0},{"$f":"CC21-CC22-CC23-CC25-CD14","v":0},{"$f":"CD21-CD22-CD23-CD25","v":0}]
[]
[null,"Руководитель организации",null,null,null,null,null,null,"К.Ю. Вергазов"]
[]
[null,"Должностное лицо, ответственное за составление формы",null,null,null,null,null,null,"О.В. Костюкова"]

{"sheet":"динамика потерь","index":8,"n_rows":36,"n_cols":10,"rows_kept":36,"cut":false,"hidden":false,"merged":[[3,1,5,1],[3,2,5,2],[1,0,1,7],[2,0,2,7],[20,1,21,1],[20,0,21,0],[3,3,5,3],[3,4,5,4],[3,5,5,5],[3,7,5,7],[3,6,5,6],[3,0,5,0]]}
[]
["Анализ основных технико-экономических показателей  и определение уровня потерь"]
[{"$f":"Анкета!B3","v":"АО \"Чепецкий механический завод\""}]
["№ п.п.","Показатели","Единица измерения","2011 год факт","2013 год факт","2014 год факт","2015 год ожидаемое","2016 год план организации"]
[null,null,null,{"$f":"D4","v":"2011 год факт"},{"$f":"E4","v":"2013 год факт"},{"$f":"F4","v":"2014 год факт"},{"$f":"G4","v":"2015 год ожидаемое"},{"$f":"H4","v":"2016 год план организации"}]
[null,null,null,"Всего","Всего","Всего","Всего","Всего"]
[1,2,3,4,6,7,8,7]
["1.","Поступление эл.энергии в сеть , ВСЕГО ","тыс. кВтч",null,{"$f":"'4'!C8","v":321252.47100000002},{"$f":"'4'!M8","v":328595.18},{"$f":"'4'!W8","v":324540},{"$f":"'4'!AB8","v":336996.04300000001}]
["1.1.","для собственного потребления","тыс. кВтч",{"$f":"D8-D10","v":0},{"$f":"E8-E10","v":314187.81860768929},{"$f":"F8-F10","v":322702.88719863509},{"$f":"G8-G10","v":318689.86813331232},{"$f":"H8-H10","v":331284.28378068045}]
["1.2.","для сторонних потребителей","тыс. кВтч",{"$f":"D19+D13","v":0},{"$f":"E19+E13","v":7064.6523923107379},{"$f":"F19+F13","v":5892.2928013649016},{"$f":"G19+G13","v":5850.1318666876969},{"$f":"H19+H13","v":5711.7592193195323}]
["2.","Потери электроэнергии в сети ВСЕГО","тыс. кВтч",null,{"$f":"'4'!C18","v":15213.955},{"$f":"'4'!M18","v":11942.487999999999},{"$f":"'4'!W18","v":13649.655000000001},{"$f":"'4'!AB18","v":12847.696636396124}]
["2.1.","потери, относимые на собственное потреление","тыс. кВтч",{"$f":"D11-D13","v":0},{"$f":"E11-E13","v":14894.513607689261},{"$f":"F11-F13","v":11735.848198635098},{"$f":"G11-G13","v":13413.538133312304},{"$f":"H11-H13","v":12637.937417076591}]
["2.2.","потери, относимые на сторонних потребителей","тыс. кВтч",null,{"$f":"(E19/E8)*E11","v":319.44139231073802},{"$f":"(F19/F8)*F11","v":206.63980136490136},236.11686668769647,209.75921931953212]
["3.","Относительные потери  (п.2./п.1.)","%",{"$f":"IF(D8=0,0,D11/D8)","v":0},4.7358250514437282E-2,3.6344075406096944E-2,4.2058467369199486E-2,{"$f":"IF(H8=0,0,H11/H8)","v":3.812417653935516E-2}]
["3.1."," на собственное потреление","%",0,4.7406400648165488E-2,3.6367347997761382E-2,4.2089628427412817E-2,{"$f":"IF(H9=0,0,H12/H9)","v":3.8148315618386726E-2}]
["3.2."," на сторонних потребителей","%",0,4.5216859170370834E-2,3.5069506613288962E-2,{"$f":"IF(G10=0,0,G13/G10)","v":4.036094776464999E-2},{"$f":"IF(H10=0,0,H13/H10)","v":3.6724100450530144E-2}]
["4.","Полезный отпуск из сети ","тыс. кВтч",{"$f":"D8-D11","v":0},306038.516,316652.69199999998,310890.34499999997,{"$f":"H8-H11","v":324148.34636360389}]
["4.1.","собственное потребление","тыс. кВтч",0,299293.30500000005,310967.03899999999,305276.33,{"$f":"H9-H12","v":318646.34636360384}]
["4.2.","сторонним потребителям (сетевым организациям)","тыс. кВтч",null,{"$f":"'4'!C23","v":6745.2110000000002},{"$f":"'4'!M23","v":5685.6530000000002},{"$f":"'4'!W23","v":5614.0150000000003},{"$f":"'4'!AB23","v":5502}]
["5.","Потери на сторонних потребителей в соответствии с балансом ФСТ (при отсутствии информации не заполняется)","тыс. кВтч"]
["6.","Потери на сторонних потребителей в соответствии с тарифным решением (величина потерь/уровень потерь)","тыс. кВтч",null,{"$f":"E19/100*E22","v":0},{"$f":"F19/100*F22","v":0},{"$f":"G19/100*G22","v":0},{"$f":"H19/100*H22","v":0}]
[null,null,"%"]
[null,"ВН","%",null,null,{"$f":"'4'!I19/100","v":2.9785220640910656E-2},{"$f":"'4'!S19/100","v":2.0699999999999993E-2},{"$f":"+'4'!AC19/100","v":2.0699999999999993E-2}]
[null,"СН1","%",null,null,{"$f":"'4'!J19/100","v":1.4901267818384321E-2},{"$f":"'4'!T19/100","v":3.2199999999999999E-2},{"$f":"+'4'!AD19/100","v":3.2299357742579929E-2}]
[null,"СН2","%",null,null,{"$f":"'4'!K19/100","v":3.1208212054315173E-2},{"$f":"'4'!U19/100","v":3.7699999999999997E-2},{"$f":"+'4'!AE19/100","v":3.2863151381190725E-2}]
[null,"НН","%",null,null,{"$f":"'4'!L19/100","v":4.0099948538768949E-2},{"$f":"'4'!V19/100","v":7.2700000000000001E-2},{"$f":"+'4'!AF19/100","v":7.2787318361955095E-2}]
["7.","Норматив потерь в соответствии с приказом Минэнерго","%",null,3.73E-2,3.6200000000000003E-2,3.9899999999999998E-2]
[null,"ВН","%",null,null,null,null,null,{"$f":"IF(P2.1!K27=0,0,'4'!#REF!/P2.1!K27)","v":{"$error":"#REF!"}}]
[null,"СН1","%",null,null,null,null,null,{"$f":"IF(P2.1!K38=0,0,'4'!#REF!/P2.1!K38)","v":{"$error":"#REF!"}}]
[null,"СН2","%",null,null,null,null,null,{"$f":"IF(P2.1!K39=0,0,'4'!#REF!/P2.1!K39)","v":{"$error":"#REF!"}},{"$f":"IF(P2.1!K39=0,0,(P2.1!K39-P2.1!K37)/P2.1!K39)","v":0}]
[null,"НН","%",null,null,null,null,null,{"$f":"IF(P2.1!K44=0,0,'4'!#REF!/P2.1!K44)","v":{"$error":"#REF!"}},{"$f":"IF(P2.1!K44=0,0,(P2.1!K44-P2.1!K43)/P2.1!K44)","v":0}]
["8.","Плановое снижение  потерь в сетях  в соответствии с программой энергосбережения","%"]
[null,"Руководитель организации",null,null,null,null,"К.Ю.Вергазов"]
[null,null,null,null,null,"         (подпись)                             (Ф.И.О.)"]
[null,"Должностное лицо, ответственное за составление формы",null,null,null,null,"О.В. Костюкова"]
[null,null,null,null,null,"         (подпись)                             (Ф.И.О.)"]

{"sheet":"15","index":9,"n_rows":47,"n_cols":17,"rows_kept":47,"cut":false,"hidden":false,"merged":[[46,1,46,2],[3,2,3,15],[3,16,4,16],[1,0,1,13],[3,0,4,0],[3,1,4,1],[44,1,44,2]]}
[null,{"$f":"Анкета!B3","v":"АО \"Чепецкий механический завод\""},null,null,null,null,null,null,null,null,null,null,null,null,null,"Таблица № П1.15."]
["Смета расходов "]
[null,null,null,null,null,null,null,null,null,null,null,null,null,null,null,"тыс. руб."]
["№ п.п.","Наименование показателя","Передача электрической энергии",null,null,null,null,null,null,null,null,null,null,null,null,null,"Прирост 2016 г.к 2015 г.(по предложению организации, %"]
[null,null,"2013 год утверждено","2013 год  факт","2014 год утверждено","2014 год  факт","2015 год  утверждено","2015 год  факт 1 квартал","2015 год  ожидаемое","2016 год предложение организации","2017 год предложение организации","2018 год предложение организации","2019 год предложение организации","2020 год предложение организации","2016 год утверждено до корректировки","2016 год  признано обоснованным регулирующим органом с учетом корректировки"]
[1,{"$f":"A6+1","v":2},3,4,5,6,7,8,9,10,{"$f":"J6+1","v":11},{"$f":"K6+1","v":12},{"$f":"L6+1","v":13},{"$f":"M6+1","v":14},11,12,13]
["1.","Сырье, основные материалы",0,0,null,null,null,null,null,null,null,null,null,null,null,null,{"$f":"IF(ISERROR(#REF!/G7),0,#REF!/G7)","v":0}]
["2.","Вспомогательные материалы",837.29518900000005,937.8,876.76083300000005,348.81,1031.2950000000001,2.0499999999999998,390,450,null,null,null,null,1079.77,null,{"$f":"IF(ISERROR(#REF!/G8),0,#REF!/G8)","v":0}]
["2.1.","из них на ремонт",0,0,0,null,0,null,null,null,null,null,null,null,null,null,{"$f":"IF(ISERROR(#REF!/G9),0,#REF!/G9)","v":0}]
["3.","Работы и услуги производ. характера",5439.9267149999996,26812.293000000001,5696.3359399999999,26184.36,19632.186440000001,1815.39,28045,32251.75,null,null,null,null,37215.620000000003,null,{"$f":"IF(ISERROR(#REF!/G10),0,#REF!/G10)","v":0}]
["3.1.","из них на ремонт",5439.9267149999996,4029.2930000000001,5696.3359399999999,6270.8720000000003,4552.1864400000004,459.44499999999999,7001,8051,null,null,null,null,10906.6,null,{"$f":"IF(ISERROR(#REF!/G11),0,#REF!/G11)","v":0}]
["4.","Топливо на технологические цели",0,0,0,null,null,null,null,null,null,null,null,null,null,null,{"$f":"IF(ISERROR(#REF!/G12),0,#REF!/G12)","v":0}]
["5.","Энергия ",489.841071,621.81399999999996,619.92341099999999,{"$f":"F15","v":1011.47},{"$f":"G15","v":721.87382200000002},261.60000000000002,799.64,919.5,0,0,0,0,830.93,null,{"$f":"IF(ISERROR(#REF!/G13),0,#REF!/G13)","v":0}]
["5.1.","Энергия на технологические цели (покупная энергия)",null,null,null,null,null,null,null,null,null,null,null,null,null,null,{"$f":"IF(ISERROR(#REF!/G14),0,#REF!/G14)","v":0}]
["5.2.","Энергия на хозяйственные нужды",489.841071,621.81399999999996,619.92341099999999,1011.47,721.87382200000002,261.60000000000002,799.64,919.5,null,null,null,null,830.93,null,{"$f":"IF(ISERROR(#REF!/G15),0,#REF!/G15)","v":0}]
["6.","Затраты на оплату труда",12342.610194999999,0,12924.375222000001,241.51,null,null,null,null,null,null,null,null,null,null,{"$f":"IF(ISERROR(#REF!/G16),0,#REF!/G16)","v":0}]
["6.1.","из них на ремонт",0,0,0,null,null,null,null,null,null,null,null,null,null,null,{"$f":"IF(ISERROR(#REF!/G17),0,#REF!/G17)","v":0}]
["7.","Страховые взносы социального характера",4258.2005170000002,0,3940.6420050000002,77.209999999999994,null,null,null,null,null,null,null,null,null,null,{"$f":"IF(ISERROR(#REF!/G18),0,#REF!/G18)","v":0}]
["7.1.","из них на ремонт",0,0,0,null,null,null,null,null,null,null,null,null,null,null,{"$f":"IF(ISERROR(#REF!/G19),0,#REF!/G19)","v":0}]
["8.","Амортизация основных фондов",16818.778290999999,34018.082060000001,27168.911086,36069.19,38855.199999999997,8606.2199999999993,39088.11,39221.440000000002,null,null,null,null,42395.56,null,{"$f":"IF(ISERROR(#REF!/G20),0,#REF!/G20)","v":0}]
["9.","Прочие затраты всего",{"$f":"C23+C24+C25+C26+C27+C28+C29+C32","v":22289.263335},7784.1610000000001,26999.317697000002,14105.13,21164.514195,2178.2800000000002,8516.41,8468.5,0,0,0,0,15391.34,0,{"$f":"IF(ISERROR(#REF!/G21),0,#REF!/G21)","v":0}]
[null,"    в том числе:"]
["9.1.","Целевые средства на НИОКР",null,null,null,null,null,null,null,null,null,null,null,null,null,null,{"$f":"IF(ISERROR(#REF!/G23),0,#REF!/G23)","v":0}]
["9.2.","Средства на страхование",null,0,null,1098.8499999999999,1618.77296,290.10000000000002,1191.69,1370.5,null,null,null,null,1774.51,null,{"$f":"IF(ISERROR(#REF!/G24),0,#REF!/G24)","v":0}]
["9.3.","Плата за предельно допустимые выбросы (сбросы)",null,null,null,null,null,null,null,null,null,null,null,null,null,null,{"$f":"IF(ISERROR(#REF!/G25),0,#REF!/G25)","v":0}]
["9.4.","Услуги ФСК",null,null,null,null,null,null,null,null,null,null,null,null,null,null,{"$f":"IF(ISERROR(#REF!/G26),0,#REF!/G26)","v":0}]
["9.5.","Отчисления в ремонтный фонд (в случае его формирования)",null,null,null,null,null,null,null,null,null,null,null,null,null,null,{"$f":"IF(ISERROR(#REF!/G27),0,#REF!/G27)","v":0}]
["9.6.","Водный налог (ГЭС)",null,null,null,null,null,0,0,0,0,0,0,0]
["9.7.","Непроизводственные расходы (налоги и другие обязательные платежи и сборы)",5986.2901009999996,0,3165.7617599999999,{"$f":"F31","v":6739.37},{"$f":"G31","v":6624.28},1888.18,7324.72,7098,0,0,0,0,6624.28,null,{"$f":"IF(ISERROR(#REF!/G29),0,#REF!/G29)","v":0}]
["9.7.1.","Налог на землю",7.1128,null,0,null,null,null,null,null,null,null,null,null,null,null,{"$f":"IF(ISERROR(#REF!/G30),0,#REF!/G30)","v":0}]
["9.7.2.","Налог на имущество",null,null,null,6739.37,6624.28,1888.18,7324.72,7098,null,null,null,null,6624.28,null,{"$f":"IF(ISERROR(#REF!/G31),0,#REF!/G31)","v":0}]
["9.8.","Другие затраты, относимые на себестоимость продукции, всего",{"$f":"SUM(C34:C37)","v":16302.973234000001},7784.1610000000001,23833.555937000001,6266.91,12921.461235000001,0,0,0,0,0,0,0,6992.55,0,{"$f":"IF(ISERROR(#REF!/G32),0,#REF!/G32)","v":0}]
[" ","    в том числе:"]
[null,"Арендная плата",8048.0309999999999,7784.1610000000001,6264.2709999999997,6266.91,6148.1686040000004,null,null,null,null,null,null,null,6992.55,null,{"$f":"IF(ISERROR(#REF!/G34),0,#REF!/G34)","v":0}]
[null,"Прочие другие затраты",8254.9422340000001,null,17569.284937,null,6773.2926310000003,null,null,null,null,null,null,null,null,null,{"$f":"IF(ISERROR(#REF!/G35),0,#REF!/G35)","v":0}]
[null,"Расходы на содержание бесхозяйных сетей"]
[null,null,null,null,null,null,null,null,null,null,null,null,null,null,null,null,{"$f":"IF(ISERROR(#REF!/G37),0,#REF!/G37)","v":0}]
["10.","Итого затрат",{"$f":"C8+C10+C12+C13+C14+C16+C18+C20+C21","v":62475.91531299999},{"$f":"D8+D10+D12+D13+D14+D16+D18+D20+D21","v":70174.15006},78226.266194000011,78037.680000000008,81405.069457000005,12863.539999999999,76839.16,81311.19,0,0,0,0,96913.22,0,{"$f":"IF(ISERROR(#REF!/G38),0,#REF!/G38)","v":0}]
["10.1.","из них на ремонт",{"$f":"C9+C11+C17+C19","v":5439.9267149999996},{"$f":"D9+D11+D17+D19","v":4029.2930000000001},5696.3359399999999,6270.8720000000003,4552.1864400000004,459.44499999999999,7001,8051,0,0,0,0,10906.6,0,{"$f":"IF(ISERROR(#REF!/G39),0,#REF!/G39)","v":0}]
["11.","Недополученный по независящим причинам доход",null,null,null,null,null,null,null,null,null,null,null,null,null,null,{"$f":"IF(ISERROR(#REF!/G40),0,#REF!/G40)","v":0}]
["12.","Избыток средств, полученный в предыдущем периоде регулирования",null,null,null,null,null,null,null,null,null,null,null,null,null,null,{"$f":"IF(ISERROR(#REF!/G41),0,#REF!/G41)","v":0}]
["13.","Всего себестоимость товарной продукции ",{"$f":"C38+C40-C41","v":62475.91531299999},{"$f":"D38+D40-D41","v":70174.15006},78226.266194000011,78037.680000000008,81405.069457000005,12863.539999999999,76839.16,81311.19,0,0,0,0,96913.22,0,{"$f":"IF(ISERROR(#REF!/G42),0,#REF!/G42)","v":0}]
[]
[]
[null,"Руководитель организации",null,null,null,null,null,null,null,"         (подпись)                             (Ф.И.О.)",null,null,null,null,"К. Ю.Вергазов"]
[]
[null,"Должностное лицо, ответственное за составление формы",null,null,null,null,null,null,null,"         (подпись)                             (Ф.И.О.)",null,null,null,null,"О. В. Костюкова"]

{"sheet":"16","index":10,"n_rows":54,"n_cols":15,"rows_kept":54,"cut":false,"hidden":false,"merged":[[2,11,3,12],[2,13,3,14],[2,10,4,10],[1,0,1,12],[2,3,3,4],[2,7,3,8],[53,1,53,2],[2,0,4,0],[2,1,4,1],[2,2,4,2],[0,4,0,9],[2,5,3,6],[2,9,4,9],[51,1,51,2]]}
[null,{"$f":"Анкета!B3","v":"АО \"Чепецкий механический завод\""},null,null,"Таблица № П1.16."]
["Затраты на оплату труда"]
["№ п.п.","Показатели","Единица измере-ния",2013,null,2014,null,2015,null,"2016 (предложение организации)","2016 (признано обоснованным регулирующим органом)",{"$f":"\"Темп роста к \" & 2015 & \", %\"","v":"Темп роста к 2015, %"},null,{"$f":"\"Темп роста к \" & 2014 & \", %\"","v":"Темп роста к 2014, %"}]
[]
[null,null,null,"План (утв. органами регулиро-вания)","Факт","План (утв. органами регулиро-вания)","Факт","План (утв. органами регулиро-вания)","Ожида-емое",null,null,"План","Факт ","План","Факт "]
["1.","ЧИСЛЕННОСТЬ"]
["1.1.","Нормативная численность","чел.",0,0,0,0,null,null,null,null,{"$f":"IF(H7=0,0,(K7/H7*100))","v":0},{"$f":"IF(I7=0,0,(K7/I7*100))","v":0},{"$f":"IF(D7=0,0,(K7/D7*100))","v":0},{"$f":"IF(E7=0,0,(K7/E7*100))","v":0}]
[null,null,null,null,null,null,null,null,null,null,null,{"$f":"IF(H8=0,0,(K8/H8*100))","v":0},{"$f":"IF(I8=0,0,(K8/I8*100))","v":0}]
[null,null,null,null,null,null,null,null,null,null,null,{"$f":"IF(H9=0,0,(K9/H9*100))","v":0},0]
[null,null,null,null,null,null,null,null,null,null,null,{"$f":"IF(H10=0,0,(K10/H10*100))","v":0},0]
["1.2.","Фактическая численность","чел.",null,null,null,null,null,null,null,null,{"$f":"IF(H11=0,0,(K11/H11*100))","v":0},0,{"$f":"IF(D11=0,0,(K11/D11*100))","v":0},{"$f":"IF(E11=0,0,(K11/E11*100))","v":0}]
[null,null,null,null,null,null,null,null,null,null,null,null,0]
[null,null,null,null,null,null,null,null,null,null,null,null,0]
["1.3.","Численность, принятая для расчета","чел.",null,null,null,null,null,null,null,null,{"$f":"IF(H14=0,0,(K14/H14*100))","v":0},0,{"$f":"IF(D14=0,0,(K14/D14*100))","v":0},{"$f":"IF(E14=0,0,(K14/E14*100))","v":0}]
["2.","СРЕДНЯЯ  ЗАРПЛАТА"]
["2.1.","Тарифная ставка рабочего 1-го разряда","руб.",null,null,null,null,null,null,null,null,{"$f":"IF(H16=0,0,(K16/H16*100))","v":0},0,{"$f":"IF(D16=0,0,(K16/D16*100))","v":0},{"$f":"IF(E16=0,0,(K16/E16*100))","v":0}]
["2.2.","Средняя ступень оплаты труда",null,null,null,null,null,null,null,null,null,0,0,{"$f":"IF(D17=0,0,(K17/D17*100))","v":0},{"$f":"IF(E17=0,0,(K17/E17*100))","v":0}]
["2.3.","Тарифный коэффициент, соответствующий ступени по оплате труда",null,null,null,null,null,null,null,null,null,0,0,{"$f":"IF(D18=0,0,(K18/D18*100))","v":0},{"$f":"IF(E18=0,0,(K18/E18*100))","v":0}]
["2.4.","Среднемесячная тарифная ставка ППП","руб.",{"$f":"D16*D18","v":0},0,0,0,null,null,0,0,0,0,{"$f":"IF(D19=0,0,(K19/D19*100))","v":0},{"$f":"IF(E19=0,0,(K19/E19*100))","v":0}]
["2.5.","Выплаты, связанные с режимом работы, с условиями труда 1 работника:"]
[null,"  - процент выплаты","%",null,null,null,null,null,null,null,null,0,0,{"$f":"IF(D21=0,0,(K21/D21*100))","v":0},{"$f":"IF(E21=0,0,(K21/E21*100))","v":0}]
[null,"  - сумма выплат","руб.",{"$f":"D19*D21 / 100","v":0},0,0,0,null,null,0,0,0,0,{"$f":"IF(D22=0,0,(K22/D22*100))","v":0},{"$f":"IF(E22=0,0,(K22/E22*100))","v":0}]
["2.6.","Текущее премирование:"]
[null,"  - процент выплаты","%",null,null,null,null,null,null,null,null,0,0,{"$f":"IF(D24=0,0,(K24/D24*100))","v":0},{"$f":"IF(E24=0,0,(K24/E24*100))","v":0}]
[null,"  - сумма выплат","руб.",{"$f":"(D19+D22)*D24 / 100","v":0},0,0,0,null,null,0,0,0,0,{"$f":"IF(D25=0,0,(K25/D25*100))","v":0},{"$f":"IF(E25=0,0,(K25/E25*100))","v":0}]
["2.7.","Вознаграждение за выслугу лет:"]
[null,"  - процент выплаты","%",null,null,null,null,null,null,null,null,0,0,{"$f":"IF(D27=0,0,(K27/D27*100))","v":0},{"$f":"IF(E27=0,0,(K27/E27*100))","v":0}]
[null,"  - сумма выплат","руб.",{"$f":"D19*D27 / 100","v":0},0,0,0,null,null,0,0,0,0,{"$f":"IF(D28=0,0,(K28/D28*100))","v":0},{"$f":"IF(E28=0,0,(K28/E28*100))","v":0}]
["2.8.","Выплаты по итогам года:"]
[null,"  - процент выплаты","%",null,null,null,null,null,null,null,null,0,0,{"$f":"IF(D30=0,0,(K30/D30*100))","v":0},{"$f":"IF(E30=0,0,(K30/E30*100))","v":0}]
[null,"  - сумма выплат","руб.",{"$f":"(D19*D30 / 100)","v":0},0,0,0,null,null,0,0,0,0,{"$f":"IF(D31=0,0,(K31/D31*100))","v":0},{"$f":"IF(E31=0,0,(K31/E31*100))","v":0}]
["2.9.","Выплаты <______________>:"]
[null,"  - процент выплаты","%",null,null,null,null,null,null,null,null,0,0,{"$f":"IF(D33=0,0,(K33/D33*100))","v":0},{"$f":"IF(E33=0,0,(K33/E33*100))","v":0}]
[null,"  - сумма выплат","руб.",{"$f":"(D19*D33 / 100)","v":0},0,0,0,null,null,0,0,0,0,{"$f":"IF(D34=0,0,(K34/D34*100))","v":0},{"$f":"IF(E34=0,0,(K34/E34*100))","v":0}]
["2.10.","Выплаты <______________>:"]
[null,"  - процент выплаты","%",null,null,null,null,null,null,null,null,0,0,{"$f":"IF(D36=0,0,(K36/D36*100))","v":0},{"$f":"IF(E36=0,0,(K36/E36*100))","v":0}]
[null,"  - сумма выплат","руб.",{"$f":"(D19*D36 / 100)","v":0},0,0,0,null,null,0,0,0,0,{"$f":"IF(D37=0,0,(K37/D37*100))","v":0},{"$f":"IF(E37=0,0,(K37/E37*100))","v":0}]
["2.11.","Выплаты по районному коэффициенту и северные надбавки:"]
[null,"  - процент выплаты","%",null,null,null,null,null,null,null,null,0,0,{"$f":"IF(D39=0,0,(K39/D39*100))","v":0},{"$f":"IF(E39=0,0,(K39/E39*100))","v":0}]
[null,"  - сумма выплат","руб.",{"$f":"(D19+D22+D25+D28+D31)*D39 / 100","v":0},0,0,0,null,null,0,0,{"$f":"IF(H40=0,0,(K40/H40*100))","v":0},0,{"$f":"IF(D40=0,0,(K40/D40*100))","v":0},{"$f":"IF(E40=0,0,(K40/E40*100))","v":0}]
["3.","ИТОГО среднемесячная оплата труда на 1 работника","руб.",{"$f":"D19+D22+D25+D28+D31+D34+D37+D40","v":0},{"$f":"E19+E22+E25+E28+E31+E34+E37+E40","v":0},{"$f":"F19+F22+F25+F28+F31+F34+F37+F40","v":0},{"$f":"G19+G22+G25+G28+G31+G34+G37+G40","v":0},null,null,{"$f":"J19+J22+J25+J28+J31+J34+J37+J40","v":0},{"$f":"F41*1.067","v":0},{"$f":"IF(H41=0,0,(K41/H41*100))","v":0},0,{"$f":"IF(D41=0,0,(K41/D41*100))","v":0},{"$f":"IF(E41=0,0,(K41/E41*100))","v":0}]
["4.","РАСЧЕТ ФОТ (вкл. в расходы на производство продукции (услуг))"]
["4.1.","Льготный проезд к месту отдыха","тыс.руб.",null,null,null,null,null,null,null,null,{"$f":"IF(F43=0,0,(K43/F43*100))","v":0},{"$f":"IF(G43=0,0,(K43/G43*100))","v":0},{"$f":"IF(D43=0,0,(K43/D43*100))","v":0},{"$f":"IF(E43=0,0,(K43/E43*100))","v":0}]
["4.2.","По постановлению N1206 от 3.11.94","тыс.руб.",null,null,null,null,null,null,null,null,{"$f":"IF(F44=0,0,(K44/F44*100))","v":0},{"$f":"IF(G44=0,0,(K44/G44*100))","v":0},{"$f":"IF(D44=0,0,(K44/D44*100))","v":0},{"$f":"IF(E44=0,0,(K44/E44*100))","v":0}]
["4.3.","Прочие","тыс.руб.",null,null,null,null,null,null,null,null,{"$f":"IF(F45=0,0,(K45/F45*100))","v":0},{"$f":"IF(G45=0,0,(K45/G45*100))","v":0},{"$f":"IF(D45=0,0,(K45/D45*100))","v":0},{"$f":"IF(E45=0,0,(K45/E45*100))","v":0}]
[]
[null,"Количество месяцев в периоде регулирования"]
[]
["4.","ИТОГО средства на оплату труда ППП","тыс.руб.",{"$f":"D41*D14*D47/1000+D43+D44+D45","v":0},0,0,0,null,null,0,0,{"$f":"IF(H49=0,0,(K49/H49*100))","v":0},{"$f":"IF(I49=0,0,(K49/I49*100))","v":0},{"$f":"IF(D49=0,0,(K49/D49*100))","v":0},{"$f":"IF(E49=0,0,(K49/E49*100))","v":0}]
[]
[]
[null,"Руководитель организации",null,null,null,null,null,null,"         (подпись)                             (Ф.И.О.)","К. Ю.Вергазов"]
[]
[null,"Должностное лицо, ответственное за составление формы",null,null,null,null,null,null,"         (подпись)                             (Ф.И.О.)","О. В. Костюкова"]

{"sheet":"17","index":11,"n_rows":124,"n_cols":17,"rows_kept":124,"cut":false,"hidden":false,"merged":[[0,1,0,15],[1,14,2,15],[2,7,3,7],[2,8,2,11],[1,3,2,4],[1,5,2,6],[1,7,1,11],[1,12,2,13],[2,16,3,16],[122,1,122,2],[123,1,123,2],[1,0,3,0],[1,1,3,1],[1,2,3,2],[78,1,78,11]]}
[null,"Расчет амортизационных отчислений на восстановление основных производственных фондов"]
["№ п.п.","Показатели","Единица измерения",2014,null,2015,null,{"$f":"SUM(K6:K9,K15:K18)","v":818056.78699999989},null,null,null,null,{"$f":"\"Темп роста к 2015\"","v":"Темп роста к 2015"},null,{"$f":"\"Темп роста к 2014\"","v":"Темп роста к 2014"},null,"2016"]
[null,null,null,null,null,null,null,"Всего","в том числе по кварталам",null,null,null,null,null,null,null,"План (утв. органами регулирования)"]
[null,null,null,"План (утв. органами регулирования)","Факт","План (утв. органами регулирования)","Ожидаемое с учетом фактического ввода и выбытия  объектов  по состоянию на текущую дату",null,"1 кв.","2 кв.","3 кв.","4 кв.","План ","Факт ","План","Факт "]
["1.","ПЕРВОНАЧАЛЬНАЯ  СТОИМОСТЬ ОСН. ФОНДОВ на начало периода","тыс.руб",{"$f":"SUM(D6:D9,D15:D18)","v":469764.93616000004},700851.41999999993,0,814056.78699999989,816056.78699999989,816056.78699999989,818056.78699999989,818056.78699999989,818056.78699999989,{"$f":"IF(F5=0,IF(H5=0,0,100),H5/F5*100)","v":100},{"$f":"IF(G5=0,IF(H5=0,0,100),H5/G5*100)","v":100.24568310613446},{"$f":"IF(D5=0,IF(H5=0,0,100),H5/D5*100)","v":173.71598520542926},{"$f":"IF(E5=0,IF(H5=0,0,100),H5/E5*100)","v":116.43791589949264}]
[null,"   Здания","тыс.руб",19035.93534,32288.26,null,{"$f":"E6","v":32288.26},{"$f":"I6","v":32288.26},{"$f":"G6","v":32288.26},{"$f":"I6+I35-I50","v":32288.26},32288.26,32288.26,100,100,{"$f":"IF(D6=0,IF(H6=0,0,100),H6/D6*100)","v":169.6174074102523},100]
[null,"   Сооружения","тыс.руб",198057.20300000001,233014.76,null,{"$f":"E7+E36","v":264163.82300000003},{"$f":"I7","v":264163.82300000003},{"$f":"G7","v":264163.82300000003},264163.82300000003,264163.82300000003,264163.82300000003,{"$f":"IF(F7=0,IF(H7=0,0,100),H7/F7*100)","v":100},100,133.37753891233132,113.3678497447973]
[null,"   Передаточные устройства","тыс.руб",0,null,null,null,0,0,0,0,0,0,0,0,0]
[null,"   Машины и оборудование","тыс.руб",{"$f":"SUM(D10:D14)","v":189278.39960999999},372153.26999999996,0,454209.57399999996,456209.57399999996,456209.57399999996,458209.57399999996,458209.57399999996,458209.57399999996,100,100.44032537279806,241.02569281016756,122.58647465330614]
[null,"   в т.ч. - силовые машины","тыс.руб",148659.546,277278.69,null,{"$f":"E10+E39","v":359128.614},361128.614,{"$f":"G10+G39","v":361128.614},{"$f":"I10+I39-I54","v":363128.614},363128.614,363128.614,100,100.55690354987976,242.92325902838422,130.24030588142205]
[null,"             - рабочие машины","тыс.руб",10672.741900000001,10644.67,null,{"$f":"E11","v":10644.67},10644.67,{"$f":"G11","v":10644.67},10644.67,10644.67,10644.67,100,100,99.73697574378707,100]
[null,"             - приборы и лаборат. оборудование","тыс.руб",26176.226210000001,64072.19,null,{"$f":"E12+E41","v":64278.57},64278.57,{"$f":"G12","v":64278.57},64278.57,64278.57,64278.57,100,100,245.56087452913249,100.32210542514623]
[null,"             - вычислительная техника","тыс.руб",3480.7885299999998,19868.62,null,{"$f":"E13","v":19868.62},19868.62,19868.62,19868.62,19868.62,19868.62,100,100,570.80801745804422,100]
[null,"             - прочие машины","тыс.руб",289.09697,289.10000000000002,null,{"$f":"E14","v":289.10000000000002},289.10000000000002,289.10000000000002,289.10000000000002,289.10000000000002,289.10000000000002,100,100,100.00104809123388,100]
[null,"   Транспортные средства","тыс.руб",16.068999999999999,16.07,null,{"$f":"E15","v":16.07},16.07,16.07,16.07,16.07,16.07,100,100,100.00622316261125,100]
[null,"   Инструмент","тыс.руб",0,null,null,null,0,0,0,0,0,0,0,0,0]
[null,"   Производственный инвентарь","тыс.руб",31.228210000000001,31.23,null,31.23,31.23,31.23,31.23,31.23,31.23,100,100,100.00573199680673,100]
[null,"   Прочие основные производственные фонды","тыс.руб",63346.101000000002,63347.83,null,63347.83,63347.83,63347.83,63347.83,63347.83,63347.83,100,100,100.0027294497573,100]
["1.1","в том числе результаты переоценки","тыс.руб",null,{"$f":"SUM(E20:E23,E29:E32)","v":0},null,{"$f":"SUM(G20:G23,G29:G32)","v":0},{"$f":"SUM(H20:H23,H29:H32)","v":0}]
[null,"   Здания","тыс.руб"]
[null,"   Сооружения","тыс.руб"]
[null,"   Передаточные устройства","тыс.руб"]
[null,"   Машины и оборудование","тыс.руб",null,{"$f":"SUM(E24:E28)","v":0},null,{"$f":"SUM(G24:G28)","v":0},{"$f":"SUM(H24:H28)","v":0}]
[null,"   в т.ч. - силовые машины","тыс.руб"]
[null,"             - рабочие машины","тыс.руб"]
[null,"             - приборы и лаборат. оборудование","тыс.руб"]
[null,"             - вычислительная техника","тыс.руб"]
[null,"             - прочие машины","тыс.руб"]
[null,"   Транспортные средства","тыс.руб"]
[null,"   Инструмент","тыс.руб"]
[null,"   Производственный инвентарь","тыс.руб"]
[null,"   Прочие основные производственные фонды","тыс.руб"]
[]
["2.","ВВОД ОСНОВНЫХ ПРОИЗВОДСТВЕННЫХ ФОНДОВ","тыс.руб",{"$f":"SUM(D35:D38,D44:D47)","v":55269.757259999991},113205.367,0,2000,2000,2000,0,0,0,{"$f":"IF(F34=0,IF(H34=0,0,100),H34/F34*100)","v":100},{"$f":"IF(G34=0,IF(H34=0,0,100),H34/G34*100)","v":100},{"$f":"IF(D34=0,IF(H34=0,0,100),H34/D34*100)","v":3.6186154945309421},{"$f":"IF(E34=0,IF(H34=0,0,100),H34/E34*100)","v":1.7667006900830067}]
[null," Здания","тыс.руб",60.225000000000001,null,null,null,{"$f":"SUM(I35:L35)","v":0},null,null,null,null,0,0,0,0]
[null," Сооружения","тыс.руб",null,31149.062999999998,null,null,{"$f":"SUM(I36:L36)","v":0},null,null,null,null,0,0,0,0]
[null," Передаточные устройства","тыс.руб",null,null,null,null,{"$f":"SUM(I37:L37)","v":0},null,null,null,null,0,0,0,0]
[null," Машины и оборудование","тыс.руб",{"$f":"SUM(D39:D43)","v":55207.804299999996},82056.304000000004,0,2000,2000,2000,0,0,0,100,100,3.6226762236946999,2.4373508219429429]
[null," в т.ч. - силовые машины","тыс.руб",818.42525999999998,81849.923999999999,null,2000,{"$f":"SUM(I39:L39)","v":2000},2000,null,null,null,100,100,244.37173407868667,2.4434964655556675]
[null,"             - рабочие машины","тыс.руб",0,null,null,null,0,null,null,null,null,0,0,0,0]
[null,"             - приборы и лаборат. оборудование","тыс.руб",37849.222000000002,206.38,null,null,0,null,null,null,null,0,0,0,0]
[null,"             - вычислительная техника","тыс.руб",16540.157039999998,null,null,null,0,null,null,null,null,0,0,0,0]
[null,"             - прочие машины","тыс.руб",null,null,null,null,0,null,null,null,null,0,0,0,0]
[null,"   Транспортные средства","тыс.руб",null,null,null,null,0,null,null,null,null,0,0,0,0]
[null,"   Инструмент","тыс.руб",null,null,null,null,0,null,null,null,null,0,0,0,0]
[null,"   Производственный инвентарь","тыс.руб",null,null,null,null,0,null,null,null,null,0,0,0,0]
[null,"   Прочие основные производственные фонды","тыс.руб",1.7279599999999999,null,null,null,0,null,null,null,null,0,0,0,0]
[]
["3.","ВЫБЫТИЕ ОСНОВНЫХ ПРОИЗВОДСТВЕННЫХ ФОНДОВ","тыс.руб",{"$f":"SUM(D50:D53,D59:D62)","v":80.444200000000009},0,0,0,0,0,0,0,0,{"$f":"IF(F49=0,IF(H49=0,0,100),H49/F49*100)","v":0},{"$f":"IF(G49=0,IF(H49=0,0,100),H49/G49*100)","v":0},{"$f":"IF(D49=0,IF(H49=0,0,100),H49/D49*100)","v":0},{"$f":"IF(E49=0,IF(H49=0,0,100),H49/E49*100)","v":0}]
[null,"   Здания","тыс.руб",null,null,null,null,{"$f":"SUM(I50:L50)","v":0},null,null,null,null,0,0,0,0]
[null,"   Сооружения","тыс.руб",null,null,null,null,{"$f":"SUM(I51:L51)","v":0},null,null,null,null,0,0,0,0]
[null,"   Передаточные устройства","тыс.руб",null,null,null,null,{"$f":"SUM(I52:L52)","v":0},null,null,null,null,0,0,0,0]
[null,"   Машины и оборудование","тыс.руб",{"$f":"SUM(D54:D58)","v":80.444200000000009},0,0,0,0,0,0,0,0,0,0,0,0]
[null,"   в т.ч. - силовые машины","тыс.руб",null,null,null,null,{"$f":"SUM(I54:L54)","v":0},null,null,null,null,0,0,0,0]
[null,"             - рабочие машины","тыс.руб",2.7480000000000002,null,null,null,0,null,null,null,null,0,0,0,0]
[null,"             - приборы и лаборат. оборудование","тыс.руб",4.8209999999999997,null,null,null,0,null,null,null,null,0,0,0,0]
[null,"             - вычислительная техника","тыс.руб",72.875200000000007,null,null,null,0,null,null,null,null,0,0,0,0]
[null,"             - прочие машины","тыс.руб",null,null,null,null,0,null,null,null,null,0,0,0,0]
[null,"   Транспортные средства","тыс.руб",null,null,null,null,0,null,null,null,null,0,0,0,0]
[null,"   Инструмент","тыс.руб",null,null,null,null,0,null,null,null,null,0,0,0,0]
[null,"   Производственный инвентарь","тыс.руб",null,null,null,null,0,null,null,null,null,0,0,0,0]
[null,"   Прочие основные производственные фонды","тыс.руб",null,null,null,null,0,null,null,null,null,0,0,0,0]
[]
["4.","СРЕДНЕГОДОВАЯ СТОИМОСТЬ ОСНОВНЫХ ПРОИЗВОДСТВЕННЫХ ФОНДОВ","тыс.руб",{"$f":"SUM(D65:D68,D74:D77)","v":497359.59269000002},757454.10349999985,0,815056.78699999989,817806.78299999982,817056.78699999989,818056.78699999989,818056.78699999989,818056.78699999989,{"$f":"IF(F64=0,IF(H64=0,0,100),H64/F64*100)","v":100},{"$f":"IF(G64=0,IF(H64=0,0,100),H64/G64*100)","v":100.33739931301253},{"$f":"IF(D64=0,IF(H64=0,0,100),H64/D64*100)","v":164.42967925416727},{"$f":"IF(E64=0,IF(H64=0,0,100),H64/E64*100)","v":107.96783319558583}]
[null,"   Здания","тыс.руб",19066.047839999999,32288.26,null,{"$f":"(G6+(G6+G35-G50))/2","v":32288.26},{"$f":"(H6/2+J6+K6+L6+(L6+L35-L50)/2)/4","v":32288.26},{"$f":"(I6+J6)/2","v":32288.26},32288.26,32288.26,{"$f":"(L6+L6+L35-L50)/2","v":32288.26},100,100,169.34951737748287,100]
[null,"   Сооружения","тыс.руб",198057.20300000001,{"$f":"(E7+(E7+E36-E51))/2","v":248589.29150000002},null,{"$f":"(G7+(G7+G36-G51))/2","v":264163.82300000003},{"$f":"(H7/2+J7+K7+L7+(L7+L36-L51)/2)/4","v":264163.82300000003},264163.82300000003,264163.82300000003,264163.82300000003,264163.82300000003,100,100,133.37753891233132,106.26516589110597]
[null,"   Передаточные устройства","тыс.руб",null,{"$f":"(E8+(E8+E37-E52))/2","v":0},null,0,{"$f":"(H8/2+J8+K8+L8+(L8+L37-L52)/2)/4","v":0},0,0,0,0,0,0,0,0]
[null,"   Машины и оборудование","тыс.руб",{"$f":"SUM(D69:D73)","v":216842.07966000002},{"$f":"SUM(E69:E73)","v":413181.42199999996},{"$f":"SUM(F69:F73)","v":0},{"$f":"SUM(G69:G73)","v":455209.57399999996},{"$f":"SUM(H69:H73)","v":457959.56999999995},457209.57399999996,458209.57399999996,458209.57399999996,458209.57399999996,100,100.60411646790189,211.19497226648204,110.83740594706603]
[null,"   в т.ч. - силовые машины","тыс.руб",149068.75863,{"$f":"(E10+(E10+E39-E54))/2","v":318203.652},null,{"$f":"(G10+(G10+G39-G54))/2","v":360128.614},362878.61,362128.614,363128.614,363128.614,363128.614,100,100.7636149678459,243.43035612223235,114.03973767089259]
[null,"             - рабочие машины","тыс.руб",10671.367899999999,{"$f":"(E11+(E11+E40-E55))/2","v":10644.67},null,{"$f":"(G11+(G11+G40-G55))/2","v":10644.67},{"$f":"(H11/2+J11+K11+L11+(L11+L40-L55)/2)/4","v":10644.67},10644.67,10644.67,10644.67,10644.67,100,100,99.749817453112087,100]
[null,"             - приборы и лаборат. оборудование","тыс.руб",45098.42671,64175.380000000005,null,64278.57,64278.57,64278.57,64278.57,64278.57,64278.57,100,100,142.52951752249717,100.16079374987727]
[null,"             - вычислительная техника","тыс.руб",11714.42945,19868.62,null,19868.62,19868.62,19868.62,19868.62,19868.62,19868.62,100,100,169.60808961976377,100]
[null,"             - прочие машины","тыс.руб",289.09697,289.10000000000002,null,289.10000000000002,289.10000000000002,289.10000000000002,289.10000000000002,289.10000000000002,289.10000000000002,100,100,100.00104809123388,100]
[null,"   Транспортные средства","тыс.руб",16.068999999999999,16.07,null,16.07,16.07,16.07,16.07,16.07,16.07,100,100,100.00622316261125,100]
[null,"   Инструмент","тыс.руб",0,0,null,0,0,0,0,0,0,0,0,0,0]
[null,"   Производственный инвентарь","тыс.руб",31.228210000000001,31.23,null,31.23,31.23,31.23,31.23,31.23,31.23,100,100,100.00573199680673,100]
[null,"   Прочие основные производственные фонды","тыс.руб",63346.964979999997,63347.83,null,63347.83,63347.830000000009,63347.83,63347.83,63347.83,63347.83,100,100.00000000000003,100.00136552714135,100.00000000000003]
[]
["5.1","МАКСИМАЛЬНЫЙ СРОК ИСПОЛЬЗОВАНИЯ (установленными Классификацией основных средств, включаемых в амортизационные группы, утвержденной постановлением Правительства Российской Федерации от 1 января 2002 г. N 1)"]
[null," Здания","год"]
[null," Сооружения","год"]
[null," Передаточные устройства","год"]
[null," Машины и оборудование","год"]
[null," в т.ч. - силовые машины","год"]
[null,"             - рабочие машины","год"]
[null,"             - приборы и лаборат. оборудование","год"]
[null,"             - вычислительная техника","год"]
[null,"             - прочие машины","год"]
[null,"   Транспортные средства","год"]
[null,"   Инструмент","год"]
[null,"   Производственный инвентарь","год"]
[null,"   Прочие основные производственные фонды","год"]
["5.2","НОРМА АМОРТИЗАЦИОННЫХ ОТЧИСЛЕНИЙ"]
[null," Здания","%",1.937362,2.372379,null,{"$f":"E94","v":2.372379},{"$f":"G94","v":2.372379},{"$f":"G94/4","v":0.59309475},{"$f":"H94/4","v":0.59309475},{"$f":"J94","v":0.59309475},{"$f":"K94","v":0.59309475},{"$f":"IF(F94=0,IF(H94=0,0,100),H94/F94*100)","v":100},{"$f":"IF(G94=0,IF(H94=0,0,100),H94/G94*100)","v":100},{"$f":"IF(D94=0,IF(H94=0,0,100),H94/D94*100)","v":122.45408963322291},{"$f":"IF(E94=0,IF(H94=0,0,100),H94/E94*100)","v":100}]
[null," Сооружения","%",2.9409939999999999,2.7642129999999998,null,2.8960300000000001,{"$f":"G95","v":2.8960300000000001},{"$f":"H95/4","v":0.72400750000000003},{"$f":"I95","v":0.72400750000000003},{"$f":"J95","v":0.72400750000000003},0.72400750000000003,100,100,98.471129148852398,104.76869908360898]
[null," Передаточные устройства","%",0,{"$f":"D96","v":0},null,null,null,null,null,null,null,0,0,0,0]
[null," Машины и оборудование","%",8.7161019999999994,8.7161019999999994,null,null,null,null,null,null,null,0,0,0,0]
[null," в т.ч. - силовые машины","%",5.2127129999999999,3.5767799999999998,null,3.7786149999999998,3.7867216799999999,{"$f":"H98/4","v":0.94668041999999997},{"$f":"I98","v":0.94668041999999997},{"$f":"J98","v":0.94668041999999997},0.94668041999999997,100,100.21454104215432,72.643970232007788,105.8695720732055]
[null,"             - рабочие машины","%",6.4960500000000003,6.5123670000000002,null,{"$f":"E99","v":6.5123670000000002},{"$f":"G99","v":6.5123670000000002},{"$f":"H99/4","v":1.6280917500000001},{"$f":"I99","v":1.6280917500000001},{"$f":"J99","v":1.6280917500000001},1.6280917500000001,100,100,100.25118341145773,100]
[null,"             - приборы и лаборат. оборудование","%",15.248722000000001,16.355149999999998,null,16.350300000000001,{"$f":"G100","v":16.350300000000001},{"$f":"H100/4","v":4.0875750000000002},{"$f":"I100","v":4.0875750000000002},{"$f":"J100","v":4.0875750000000002},4.0875750000000002,100,100,107.22406769564033,99.970345732078286]
[null,"             - вычислительная техника","%",30.145308,29.498828,null,{"$f":"E101","v":29.498828},29.498828,7.3747069999999999,{"$f":"I101","v":7.3747069999999999},{"$f":"J101","v":7.3747069999999999},7.3747069999999999,100,100,97.855453989722051,100]
[null,"             - прочие машины","%",9.7366019999999995,0,null,null,null,null,null,null,null,0,0,0,0]
[null,"   Транспортные средства","%",0,0,null,null,null,null,null,null,null,0,0,0,0]
[null,"   Инструмент","%",0,0,null,null,null,null,null,null,null,0,0,0,0]
[null,"   Производственный инвентарь","%",0,0,null,null,null,null,null,null,null,0,0,0,0]
[null,"   Прочие основные производственные фонды","%",4.4200000000000001E-4,4.4200000000000001E-4,null,null,null,null,null,null,null,0,0,0,0]
[]
["6.","СУММА АМОРТИЗАЦИОННЫХ ОТЧИСЛЕНИЙ","тыс.руб",{"$f":"SUM(D109:D112,D118:D121)","v":25094.685658223869},36069.191674144393,0,39088.106337650897,39221.43550670745,9805.3588774387008,9805.3588774387008,9805.3588774387008,9805.3588774387008,{"$f":"IF(F108=0,IF(H108=0,0,100),H108/F108*100)","v":100},{"$f":"IF(G108=0,IF(H108=0,0,100),H108/G108*100)","v":100.3410990747539},{"$f":"IF(D108=0,IF(H108=0,0,100),H108/D108*100)","v":156.29379080846965},{"$f":"IF(E108=0,IF(H108=0,0,100),H108/E108*100)","v":108.73943575182111},{"$f":"SUM(Q109:Q112,Q118:Q121)","v":0}]
[null,"   Здания","тыс.руб",{"$f":"D65*D94 / 100","v":369.37836575398075},{"$f":"E94*E65/100","v":765.99989970540003},0,765.99989970540003,765.99989970540003,191.49997492635001,191.49997492635001,191.49997492635001,191.49997492635001,100,100,207.37540980285334,100,{"$f":"IF(H80=0,0,((G6+G35-G50)/H80))","v":0}]
[null,"   Сооружения","тыс.руб",{"$f":"D66*D95 / 100","v":5824.8504567978207},6871.5375122508958,0,7650.2635632269012,7650.2635632269012,1912.5658908067253,1912.5658908067253,1912.5658908067253,1912.5658908067253,100,100,131.33836859792262,111.3326318831507,{"$f":"IF(H81=0,0,((G7+G36-G51)/H81))","v":0}]
[null,"   Передаточные устройства","тыс.руб",{"$f":"D67*D96 / 100","v":0},0,0,0,0,0,0,0,0,0,0,0,0,0]
[null,"   Машины и оборудование","тыс.руб",{"$f":"D68*D97 / 100","v":18900.176842086854},{"$f":"E113+E114+E115+E116+E117","v":28431.654262188098},0,{"$f":"G113+G114+G115+G116","v":30671.842874718597},{"$f":"H113+H114+H115+H116","v":30805.172043775146},{"$f":"I113+I114+I115+I116","v":7701.2930117056248},7701.2930117056248,7701.2930117056248,7701.2930117056248,100,100.43469565751606,162.98880323266758,108.34815223799217,{"$f":"Q113+Q114+Q115+Q116+Q117","v":0}]
[null,"   в т.ч. - силовые машины","тыс.руб",{"$f":"D69*D98 / 100","v":7770.5265600446319},11381.444584005598,0,13607.873827896099,13741.202996952648,3435.3007499999999,{"$f":"I113","v":3435.3007499999999},{"$f":"J113","v":3435.3007499999999},3435.3007499999999,100,100.97979427751031,176.83747543710504,120.73338226558018,0]
[null,"             - рабочие машины","тыс.руб",{"$f":"D70*D99 / 100","v":693.21739446794993},693.21997633889998,0,693.21997633889998,693.21997633889998,173.304994084725,173.304994084725,173.304994084725,173.304994084725,100,100,100.00037244751367,100,0]
[null,"             - приборы и лаборат. оборудование","тыс.руб",{"$f":"D71*D100 / 100","v":6876.9337153816468},10495.97966207,0,10509.739030709999,10509.739030709999,2627.4347576774999,2627.4347576774999,2627.4347576774999,2627.4347576774999,100,100,152.82594635459191,100.13109179974617,0]
[null,"             - вычислительная техника","тыс.руб",{"$f":"D72*D101 / 100","v":3531.3508381452057},5861.0100397735996,0,5861.0100397735996,5861.0100397735996,1465.2525099433999,1465.2525099433999,1465.2525099433999,1465.2525099433999,100,100,165.97076610071448,100,0]
[null,"             - прочие машины","тыс.руб",{"$f":"D73*D102 / 100","v":28.148221362959397},0,0,0,0,0,0,0,0,0,0,0,0,0]
[null,"   Транспортные средства","тыс.руб",{"$f":"D74*D103 / 100","v":0},0,0,0,0,0,0,0,0,0,0,0,0,0]
[null,"   Инструмент","тыс.руб",{"$f":"D75*D104 / 100","v":0},0,0,0,0,0,0,0,0,0,0,0,0,0]
[null,"   Производственный инвентарь","тыс.руб",{"$f":"D76*D105 / 100","v":0},0,0,0,0,0,0,0,0,0,0,0,0,0]
[null,"   Прочие основные производственные фонды","тыс.руб",{"$f":"D77*D106 / 100","v":0.2799935852116},0,0,0,0,0,0,0,0,0,0,0,0,0]
[]
[null,"Руководитель организации",null,null,null,null,null,null,"         (подпись)                             (Ф.И.О.)",null,"К. Ю.Вергазов"]
[null,"Должностное лицо, ответственное за составление формы",null,null,null,null,null,null,"         (подпись)                             (Ф.И.О.)",null,"О. В. Костюкова"]

{"sheet":"17.1","index":12,"n_rows":169,"n_cols":8,"rows_kept":169,"cut":false,"hidden":false,"merged":[[168,1,168,2],[138,1,138,2],[139,1,139,2],[167,1,167,2],[110,1,110,2],[111,1,111,2],[26,1,26,2],[27,1,27,2],[82,1,82,2],[83,1,83,2],[54,1,54,2],[55,1,55,2]]}
[null,null,null,null,null,null,null,"Таблица П1.17.1"]
["Расчет среднегодовой стоимости основных производственных фондов по линиям электропередач и подстанциям на 2015 год (по фактически введенным в эксплуатацию объектам в 2015 году)"]
[null,null,null,null,null,null,null,"тыс. руб."]
["№ п.п.","Виды производственных фондов","стоимость на начало регулируемого периода","Ввод основных производственных фондов","Выбытие основных производственных фондов","стоимость на конец регулируемого периода ","среднегодовая стоимость ","Амортизация"]
["1","2","3","4","5","6","7","8"]
["1","Линии электропередач",{"$f":"C7+C12","v":154127.663},{"$f":"D7+D12","v":0},{"$f":"E7+E12","v":0},154127.663,{"$f":"G7+G12","v":154127.663},7435.4623449999999]
[null,"ВЛЭП",{"$f":"C8+C9+C10+C11","v":901.69999999999993},{"$f":"SUM(D8:D11)","v":0},0,{"$f":"SUM(F8:F11)","v":901.69999999999993},901.69999999999993,{"$f":"H8+H9+H10+H11","v":49.91}]
[null,"ВН",242.15,null,0,{"$f":"C8+D8-E8","v":242.15},{"$f":"(C8+F8)/2","v":242.15},13.4]
[null,"СН1",659.55,null,0,{"$f":"C9+D9-E9","v":659.55},{"$f":"(C9+F9)/2","v":659.55},36.51]
[null,"СН2",0,0,0,{"$f":"C10+D10-E10","v":0},{"$f":"(C10+F10)/2","v":0},0]
[null,"НН",0,0,0,{"$f":"C11+D11-E11","v":0},{"$f":"(C11+F11)/2","v":0},0]
[null,"КЛЭП",{"$f":"C13+C14+C15+C16","v":153225.96299999999},{"$f":"D13+D14+D15+D16","v":0},{"$f":"SUM(E13:E16)","v":0},{"$f":"SUM(F13:F16)","v":153225.96299999999},153225.96299999999,{"$f":"H13+H14+H15+H16","v":6951.829999999999}]
[null,"ВН",0,0,0,{"$f":"C13+D13-E13","v":0},{"$f":"(C13+F13)/2","v":0},0]
[null,"СН1",7487.65,null,0,{"$f":"C14+D14-E14","v":7487.65},{"$f":"(C14+F14)/2","v":7487.65},414.48]
[null,"СН2",144878.033,null,0,{"$f":"C15+D15-E15","v":144878.033},{"$f":"(C15+F15)/2","v":144878.033},6489.73]
[null,"НН",860.28,null,0,{"$f":"C16+D16-E16","v":860.28},{"$f":"(C16+F16)/2","v":860.28},47.62]
["2","Подстанции",{"$f":"C18+C19+C20+C21","v":659929.12399999995},{"$f":"D18+D19+D20+D21","v":2000},{"$f":"SUM(E18:E21)","v":0},{"$f":"SUM(F18:F21)","v":661929.12399999995},660929.12399999995,{"$f":"H18+H19+H20+H21","v":32086.370000000003}]
[null,"ВН",22239.9,null,0,{"$f":"C18+D18-E18","v":22239.9},{"$f":"(C18+F18)/2","v":22239.9},1231.1099999999999]
[null,"СН1",39764.17,null,0,{"$f":"C19+D19-E19","v":39764.17},{"$f":"(C19+F19)/2","v":39764.17},2201.1799999999998]
[null,"СН2",597925.054,2000,0,{"$f":"C20+D20-E20","v":599925.054},{"$f":"(C20+F20)/2","v":598925.054},28654.080000000002]
[null,"НН",0,null,0,{"$f":"C21+D21-E21","v":0},{"$f":"(C21+F21)/2","v":0},0]
[null,"Всего (стр. 1+стр.2)",{"$f":"C17+C6","v":814056.78700000001},{"$f":"D6+D17","v":2000},0,816056.78700000001,{"$f":"G17+G6","v":815056.78700000001},{"$f":"H23+H24+H25+H26","v":39088.11}]
[null,"ВН",{"$f":"C8+C13+C18","v":22482.050000000003},{"$f":"D8+D18+D13","v":0},0,22482.050000000003,22482.050000000003,{"$f":"H8+H13+H18","v":1244.51}]
[null,"СН1",{"$f":"C9+C14+C19","v":47911.369999999995},0,0,47911.37,47911.37,{"$f":"H9+H14+H19","v":2652.17}]
[null,"СН2",{"$f":"C10+C15+C20","v":742803.08700000006},2000,0,744803.08700000006,743803.08700000006,{"$f":"H10+H15+H20","v":35143.81}]
[null,"НН",{"$f":"C11+C16+C21","v":860.28},0,0,860.28,860.28,{"$f":"H11+H16+H21","v":47.62}]
[null,"Руководитель организации",null,null,null,null,"         (подпись)                             (Ф.И.О.)","К. Ю. Вергазов"]
[null,"Должностное лицо, ответственное за составление формы",null,null,null,null,"         (подпись)                             (Ф.И.О.)","О. В. Костюкова"]
["Расчет среднегодовой стоимости основных производственных фондов по линиям электропередач и подстанциям на 2016 год"]
[null,null,null,null,null,null,null,"тыс. руб."]
["№ п.п.","Виды производственных фондов","стоимость на начало регулируемого периода","Ввод основных производственных фондов","Выбытие основных производственных фондов","стоимость на конец регулируемого периода ","среднегодовая стоимость ","Амортизация"]
["1","2","3","4","5","6","7","8"]
["1","Линии электропередач",{"$f":"C34+C39","v":154127.66},0,0,{"$f":"C33+D33","v":154127.66},141771.60999999999,7435.4623449999999]
[null,"ВЛЭП",{"$f":"C35+C36+C37+C38","v":901.69999999999993},{"$f":"SUM(D35:D38)","v":0},0,{"$f":"C34+D34","v":901.69999999999993},901.7,{"$f":"H35+H36+H37+H38","v":49.91}]
[null,"ВН",242.15,0,0,242.15,242.15,13.4]
[null,"СН1",659.55,0,0,659.55,659.55,36.51]
[null,"СН2",0,0,0,{"$f":"C37+D37-E37","v":0},{"$f":"(C37+F37)/2","v":0},0]
[null,"НН",0,0,0,{"$f":"C38+D38-E38","v":0},{"$f":"(C38+F38)/2","v":0},0]
[null,"КЛЭП",{"$f":"C40+C41+C42+C43","v":153225.96},{"$f":"SUM(D40:D43)","v":0},0,153225.96,153225.96,{"$f":"H40+H41+H42+H43","v":6951.829999999999}]
[null,"ВН",0,0,0,{"$f":"C40+D40-E40","v":0},{"$f":"(C40+F40)/2","v":0},0]
[null,"СН1",7487.65,0,0,7487.65,7487.65,414.48]
[null,"СН2",144878.03,0,0,144878.03,144878.03,6489.73]
[null,"НН",860.28,0,0,860.28,860.28,47.62]
["2","Подстанции",{"$f":"C45+C46+C47+C48","v":661929.12},{"$f":"SUM(D45:D48)","v":2000},0,663929.12,662929.12,{"$f":"H45+H46+H47+H48","v":32219.703000000001}]
[null,"ВН",22239.9,0,0,22239.9,22239.9,1231.1099999999999]
[null,"СН1",39764.17,0,0,39764.17,39764.17,2201.1799999999998]
[null,"СН2",599925.05000000005,2000,0,{"$f":"C47+D47","v":601925.05000000005},600925.05000000005,28787.413]
[null,"НН",0,0,0,{"$f":"C48+D48-E48","v":0},{"$f":"(C48+F48)/2","v":0},0]
[null,"Всего (стр. 1+стр.2)",{"$f":"C33+C44+0.01","v":816056.79},{"$f":"D33+D44","v":2000},0,{"$f":"C49+D49+0.01","v":818056.8},817056.79,{"$f":"H50+H51+H52+H53","v":39221.442999999999}]
[null,"ВН",{"$f":"C35+C40+C45","v":22482.050000000003},{"$f":"D35+D45+D40","v":0},0,22482.05,22482.05,{"$f":"H35+H40+H45","v":1244.51}]
[null,"СН1",{"$f":"C36+C41+C46","v":47911.369999999995},{"$f":"D36+D46+D41","v":0},0,47911.37,47911.37,{"$f":"H36+H41+H46","v":2652.17}]
[null,"СН2",{"$f":"C37+C42+C47","v":744803.08000000007},{"$f":"D37+D47+D42","v":2000},0,746803.08,745803.08,{"$f":"H37+H42+H47","v":35277.142999999996}]
[null,"НН",{"$f":"C38+C43+C48","v":860.28},{"$f":"D38+D48+D43","v":0},0,860.28,860.28,{"$f":"H38+H43+H48","v":47.62}]
[]
[null,"Руководитель организации",null,null,null,null,"         (подпись)                             (Ф.И.О.)","К. Ю. Вергазов"]
[null,"Должностное лицо, ответственное за составление формы",null,null,null,null,"         (подпись)                             (Ф.И.О.)","О. В. Костюкова"]
["Расчет среднегодовой стоимости основных производственных фондов по линиям электропередач и подстанциям на 2017 год"]
[null,null,null,null,null,null,null,"тыс. руб."]
["№ п.п.","Виды производственных фондов","стоимость на начало регулируемого периода","Ввод основных производственных фондов","Выбытие основных производственных фондов","стоимость на конец регулируемого периода ","среднегодовая стоимость ","Амортизация"]
["1","2","3","4","5","6","7","8"]
["1","Линии электропередач",{"$f":"C62+C67","v":0},0,0,0,0,0]
[null,"ВЛЭП",{"$f":"SUM(C63:C66)","v":0},0,0,0,0,0]
[null,"ВН",null,null,null,{"$f":"C63+D63-E63","v":0},{"$f":"(C63+F63)/2","v":0}]
[null,"СН1",null,null,null,{"$f":"C64+D64-E64","v":0},{"$f":"(C64+F64)/2","v":0}]
[null,"СН2",null,null,null,{"$f":"C65+D65-E65","v":0},{"$f":"(C65+F65)/2","v":0}]
[null,"НН",null,null,null,{"$f":"C66+D66-E66","v":0},{"$f":"(C66+F66)/2","v":0}]
[null,"КЛЭП",{"$f":"SUM(C68:C71)","v":0},0,0,0,0,0]
[null,"ВН",null,null,null,{"$f":"C68+D68-E68","v":0},{"$f":"(C68+F68)/2","v":0}]
[null,"СН1",null,null,null,{"$f":"C69+D69-E69","v":0},{"$f":"(C69+F69)/2","v":0}]
[null,"СН2",null,null,null,{"$f":"C70+D70-E70","v":0},{"$f":"(C70+F70)/2","v":0}]
[null,"НН",null,null,null,{"$f":"C71+D71-E71","v":0},{"$f":"(C71+F71)/2","v":0}]
["2","Подстанции",{"$f":"SUM(C73:C76)","v":0},0,0,0,0,0]
[null,"ВН",null,null,null,{"$f":"C73+D73-E73","v":0},{"$f":"(C73+F73)/2","v":0}]
[null,"СН1",null,null,null,{"$f":"C74+D74-E74","v":0},{"$f":"(C74+F74)/2","v":0}]
[null,"СН2",null,null,null,{"$f":"C75+D75-E75","v":0},{"$f":"(C75+F75)/2","v":0}]
[null,"НН",null,null,null,{"$f":"C76+D76-E76","v":0},{"$f":"(C76+F76)/2","v":0}]
[null,"Всего (стр. 1+стр.2)",{"$f":"C61+C72","v":0},0,0,0,0,0]
[null,"ВН",{"$f":"C63+C73+C68","v":0},0,0,0,0,0]
[null,"СН1",0,0,0,0,0,0]
[null,"СН2",0,0,0,0,0,0]
[null,"НН",0,0,0,0,0,0]
[]
[null,"Руководитель организации",null,null,null,null,"         (подпись)                             (Ф.И.О.)","К. Ю. Вергазов"]
[null,"Должностное лицо, ответственное за составление формы",null,null,null,null,"         (подпись)                             (Ф.И.О.)","О. В. Костюкова"]
["Расчет среднегодовой стоимости основных производственных фондов по линиям электропередач и подстанциям на 2018 год"]
[null,null,null,null,null,null,null,"тыс. руб."]
["№ п.п.","Виды производственных фондов","стоимость на начало регулируемого периода","Ввод основных производственных фондов","Выбытие основных производственных фондов","стоимость на конец регулируемого периода ","среднегодовая стоимость ","Амортизация"]
["1","2","3","4","5","6","7","8"]
["1","Линии электропередач",{"$f":"C90+C95","v":0},0,0,0,0,0]
[null,"ВЛЭП",{"$f":"SUM(C91:C94)","v":0},0,0,0,0,0]
[null,"ВН",null,null,null,{"$f":"C91+D91-E91","v":0},{"$f":"(C91+F91)/2","v":0}]
[null,"СН1",null,null,null,{"$f":"C92+D92-E92","v":0},{"$f":"(C92+F92)/2","v":0}]
[null,"СН2",null,null,null,{"$f":"C93+D93-E93","v":0},{"$f":"(C93+F93)/2","v":0}]
[null,"НН",null,null,null,{"$f":"C94+D94-E94","v":0},{"$f":"(C94+F94)/2","v":0}]
[null,"КЛЭП",{"$f":"SUM(C96:C99)","v":0},0,0,0,0,0]
[null,"ВН",null,null,null,{"$f":"C96+D96-E96","v":0},{"$f":"(C96+F96)/2","v":0}]
[null,"СН1",null,null,null,{"$f":"C97+D97-E97","v":0},{"$f":"(C97+F97)/2","v":0}]
[null,"СН2",null,null,null,{"$f":"C98+D98-E98","v":0},{"$f":"(C98+F98)/2","v":0}]
[null,"НН",null,null,null,{"$f":"C99+D99-E99","v":0},{"$f":"(C99+F99)/2","v":0}]
["2","Подстанции",{"$f":"SUM(C101:C104)","v":0},0,0,0,0,0]
[null,"ВН",null,null,null,{"$f":"C101+D101-E101","v":0},{"$f":"(C101+F101)/2","v":0}]
[null,"СН1",null,null,null,{"$f":"C102+D102-E102","v":0},{"$f":"(C102+F102)/2","v":0}]
[null,"СН2",null,null,null,{"$f":"C103+D103-E103","v":0},{"$f":"(C103+F103)/2","v":0}]
[null,"НН",null,null,null,{"$f":"C104+D104-E104","v":0},{"$f":"(C104+F104)/2","v":0}]
[null,"Всего (стр. 1+стр.2)",{"$f":"C89+C100","v":0},0,0,0,0,0]
[null,"ВН",{"$f":"C91+C101+C96","v":0},0,0,0,0,0]
[null,"СН1",{"$f":"C92+C102+C97","v":0},0,0,0,0,0]
[null,"СН2",{"$f":"C93+C103+C98","v":0},0,0,0,0,0]
[null,"НН",{"$f":"C94+C104+C99","v":0},0,0,0,0,0]
[]
[null,"Руководитель организации",null,null,null,null,"         (подпись)                             (Ф.И.О.)","К. Ю. Вергазов"]
[null,"Должностное лицо, ответственное за составление формы",null,null,null,null,"         (подпись)                             (Ф.И.О.)","О. В. Костюкова"]
["Расчет среднегодовой стоимости основных производственных фондов по линиям электропередач и подстанциям на 2019 год"]
[null,null,null,null,null,null,null,"тыс. руб."]
["№ п.п.","Виды производственных фондов","стоимость на начало регулируемого периода","Ввод основных производственных фондов","Выбытие основных производственных фондов","стоимость на конец регулируемого периода ","среднегодовая стоимость ","Амортизация"]
["1","2","3","4","5","6","7","8"]
["1","Линии электропередач",{"$f":"C118+C123","v":0},0,0,0,0,0]
[null,"ВЛЭП",{"$f":"SUM(C119:C122)","v":0},0,0,0,0,0]
[null,"ВН",null,null,null,{"$f":"C119+D119-E119","v":0},{"$f":"(C119+F119)/2","v":0}]
[null,"СН1",null,null,null,{"$f":"C120+D120-E120","v":0},{"$f":"(C120+F120)/2","v":0}]
[null,"СН2",null,null,null,{"$f":"C121+D121-E121","v":0},{"$f":"(C121+F121)/2","v":0}]
[null,"НН",null,null,null,{"$f":"C122+D122-E122","v":0},{"$f":"(C122+F122)/2","v":0}]
[null,"КЛЭП",{"$f":"SUM(C124:C127)","v":0},0,0,0,0,0]
[null,"ВН",null,null,null,{"$f":"C124+D124-E124","v":0},{"$f":"(C124+F124)/2","v":0}]
[null,"СН1",null,null,null,{"$f":"C125+D125-E125","v":0},{"$f":"(C125+F125)/2","v":0}]
[null,"СН2",null,null,null,{"$f":"C126+D126-E126","v":0},{"$f":"(C126+F126)/2","v":0}]
[null,"НН",null,null,null,{"$f":"C127+D127-E127","v":0},{"$f":"(C127+F127)/2","v":0}]
["2","Подстанции",{"$f":"SUM(C129:C132)","v":0},0,0,0,0,0]
[null,"ВН",null,null,null,{"$f":"C129+D129-E129","v":0},{"$f":"(C129+F129)/2","v":0}]
[null,"СН1",null,null,null,{"$f":"C130+D130-E130","v":0},{"$f":"(C130+F130)/2","v":0}]
[null,"СН2",null,null,null,{"$f":"C131+D131-E131","v":0},{"$f":"(C131+F131)/2","v":0}]
[null,"НН",null,null,null,{"$f":"C132+D132-E132","v":0},{"$f":"(C132+F132)/2","v":0}]
[null,"Всего (стр. 1+стр.2)",{"$f":"C117+C128","v":0},0,0,0,0,0]
[null,"ВН",{"$f":"C119+C129+C124","v":0},0,0,0,0,0]
[null,"СН1",{"$f":"C120+C130+C125","v":0},0,0,0,0,0]
[null,"СН2",{"$f":"C121+C131+C126","v":0},0,0,0,0,0]
[null,"НН",{"$f":"C122+C132+C127","v":0},0,0,0,0,0]
[]
[null,"Руководитель организации",null,null,null,null,"         (подпись)                             (Ф.И.О.)","К. Ю. Вергазов"]
[null,"Должностное лицо, ответственное за составление формы",null,null,null,null,"         (подпись)                             (Ф.И.О.)","О. В. Костюкова"]
["Расчет среднегодовой стоимости основных производственных фондов по линиям электропередач и подстанциям на 2020 год"]
[null,null,null,null,null,null,null,"тыс. руб."]
["№ п.п.","Виды производственных фондов","стоимость на начало регулируемого периода","Ввод основных производственных фондов","Выбытие основных производственных фондов","стоимость на конец регулируемого периода ","среднегодовая стоимость ","Амортизация"]
["1","2","3","4","5","6","7","8"]
["1","Линии электропередач",{"$f":"C146+C151","v":0},0,0,0,0,0]
[null,"ВЛЭП",{"$f":"SUM(C147:C150)","v":0},0,0,0,0,0]
[null,"ВН",null,null,null,{"$f":"C147+D147-E147","v":0},{"$f":"(C147+F147)/2","v":0}]
[null,"СН1",null,null,null,{"$f":"C148+D148-E148","v":0},{"$f":"(C148+F148)/2","v":0}]
[null,"СН2",null,null,null,{"$f":"C149+D149-E149","v":0},{"$f":"(C149+F149)/2","v":0}]
[null,"НН",null,null,null,{"$f":"C150+D150-E150","v":0},{"$f":"(C150+F150)/2","v":0}]
[null,"КЛЭП",{"$f":"SUM(C152:C155)","v":0},0,0,0,0,0]
[null,"ВН",null,null,null,{"$f":"C152+D152-E152","v":0},{"$f":"(C152+F152)/2","v":0}]
[null,"СН1",null,null,null,{"$f":"C153+D153-E153","v":0},{"$f":"(C153+F153)/2","v":0}]
[null,"СН2",null,null,null,{"$f":"C154+D154-E154","v":0},{"$f":"(C154+F154)/2","v":0}]
[null,"НН",null,null,null,{"$f":"C155+D155-E155","v":0},{"$f":"(C155+F155)/2","v":0}]
["2","Подстанции",{"$f":"SUM(C157:C160)","v":0},0,0,0,0,0]
[null,"ВН",null,null,null,{"$f":"C157+D157-E157","v":0},{"$f":"(C157+F157)/2","v":0}]
[null,"СН1",null,null,null,{"$f":"C158+D158-E158","v":0},{"$f":"(C158+F158)/2","v":0}]
[null,"СН2",null,null,null,{"$f":"C159+D159-E159","v":0},{"$f":"(C159+F159)/2","v":0}]
[null,"НН",null,null,null,{"$f":"C160+D160-E160","v":0},{"$f":"(C160+F160)/2","v":0}]
[null,"Всего (стр. 1+стр.2)",{"$f":"C145+C156","v":0},0,0,0,0,0]
[null,"ВН",{"$f":"C147+C157+C152","v":0},0,0,0,0,0]
[null,"СН1",{"$f":"C148+C158+C153","v":0},0,0,0,0,0]
[null,"СН2",{"$f":"C149+C159+C154","v":0},0,0,0,0,0]
[null,"НН",{"$f":"C150+C160+C155","v":0},0,0,0,0,0]
[]
[]
[null,"Руководитель организации",null,null,null,null,"         (подпись)                             (Ф.И.О.)","К. Ю. Вергазов"]
[null,"Должностное лицо, ответственное за составление формы",null,null,null,null,"         (подпись)                             (Ф.И.О.)","О. В. Костюкова"]

{"sheet":"18","index":13,"n_rows":70,"n_cols":16,"rows_kept":70,"cut":false,"hidden":false,"merged":[[1,0,1,14]]}
[null,{"$f":"Анкета!B3","v":"АО \"Чепецкий механический завод\""},null,null,1.0484099999999998,1.04148,null,null,null,"Таблица № П1.18."]
["Калькуляция себестоимости передачи электрической энергии"]
[null,null,null,null,null,null,null,null,null,"тыс. руб."]
["№ п.п.","Калькуляционные статьи затрат","2014 год утверждено","2014 год  факт","2015 год  утверждено ","2015 год  факт 1 квартал","2015 год  ожидаемое","2016 год предложение организации","2017 год предложение организации","2018 год предложение организации","2019 год предложение организации","2020 год предложение организации","2016 год  утверждено (до корректировки)","2016 год  признано обоснованным регулирующим органом с учетом корректировки","Рост, %","в том числе  сумма расходов, относимая на сторонних потребителей услуг "]
[1,{"$f":"A5+1","v":2},5,6,7,8,9,10,11,12,13,14,11,{"$f":"M5+1","v":12},{"$f":"N5+1","v":13},14]
["1.","Фонд оплаты труда производственных рабочих",7888.0947589999996,241.51,0,null,null,null,null,null,null,null,null,null,{"$f":"IF(ISERROR(N6/E6),0,N6/E6)","v":0},{"$f":"N6*'2.3'!$F$39","v":{"$error":"#REF!"}}]
["2.","Страховые взносы социального характера",2721.3926919999999,77.209999999999994,0,null,null,null,null,null,null,null,null,null,{"$f":"IF(ISERROR(N7/E7),0,N7/E7)","v":0},{"$f":"N7*'2.3'!$F$39","v":{"$error":"#REF!"}}]
["3.","Расходы по содержанию и эксплуатации оборудования",{"$f":"C10+C15+C18+C19+C22","v":31667.781943000002},62602.361000000004,59518.681439999993,10423.658999999998,67523.11,71923.192999999999,0,0,0,0,11986.37,0,{"$f":"IF(ISERROR(N8/E8),0,N8/E8)","v":0},{"$f":"(N8-N11-N12-N13-N14)*'2.3'!F39+'18'!P11+'18'!P12+'18'!P13+'18'!P14","v":{"$error":"#REF!"}}]
[null,"    в том числе:"]
["3.1.","амортизация производственного оборудования",{"$f":"C11+C12+C13+C14","v":25094.685170000001},36069.19,38855.199999999997,8606.2199999999993,39088.11,{"$f":"'17.1'!H49","v":39221.442999999999},null,null,null,null,{"$f":"'17.1'!M49","v":0},null,{"$f":"IF(ISERROR(N10/E10),0,N10/E10)","v":0},{"$f":"P11+P12+P13+P14","v":{"$error":"#REF!"}}]
[null,"ВН",823.90594599999997,36069.19,1252.2943210000001,{"$f":"G11/G10*F10","v":274.00984217962952},1244.51,{"$f":"'17.1'!H50","v":1244.51},{"$f":"'17.1'!H78","v":0},{"$f":"'17.1'!H106","v":0},{"$f":"'17.1'!H134","v":0},{"$f":"'17.1'!H162","v":0},null,null,0,{"$f":"IF('4'!#REF!=0,0,N11*'4'!#REF!)","v":{"$error":"#REF!"}}]
[null,"СН1",1755.8211040000001,null,2668.7570449999998,{"$f":"G12/G10*F10","v":583.94121632895519},2652.17,{"$f":"'17.1'!H51","v":2652.17},{"$f":"'17.1'!H79","v":0},{"$f":"'17.1'!H107","v":0},{"$f":"'17.1'!H135","v":0},{"$f":"'17.1'!H163","v":0},null,null,0,{"$f":"IF('4'!#REF!=0,0,N12*'4'!#REF!)","v":{"$error":"#REF!"}}]
[null,"СН2",22483.431107,null,34886.229207999997,{"$f":"G13/G10*F10","v":7737.7842136189229},35143.81,{"$f":"'17.1'!H52","v":35277.142999999996},{"$f":"'17.1'!H80","v":0},{"$f":"'17.1'!H108","v":0},{"$f":"'17.1'!H136","v":0},{"$f":"'17.1'!H164","v":0},null,null,0,{"$f":"IF('4'!#REF!=0,0,N13*'4'!#REF!)","v":{"$error":"#REF!"}}]
[null,"НН",31.527013,null,47.919426000000001,{"$f":"G14/G10*F10","v":10.484727872491147},47.62,{"$f":"'17.1'!H53","v":47.62},{"$f":"'17.1'!H81","v":0},{"$f":"'17.1'!H109","v":0},{"$f":"'17.1'!H137","v":0},{"$f":"'17.1'!H165","v":0},null,null,0,{"$f":"IF('4'!#REF!=0,0,N14*'4'!#REF!)","v":{"$error":"#REF!"}}]
["3.2.","ремонт производственного оборудования",{"$f":"C16+C17","v":5696.3359399999999},6270.8720000000003,4552.1864400000004,459.44499999999999,7001,8051,0,0,0,0,10906.6,0,0,{"$f":"N15*'2.3'!$F$39","v":{"$error":"#REF!"}}]
[null,"в т.ч. услуги подрядных организаций",5696.3359399999999,6270.8720000000003,4552.1864400000004,459.44499999999999,7001,8051,null,null,null,null,10906.6,null,null,{"$f":"N16*'2.3'!$F$39","v":{"$error":"#REF!"}}]
[null,"хозспособ",0,null,null,null,null,null,null,null,null,null,null,null,null,{"$f":"N17*'2.3'!$F$39","v":{"$error":"#REF!"}}]
["3.3.","услуги подрядных организаций по техобслуживанию и эксплуатации оборудования",0,17552.919000000002,15080,1255.944,18728,21538,null,null,null,null,null,null,{"$f":"IF(ISERROR(N18/E18),0,N18/E18)","v":0},{"$f":"N18*'2.3'!$F$39","v":{"$error":"#REF!"}}]
["3.4.","другие расходы по содержанию и эксплуатации оборудования",{"$f":"SUM(C20:C21)","v":876.76083300000005},2709.38,1031.2950000000001,102.05,2706,3112.75,0,0,0,0,1079.77,0,null,{"$f":"N19*'2.3'!$F$39","v":{"$error":"#REF!"}}]
[null,"в т.ч. вспомогательные материалы",876.76083300000005,348.81,1031.2950000000001,2.0499999999999998,390,450,null,null,null,null,1079.77,null,null,{"$f":"N20*'2.3'!$F$39","v":{"$error":"#REF!"}}]
[null," услуги",0,2360.5700000000002,null,100,2316,2662.75,null,null,null,null,null,null,null,{"$f":"N21*'2.3'!$F$39","v":{"$error":"#REF!"}}]
["3.5.","расходы на содержание бесхозяйных сетей"]
["4.","Расходы по подготовке и освоению производства (пусковые работы)",0,null,null,null,null,null,null,null,null,null,null,null,{"$f":"IF(ISERROR(N23/E23),0,N23/E23)","v":0},{"$f":"N23*'2.3'!$F$39","v":{"$error":"#REF!"}}]
["5.","Прочие прямые расходы, в том числе",6884.1944110000004,{"$f":"D25+D28","v":7278.38},15113.095386000001,261.60000000000002,799.64,919.5,0,0,0,0,null,0,null,{"$f":"N24*'2.3'!$F$39","v":{"$error":"#REF!"}}]
[null,"аренда производственного оборудования",6264.2709999999997,6266.91,6148.1686040000004,null,null,null,null,null,null,null,6992.55,null,null,{"$f":"N25*'2.3'!$F$39","v":{"$error":"#REF!"}}]
[null,"в том числе амортизация у арендодателя",5277.3980000000001,null,5277.3980000000001,null,null,null,null,null,null,null,null,null,null,{"$f":"N26*'2.3'!$F$39","v":{"$error":"#REF!"}}]
[null,"налог на имущество у арендодателя",986.87333799999999,null,870.77060400000005,null,null,null,null,null,null,null,null,null,null,{"$f":"N27*'2.3'!$F$39","v":{"$error":"#REF!"}}]
[null,"энергия",null,1011.47,721.87,261.60000000000002,799.64,919.5,null,null,null,null,830.93,null,null,{"$f":"N28*'2.3'!$F$39","v":{"$error":"#REF!"}}]
["6.","Цеховые (общепроизводственные) расходы",9500.9592470000007,null,null,null,null,null,null,null,null,null,null,null,{"$f":"IF(ISERROR(N29/#REF!),0,N29/#REF!)","v":0},{"$f":"N29*'2.3'!$F$39","v":{"$error":"#REF!"}}]
["7.","Другие расходы",{"$f":"C32+C33+C34+C35+C36+C44","v":19563.849999999999},7838.2199999999993,null,2178.2800000000002,8516.41,8468.5,0,0,0,0,8398.7899999999991,0,{"$f":"IF(ISERROR(N30/#REF!),0,N30/#REF!)","v":0},{"$f":"N30*'2.3'!$F$39","v":{"$error":"#REF!"}}]
[null,"    всего в том числе:",null,null,null,null,null,null,null,null,null,null,null,null,null,{"$f":"N31*'2.3'!$F$39","v":{"$error":"#REF!"}}]
["7.1.","Целевые средства на НИОКР",null,null,null,null,null,null,null,null,null,null,null,null,{"$f":"IF(ISERROR(N32/E32),0,N32/E32)","v":0},{"$f":"N32*'2.3'!$F$39","v":{"$error":"#REF!"}}]
["7.2.","Средства на страхование",null,1098.8499999999999,1618.77,290.10000000000002,1191.69,1370.5,null,null,null,null,1774.51,null,{"$f":"IF(ISERROR(N33/E33),0,N33/E33)","v":0},{"$f":"N33*'2.3'!$F$39","v":{"$error":"#REF!"}}]
["7.3.","Плата за предельно допустимые выбросы (сбросы) загрязняющих вещетв",null,null,null,null,null,null,null,null,null,null,null,null,0,{"$f":"N34*'2.3'!$F$39","v":{"$error":"#REF!"}}]
["7.4.","Отчисления в ремонтный фонд в случае его формирования",null,null,null,null,null,null,null,null,null,null,null,null,0,{"$f":"N35*'2.3'!$F$39","v":{"$error":"#REF!"}}]
["7.5.","Непроизводственные расходы (налоги и другие обязательные платежи и сборы) всего",{"$f":"SUM(C37:C43)","v":0},6739.37,6624.28,1888.18,7324.72,7098,0,0,0,0,6624.28,0,0,{"$f":"N36*'2.3'!$F$39","v":{"$error":"#REF!"}}]
[null,"    в том числе:"]
[null,"налог на имущество ",null,6739.37,6624.28,1888.18,7324.72,7098,null,null,null,null,6624.28,null,0,{"$f":"N38*'2.3'!$F$39","v":{"$error":"#REF!"}}]
[null,null,null,null,null,null,null,null,null,null,null,null,null,null,0,{"$f":"N39*'2.3'!$F$39","v":{"$error":"#REF!"}}]
[null,null,null,null,null,null,null,null,null,null,null,null,null,null,0,{"$f":"N40*'2.3'!$F$39","v":{"$error":"#REF!"}}]
[null,null,null,null,null,null,null,null,null,null,null,null,null,null,0,{"$f":"N41*'2.3'!$F$39","v":{"$error":"#REF!"}}]
[null,null,null,null,null,null,null,null,null,null,null,null,null,null,0,{"$f":"N42*'2.3'!$F$39","v":{"$error":"#REF!"}}]
[null,null,null,null,null,null,null,null,null,null,null,null,null,null,0,{"$f":"N43*'2.3'!$F$39","v":{"$error":"#REF!"}}]
["7.6.","Другие затраты, относимые на себестоимость продукции всего",{"$f":"SUM(C45:C49)","v":19563.849999999999},0,0,0,0,0,0,0,0,0,0,0,0,{"$f":"N44*'2.3'!$F$39","v":{"$error":"#REF!"}}]
[null,"    в том числе:",19563.849999999999]
[null,null,null,null,null,null,null,null,null,null,null,null,null,null,0,{"$f":"N46*'2.3'!$F$39","v":{"$error":"#REF!"}}]
[null,null,null,null,null,null,null,null,null,null,null,null,null,null,0,{"$f":"N47*'2.3'!$F$39","v":{"$error":"#REF!"}}]
[null,null,null,null,null,null,null,null,null,null,null,null,null,null,0,{"$f":"N48*'2.3'!$F$39","v":{"$error":"#REF!"}}]
[null,null,null,null,null,null,null,null,null,null,null,null,null,null,0,{"$f":"N49*'2.3'!$F$39","v":{"$error":"#REF!"}}]
["8.","Недополученный по независящим причинам доход",null,null,6773.2926310000003,null,null,null,null,null,null,null,null,null,0,{"$f":"N50*'2.3'!$F$39","v":{"$error":"#REF!"}}]
["9.","Избыток средств, полученный в предыдущем периоде регулирования",null,null,null,null,null,null,null,null,null,null,null,null,0,{"$f":"N51*'2.3'!$F$39","v":{"$error":"#REF!"}}]
["10.","Итого производственные расходы ",{"$f":"C6+C7+C8+C23+C24+C29+C30+C50-C51","v":78226.273052000004},78037.681000000011,81405.069456999991,12863.538999999999,76839.16,81311.192999999999,0,0,0,0,20385.16,{"$f":"N6+N7+N8+N23+N24+N29+N30+N50-N51+N44","v":0},0,{"$f":"P54+P55+P56+P57","v":{"$error":"#REF!"}}]
[null,"    в том числе:",null,null,null,null,null,null,null,null,null,null,null,null,null,{"$f":"IF(P52=0,0,P52/N52)","v":{"$error":"#REF!"}}]
[null,"ВН",{"$f":"IF(C$61=0,0,C11 + (C$52 - C$11- C$12- C$13- C$14)*C63 / C$61 )","v":2562.0887610359187},0,{"$f":"IF(E$61=0,0,E11 + (E$52 - E$11- E$12- E$13- E$14)*E63 / E$61 )","v":2616.5389746550482},0,2446.4504975593118,2584.5886218435526,0,0,0,0,650.04686052691534,{"$f":"IF(N$61=0,0,N11 + (N$52 - N$11- N$12- N$13- N$14)*N63 / N$61 )","v":0},{"$f":"IF(ISERROR(N54/E54),0,N54/E54)","v":0},{"$f":"IF('4'!#REF!=0,0,(N54-N11)*'4'!#REF!+P11)","v":{"$error":"#REF!"}}]
[null,"СН1",5460.0522533332078,0,5576.0907832385146,0,5213.6183080781429,5508.0036503205074,0,0,0,0,1385.3110319930877,{"$f":"IF(N$61=0,0,N12 + (N$52 - N$11- N$12- N$13- N$14)*N64 / N$61 )","v":0},{"$f":"IF(ISERROR(N55/E55),0,N55/E55)","v":0},{"$f":"IF('4'!#REF!=0,0,(N55-N12)*'4'!#REF!+P12)","v":{"$error":"#REF!"}}]
[null,"СН2",{"$f":"IF(C$61=0,0,C13 + (C$52 - C$11- C$12- C$13- C$14)*C65 / C$61 )","v":70106.092927116755},0,73112.317033808416,0,69085.478573282482,73119.702209142954,0,0,0,0,18324.927865368001,{"$f":"IF(N$61=0,0,N13 + (N$52 - N$11- N$12- N$13- N$14)*N65 / N$61 )","v":0},{"$f":"IF(ISERROR(N56/E56),0,N56/E56)","v":0},{"$f":"IF('4'!#REF!=0,0,(N56-N13)*'4'!#REF!+P13)","v":{"$error":"#REF!"}}]
[null,"НН",{"$f":"IF(C$61=0,0,C14 + (C$52 - C$11- C$12- C$13- C$14)*C66 / C$61 )","v":98.039110514129547},0,100.1226652980248,0,93.612621080075712,98.898518692993093,0,0,0,0,24.874242111999312,{"$f":"IF(N$61=0,0,N14 + (N$52 - N$11- N$12- N$13- N$14)*N66 / N$61 )","v":0},{"$f":"IF(ISERROR(N57/E57),0,N57/E57)","v":0},{"$f":"IF('4'!#REF!=0,0,(N57-N14)*'4'!#REF!+P14)","v":{"$error":"#REF!"}}]
[]
["11.","расходы на 1 у. е. (тыс. руб.)",{"$f":"IF(C61=0,0,C52/C61)","v":18.134547704733336},0,18.495109712906295,0,17.335963085997605,18.34491475865206,0,0,0,0,4.6063411318517238,{"$f":"IF(N61=0,0,N52/N61)","v":0},{"$f":"IF(ISERROR(N59/E59),0,N59/E59)","v":0},{"$f":"N59","v":0}]
[null,"Справочно"]
["12.","Всего условных единиц оборудования",{"$f":"C63+C64+C65+C66","v":4313.66},{"$f":"D63+D64+D65+D66","v":0},{"$f":"E63+E64+E65+E66","v":4401.4374999999991},{"$f":"F63+F64+F65+F66","v":0},4432.3559999999998,4432.3559999999998,4434.3559999999998,0,0,0,4425.4559999999992,0,{"$f":"IF(ISERROR(N61/E61),0,N61/E61)","v":0},{"$f":"P63+P64+P65+P66","v":0}]
[null,"    в том числе:"]
[null,"ВН",141.12,null,141.12,null,{"$f":"'2.3'!B27","v":141.12},{"$f":"'2.3'!$B$28","v":141.12},{"$f":"'2.3'!$B$29","v":141.12},{"$f":"'2.3'!$B$30","v":0},{"$f":"'2.3'!$B$31","v":0},{"$f":"'2.3'!$B$32","v":0},141.12,null,{"$f":"IF(ISERROR(N63/E63),0,N63/E63)","v":0},{"$f":"IF(N$59=0,0,P54/N$59)","v":0}]
[null,"СН1",300.74,null,300.74,null,{"$f":"'2.3'!C27","v":300.74},{"$f":"'2.3'!$C$28","v":300.74},{"$f":"'2.3'!$C$29","v":300.74},{"$f":"'2.3'!$C$30","v":0},{"$f":"'2.3'!$C$31","v":0},{"$f":"'2.3'!$C$32","v":0},300.74,null,{"$f":"IF(ISERROR(N64/E64),0,N64/E64)","v":0},{"$f":"IF(N$59=0,0,P55/N$59)","v":0}]
[null,"СН2",3866.4,null,3954.1774999999998,null,{"$f":"'2.3'!D27","v":3985.096},{"$f":"'2.3'!$D$28","v":3985.096},{"$f":"'2.3'!$D$29","v":3987.096},{"$f":"'2.3'!$D$30","v":0},{"$f":"'2.3'!$D$31","v":0},{"$f":"'2.3'!$D$32","v":0},3978.1959999999999,null,{"$f":"IF(ISERROR(N65/E65),0,N65/E65)","v":0},{"$f":"IF(N$59=0,0,P56/N$59)","v":0}]
[null,"НН",5.4,null,5.4,null,{"$f":"'2.3'!E27","v":5.4},{"$f":"'2.3'!$E$28","v":5.4},{"$f":"'2.3'!$E$29","v":5.4},{"$f":"'2.3'!$E$30","v":0},{"$f":"'2.3'!$E$31","v":0},{"$f":"'2.3'!$E$32","v":0},5.4,null,{"$f":"IF(ISERROR(N66/E66),0,N66/E66)","v":0},{"$f":"IF(N$59=0,0,P57/N$59)","v":0}]
[]
[null,"Руководитель организации",null,null,null,null,null,"         (подпись)                             (Ф.И.О.)",null,null,null,null,"К. Ю. Вергазов"]
[]
[null,"Должностное лицо, ответственное за составление формы",null,null,null,null,null,"         (подпись)                             (Ф.И.О.)",null,null,null,null,"О. В.  Костюкова"]

{"sheet":"ОПР -25 счет","index":14,"n_rows":335,"n_cols":13,"rows_kept":335,"cut":false,"hidden":false,"merged":[[0,10,0,12],[0,3,0,6],[44,0,44,1],[38,0,38,2],[2,0,2,6],[5,0,5,6],[30,0,30,6],[37,0,37,6],[42,0,42,1]]}
[null,{"$f":"Анкета!B3","v":"АО \"Чепецкий механический завод\""},null,"Приложение Цеховые расходы (25 счет)"]
[]
["Расчет цеховых расходов, относимых на услуги по передаче электрической энергии"]
[null,null,null,null,null,null,null,null,null,null,"тыс.руб."]
["№ п/п","Статья затрат","Факт 2014 года","Факт I квартала 2015 года","Ожидаемое 2015 года","План предприятия на 2016 год","План предприятия на 2017 год","План предприятия на 2018 год","План предприятия на 2019 год","План предприятия на 2020 год","Признано обоснованным регулирующим органом на 2016 год","в том числе доля на  услуги по передаче электрической энергии","в том числе доля на сторонних потребителей услуг по передаче электрической энергии"]
["Расчет общей суммы цеховых расходов по организации"]
["1.","Оплата труда цехового персонала",null,null,null,null,null,null,null,null,null,{"$f":"K7*K$37","v":0},{"$f":"K7*K$37*'2.3'!$F$39","v":{"$error":"#REF!"}}]
[null,"среднемесячная оплата труда цехового персонала, (руб.)",{"$f":"IF(C9=0,0,C7/12/C9*1000)","v":0},{"$f":"IF(D9=0,0,D7/3/D9*1000)","v":0},0,0,0,0,0,0,0,null,{"$f":"K8*K$37*'2.3'!$F$39","v":{"$error":"#REF!"}}]
[null,"численность цехового персонала, ед.",null,null,null,null,null,null,null,null,null,{"$f":"K9*K$37","v":0},{"$f":"K9*K$37*'2.3'!$F$39","v":{"$error":"#REF!"}}]
["2.","Страховые взносы социального характера",null,null,null,null,null,null,null,null,null,0,{"$f":"K10*K$37*'2.3'!$F$39","v":{"$error":"#REF!"}}]
["3.","Амортизация",null,null,null,null,null,null,null,null,null,0,{"$f":"K11*K$37*'2.3'!$F$39","v":{"$error":"#REF!"}}]
["4.","Услуги коммунального характера",{"$f":"C13+C14+C17+C16","v":0},0,0,0,0,0,0,0,0,0,{"$f":"K12*K$37*'2.3'!$F$39","v":{"$error":"#REF!"}}]
[null,"электрическая энергия",null,null,null,null,null,null,null,null,null,0,{"$f":"K13*K$37*'2.3'!$F$39","v":{"$error":"#REF!"}}]
[null,"отопление",null,null,null,null,null,null,null,null,null,0,{"$f":"K14*K$37*'2.3'!$F$39","v":{"$error":"#REF!"}}]
[null,"газ"]
[null,"ГВС",null,null,null,null,null,null,null,null,null,0,{"$f":"K16*K$37*'2.3'!$F$39","v":{"$error":"#REF!"}}]
[null,"водоснабжение",null,null,null,null,null,null,null,null,null,0,{"$f":"K17*K$37*'2.3'!$F$39","v":{"$error":"#REF!"}}]
[null,"водоотведение"]
["5.","Обучение работников, повышение квалификации",null,null,null,null,null,null,null,null,null,0,{"$f":"K19*K$37*'2.3'!$F$39","v":{"$error":"#REF!"}}]
["6.","Расходы по охране труда",null,null,null,null,null,null,null,null,null,0,{"$f":"K20*K$37*'2.3'!$F$39","v":{"$error":"#REF!"}}]
["7.","Услуги связи",null,null,null,null,null,null,null,null,null,0,{"$f":"K21*K$37*'2.3'!$F$39","v":{"$error":"#REF!"}}]
["8.","Арендная плата",null,null,null,null,null,null,null,null,null,0,{"$f":"K22*K$37*'2.3'!$F$39","v":{"$error":"#REF!"}}]
["9.","Прочие расходы (с расшифровкой)",{"$f":"SUM(C24:C29)","v":0},{"$f":"SUM(D24:D29)","v":0},0,{"$f":"SUM(F24:F29)","v":0},{"$f":"SUM(G24:G29)","v":0},{"$f":"SUM(H24:H29)","v":0},{"$f":"SUM(I24:I29)","v":0},{"$f":"SUM(J24:J29)","v":0},0,0,{"$error":"#REF!"}]
[null,"Вспомогательные материалы",null,null,null,null,null,null,null,null,null,0,{"$f":"K24*K$37*'2.3'!$F$39","v":{"$error":"#REF!"}}]
[null,"Услуги по ремонту и техническому обслуживанию",null,null,null,null,null,null,null,null,null,0,{"$f":"K25*K$37*'2.3'!$F$39","v":{"$error":"#REF!"}}]
[null,null,null,null,null,null,null,null,null,null,null,0,{"$f":"K26*K$37*'2.3'!$F$39","v":{"$error":"#REF!"}}]
[null,null,null,null,null,null,null,null,null,null,null,0,{"$f":"K27*K$37*'2.3'!$F$39","v":{"$error":"#REF!"}}]
[null,null,null,null,null,null,null,null,null,null,null,0,{"$f":"K28*K$37*'2.3'!$F$39","v":{"$error":"#REF!"}}]
[null,null,null,null,null,null,null,null,null,null,null,0,{"$f":"K29*K$37*'2.3'!$F$39","v":{"$error":"#REF!"}}]
["10.","Итого:",{"$f":"C7+C10+C11+C12+C19+C20+C21+C22+C23","v":0},0,0,0,0,0,{"$f":"I7+I10+I11+I12+I19+I20+I21+I22+I23","v":0},{"$f":"J7+J10+J11+J12+J19+J20+J21+J22+J23","v":0},{"$f":"K7+K10+K11+K12+K19+K20+K21+K22+K23","v":0},{"$f":"L7+L10+L11+L12+L19+L20+L21+L22+L23","v":0},{"$f":"M7+M10+M11+M12+M19+M20+M21+M22+M23","v":{"$error":"#REF!"}}]
[]
["11.","База распределения цеховых расходов согласно учетной политике организации"]
["11.1.","наименование"]
["11.2.","всего по организации (по цеху), тыс.руб."]
["11.3.","в том числе база, относимая на услуги по передаче электрической энергии, тыс. руб."]
["12.","% цеховых расходов",{"$f":"IF(C34=0,0,C30/C34)","v":0},{"$f":"IF(D34=0,0,D30/D34)","v":0},0.74402000000000001,0,0,0,{"$f":"IF(I34=0,0,I30/I34)","v":0},{"$f":"IF(J34=0,0,J30/J34)","v":0},0]
["13.","Доля цеховых расходов, относимая на услуги по передаче электрической энергии",{"$f":"IF(C34=0,0,C35/C34)","v":0},0,0,0,0,0,0,0,{"$f":"C37","v":0}]
["Расчет цеховых расходов, относимых на услуги по передаче электрической энергии"]
[]
["14.","Сумма цеховых расходов, относимых на услуги по передаче электрической энергии, тыс.руб.",{"$f":"C36*C35","v":0},{"$f":"D36*D35","v":0},{"$f":"E36*E35","v":0},0,0,0,0,0,{"$f":"K37*K30","v":0}]
["15.","Сумма цеховых расходов согласно калькуляции (табл.18), тыс.руб.",{"$f":"'18'!#REF!","v":{"$error":"#REF!"}},{"$f":"'18'!F29","v":0},{"$f":"'18'!G29","v":0},{"$f":"'18'!H29","v":0},{"$f":"'18'!I29","v":0},{"$f":"'18'!J29","v":0},{"$f":"'18'!K29","v":0},{"$f":"'18'!L29","v":0},{"$f":"'18'!N29","v":0}]
[]
["Руководитель организации",null,null,null,null,"К. Ю. Вергазов",null,"         (подпись)                             (Ф.И.О.)"]
[]
["Должностное лицо, ответственное за составление формы",null,null,null,null,"О. В. Костюкова",null,"         (подпись)                             (Ф.И.О.)"]
[]
[]
[]
[]
[]
[]
[]
[]
[]
[]
[]
[]
[]
[]
[]
[]
[]
[]
[]
[]
[]
[]
[]
[]
[]
[]
[]
[]
[]
[]
[]
[]
[]
[]
[]
[]
[]
[]
[]
[]
[]
[]
[]
[]
[]
[]
[]
[]
[]
[]
[]
[]
[]
[]
[]
[]
[]
[]
[]
[]
[]
[]
[]
[]
[]
[]
[]
[]
[]
[]
[]
[]
[]
[]
[]
[]
[]
[]
[]
[]
[]
[]
[]
[]
[]
[]
[]
[]
[]
[]
[]
[]
[]
[]
[]
[]
[]
[]
[]
[]
[]
[]
[]
[]
[]
[]
[]
[]
[]
[]
[]
[]
[]
[]
[]
[]
[]
[]
[]
[]
[]
[]
[]
[]
[]
[]
[]
[]
[]
[]
[]
[]
[]
[]
[]
[]
[]
[]
[]
[]
[]
[]
[]
[]
[]
[]
[]
[]
[]
[]
[]
[]
[]
[]
[]
[]
[]
[]
[]
[]
[]
[]
[]
[]
[]
[]
[]
[]
[]
[]
[]
[]
[]
[]
[]
[]
[]
[]
[]
[]
[]
[]
[]
[]
[]
[]
[]
[]
[]
[]
[]
[]
[]
[]
[]
[]
[]
[]
[]
[]
[]
[]
[]
[]
[]
[]
[]
[]
[]
[]
[]
[]
[]
[]
[]
[]
[]
[]
[]
[]
[]
[]
[]
[]
[]
[]
[]
[]
[]
[]
[]
[]
[]
[]
[]
[]
[]
[]
[]
[]
[]
[]
[]
[]
[]
[]
[]
[]
[]
[]
[]
[]
[]
[]
[]
[]
[]
[]
[]
[]
[]
[]
[]
[]
[]
[]
[]
[]
[]
[]
[]
[]
[]
[]
[]
[]
[]
[]
[]
[]
[]
[]
[]
[]
[]
[]
[]
[null,null,"прямые расходы"]
[null,null,"оплата труда производственного персонала"]
[null,null,"выручка от реализации услуг"]

{"sheet":"ОХР -26 счет","index":15,"n_rows":338,"n_cols":13,"rows_kept":338,"cut":false,"hidden":false,"merged":[[0,4,0,10],[47,0,47,1],[2,0,2,10],[5,0,5,6],[32,0,32,6],[40,0,40,6],[41,0,41,2],[45,0,45,1]]}
[null,{"$f":"Анкета!B3","v":"АО \"Чепецкий механический завод\""},null,null,"Приложение Общехозяйственные расходы (26 счет)"]
[]
["Расчет общехозяйственных расходов, относимых на  услуги по передаче электрической энергии"]
[null,null,null,null,null,null,null,null,null,null,"тыс.руб."]
["№ п/п","Статья затрат","Факт 2014 года","Факт I квартала 2015 года","Ожидаемое 2015 года","План предприятия на 2016 год","План предприятия на 2017 год","План предприятия на 2018 год","План предприятия на 2019 год","План предприятия на 2020 год","Признано обоснованным регулирующим органом на 2016 год","в том числе доля на  услуги по передаче электрической энергии","в том числе доля на сторонних потребителей услуг по передаче электрической энергии"]
["Расчет общей суммы общехозяйственных расходов по организации"]
["1.","Оплата труда",null,null,null,null,null,null,null,null,null,{"$f":"K7*K$39","v":0},{"$f":"K7*K$39*'2.3'!$F$39","v":{"$error":"#REF!"}}]
[null,"среднемесячная оплата труда, (руб.)",{"$f":"IF(C9=0,0,C7/12/C9*1000)","v":0},{"$f":"IF(D9=0,0,D7/12/D9*1000)","v":0},0,0,0,0,0,0,0,null,{"$f":"K8*K$39*'2.3'!$F$39","v":{"$error":"#REF!"}}]
[null,"численность, ед.",null,null,null,null,null,null,null,null,null,{"$f":"K9*K$39","v":0},{"$f":"K9*K$39*'2.3'!$F$39","v":{"$error":"#REF!"}}]
["2.","Страховые взносы социального характера",null,null,null,null,null,null,null,null,null,0,{"$f":"K10*K$39*'2.3'!$F$39","v":{"$error":"#REF!"}}]
["3.","Амортизация",null,null,null,null,null,null,null,null,null,0,{"$f":"K11*K$39*'2.3'!$F$39","v":{"$error":"#REF!"}}]
["4.","Услуги коммунального характера",{"$f":"C13+C14+C18+C16","v":0},{"$f":"D13+D14+D18+D16","v":0},0,0,0,0,0,0,0,0,{"$f":"K12*K$39*'2.3'!$F$39","v":{"$error":"#REF!"}}]
[null,"электрическая энергия",null,null,null,null,null,null,null,null,null,0,{"$f":"K13*K$39*'2.3'!$F$39","v":{"$error":"#REF!"}}]
[null,"отопление",null,null,null,null,null,null,null,null,null,0,{"$f":"K14*K$39*'2.3'!$F$39","v":{"$error":"#REF!"}}]
[null,"газ",null,null,null,null,null,null,null,null,null,0]
[null,"ГВС",null,null,null,null,null,null,null,null,null,0,{"$f":"K16*K$39*'2.3'!$F$39","v":{"$error":"#REF!"}}]
[null,"водоснабжение",null,null,null,null,null,null,null,null,null,0]
[null,"водоотведение",null,null,null,null,null,null,null,null,null,0,{"$f":"K18*K$39*'2.3'!$F$39","v":{"$error":"#REF!"}}]
["5.","Обучение работников, повышение квалификации",null,null,null,null,null,null,null,null,null,0,{"$f":"K19*K$39*'2.3'!$F$39","v":{"$error":"#REF!"}}]
["6.","Расходы по охране труда",null,null,null,null,null,null,null,null,null,0,{"$f":"K20*K$39*'2.3'!$F$39","v":{"$error":"#REF!"}}]
["7.","Услуги связи",null,null,null,null,null,null,null,null,null,0,{"$f":"K21*K$39*'2.3'!$F$39","v":{"$error":"#REF!"}}]
["8.","Арендная плата",null,null,null,null,null,null,null,null,null,0,{"$f":"K22*K$39*'2.3'!$F$39","v":{"$error":"#REF!"}}]
["9.","Средства на страхование",null,null,null,null,null,null,null,null,null,0,{"$f":"K23*K$39*'2.3'!$F$39","v":{"$error":"#REF!"}}]
["10.","Информационные и консультационные услуги",null,null,null,null,null,null,null,null,null,0,{"$f":"K24*K$39*'2.3'!$F$39","v":{"$error":"#REF!"}}]
["11.","Налоги и другие обязательные платежи, в том числе",null,null,null,null,null,null,null,null,null,0,{"$f":"K25*K$39*'2.3'!$F$39","v":{"$error":"#REF!"}}]
[null,"плата за землю",null,null,null,null,null,null,null,null,null,0,{"$f":"K26*K$39*'2.3'!$F$39","v":{"$error":"#REF!"}}]
[null,"налог на имущество",null,null,null,null,null,null,null,null,null,0,{"$f":"K27*K$39*'2.3'!$F$39","v":{"$error":"#REF!"}}]
["12.","Прочие расходы ",{"$f":"SUM(C29:C31)","v":0},{"$f":"SUM(D29:D31)","v":0},0,0,0,0,0,0,0,0,{"$f":"K28*K$39*'2.3'!$F$39","v":{"$error":"#REF!"}}]
[null,null,null,null,null,null,null,null,null,null,null,0,{"$f":"K29*K$39*'2.3'!$F$39","v":{"$error":"#REF!"}}]
[null,null,null,null,null,null,null,null,null,null,null,0,{"$f":"K30*K$39*'2.3'!$F$39","v":{"$error":"#REF!"}}]
[null,null,null,null,null,null,null,null,null,null,null,0,{"$f":"K31*K$39*'2.3'!$F$39","v":{"$error":"#REF!"}}]
["13.","Итого:",{"$f":"C7+C10+C11+C12+C19+C20+C21+C22+C23+C24+C25+C28","v":0},{"$f":"D7+D10+D11+D12+D19+D20+D21+D22+D23+D24+D25+D28","v":0},0,0,0,0,0,0,0,0,{"$error":"#REF!"}]
[]
["14.","База распределения общехозяйственных  расходов согласно учетной политике организации"]
["14.1.","наименование"]
["14.2.","всего по организации, тыс.руб."]
["14.3.","в том числе база, относимая на услуги по передаче электрической энергии, тыс. руб."]
["15.","% общехозяйственных расходов",{"$f":"IF(C36=0,0,C32/C36)","v":0},0,0,0,0,0,0,0,{"$f":"IF(K36=0,0,K32/K36)","v":0}]
["16.","Доля  общехозяйственных расходов, относимая на услуги по передаче электрической энергии",{"$f":"IF(C36=0,0,C37/C36)","v":0},0,0,0,0,0,0,0,{"$f":"C39","v":0}]
[]
["Расчет цеховых расходов, относимых на услуги по передаче электрической энергии"]
[]
["17.","Сумма общехозяйственных расходов, относимая на услуги по передаче электрической энергии, тыс.руб.",{"$f":"C38*C37","v":0},{"$f":"D38*D37","v":0},0,0,{"$f":"G38*G37","v":0},0,0,0,{"$f":"K39*K32","v":0}]
["18.","Сумма общехозяйственных  расходов согласно калькуляции (табл.18), тыс.руб.",{"$f":"'18'!#REF!","v":{"$error":"#REF!"}},{"$f":"'18'!F30","v":2178.2800000000002},{"$f":"'18'!G30","v":8516.41},{"$f":"'18'!H30","v":8468.5},{"$f":"'18'!I30","v":0},{"$f":"'18'!J30","v":0},{"$f":"'18'!K30","v":0},{"$f":"'18'!L30","v":0},{"$f":"'18'!N30","v":0}]
[]
["Руководитель организации",null,null,null,null,"К. Ю. Вергазов",null,"         (подпись)                             (Ф.И.О.)"]
[]
["Должностное лицо, ответственное за составление формы",null,null,null,null,"О. В. Костюкова",null,"         (подпись)                             (Ф.И.О.)"]
[]
[]
[]
[]
[]
[]
[]
[]
[]
[]
[]
[]
[]
[]
[]
[]
[]
[]
[]
[]
[]
[]
[]
[]
[]
[]
[]
[]
[]
[]
[]
[]
[]
[]
[]
[]
[]
[]
[]
[]
[]
[]
[]
[]
[]
[]
[]
[]
[]
[]
[]
[]
[]
[]
[]
[]
[]
[]
[]
[]
[]
[]
[]
[]
[]
[]
[]
[]
[]
[]
[]
[]
[]
[]
[]
[]
[]
[]
[]
[]
[]
[]
[]
[]
[]
[]
[]
[]
[]
[]
[]
[]
[]
[]
[]
[]
[]
[]
[]
[]
[]
[]
[]
[]
[]
[]
[]
[]
[]
[]
[]
[]
[]
[]
[]
[]
[]
[]
[]
[]
[]
[]
[]
[]
[]
[]
[]
[]
[]
[]
[]
[]
[]
[]
[]
[]
[]
[]
[]
[]
[]
[]
[]
[]
[]
[]
[]
[]
[]
[]
[]
[]
[]
[]
[]
[]
[]
[]
[]
[]
[]
[]
[]
[]
[]
[]
[]
[]
[]
[]
[]
[]
[]
[]
[]
[]
[]
[]
[]
[]
[]
[]
[]
[]
[]
[]
[]
[]
[]
[]
[]
[]
[]
[]
[]
[]
[]
[]
[]
[]
[]
[]
[]
[]
[]
[]
[]
[]
[]
[]
[]
[]
[]
[]
[]
[]
[]
[]
[]
[]
[]
[]
[]
[]
[]
[]
[]
[]
[]
[]
[]
[]
[]
[]
[]
[]
[]
[]
[]
[]
[]
[]
[]
[]
[]
[]
[]
[]
[]
[]
[]
[]
[]
[]
[]
[]
[]
[]
[]
[]
[]
[]
[]
[]
[]
[]
[]
[]
[]
[]
[]
[]
[]
[]
[]
[]
[]
[]
[]
[]
[]
[]
[]
[]
[]
[]
[]
[null,null,"прямые расходы"]
[null,null,"оплата труда производственного персонала"]
[null,null,"выручка от реализации услуг"]

{"sheet":"Закупки","index":16,"n_rows":46,"n_cols":18,"rows_kept":46,"cut":false,"hidden":false,"merged":[[43,0,43,3],[44,0,44,3],[44,9,44,10],[45,6,45,8],[1,0,1,13],[2,0,2,13],[5,0,5,13],[14,0,14,13],[27,0,27,13]]}
[null,null,null,null,null,null,null,null,null,null,null,null,null,null,null,"Приложение Информация о закупках"]
["Информация о закупках"]
[{"$f":"Анкета!B3","v":"АО \"Чепецкий механический завод\""}]
["N п/п","Статьи затрат","Ед. изм.","Факт 2014 года, в том числе","по результатам проведения конкурса","по результатам проведения аукциона","по результатам запроса котировок","иные процедуры","Ожидаемое 2015 года, в том числе","по результатам проведения конкурса","по результатам проведения аукциона","по результатам запроса котировок","иные процедуры","План предприятия на 2016 год, в том числе","по результатам проведения конкурса","по результатам проведения аукциона","по результатам запроса котировок","иные процедуры"]
[1,2,3,{"$f":"C5+1","v":4},5,6,7,8,9,10,11,12,13,14,15,16,17,18]
["1. Прямые затраты, относимые на услуги по передаче электрической энергии"]
[1,"Расходы на содержание и эксплуатацию оборудования, в том числе:","тыс.руб.",{"$f":"E7+F7+G7+H7","v":0},null,null,null,null,36576.294999999998,null,null,null,null,{"$f":"O7+P7+Q7+R7","v":0}]
["1.1.","услуги подрядных организаций по ремонту производственного оборудования","тыс.руб.",{"$f":"E8+F8+G8+H8","v":0},null,null,null,null,10417,null,null,null,null,{"$f":"O8+P8+Q8+R8","v":0}]
["1.2.","услуги подрядных организаций по техобслуживанию и эксплуатации оборудования","тыс.руб.",0,null,null,null,null,25128,null,null,null,null,0]
["1.3.","материалы и оборудование на ремонт","тыс.руб.",0,null,null,null,null,{"$f":"J10+K10+L10+M10","v":0},null,null,null,null,0]
["1.4.","вспомогательные материалы","тыс.руб.",0,null,null,null,null,1031.2950000000001,null,null,null,null,0]
["1.5.","транспортные услуги","тыс.руб.",0,null,null,null,null,0,null,null,null,null,0]
["1.6.","энергоаудит, экспертиза",null,0,null,null,null,null,0,null,null,null,null,0]
[2,"Аренда производственного оборудования    ","тыс.руб.",0,null,null,null,null,7256.4219999999996,null,null,null,null,0]
["2. Цеховые расходы"]
["1.","Сырье и материалы","тыс.руб.",{"$f":"E16+F16+G16+H16","v":0},null,null,null,null,{"$f":"J16+K16+L16+M16","v":0},null,null,null,null,{"$f":"O16+P16+Q16+R16","v":0}]
["2.","Услуги подрядных  организаций","тыс.руб.",0,null,null,null,null,0,null,null,null,null,0]
["2.1.","в том числе:\nтехническое обслуживание ","тыс.руб.",0,null,null,null,null,0,null,null,null,null,0]
["2.2.","ремонт ","тыс.руб.",0,null,null,null,null,0,null,null,null,null,0]
["2.3.","расходы по охране труда","тыс.руб.",0,null,null,null,null,0,null,null,null,null,0]
["2.4.","услуги связи","тыс.руб.",0,null,null,null,null,0,null,null,null,null,0]
["2.5.","страхование","тыс.руб.",0,null,null,null,null,0,null,null,null,null,0]
["2.6.","транспортные услуги","тыс.руб.",0,null,null,null,null,0,null,null,null,null,0]
["2.7.","энергоаудит, экспертиза","тыс.руб.",0,null,null,null,null,0,null,null,null,null,0]
["2.8.","повышение квалификации","тыс.руб.",0,null,null,null,null,0,null,null,null,null,0]
["2.9.","прочие расходы (с расшифровкой)","тыс.руб.",0,null,null,null,null,0,null,null,null,null,0]
["3.","Аренда ","тыс.руб.",0,null,null,null,null,0,null,null,null,null,0]
["3. Общехозяйственные расходы"]
[1,"Сырье и материалы","тыс.руб.",0,null,null,null,null,{"$f":"J29+K29+L29+M29","v":0},null,null,null,null,{"$f":"O29+P29+Q29+R29","v":0}]
["2.","Услуги подрядных  организаций","тыс.руб.",0,null,null,null,null,0,null,null,null,null,0]
["2.1.","в том числе:\nтехническое обслуживание ","тыс.руб.",0,null,null,null,null,0,null,null,null,null,0]
["2.2.","ремонт ","тыс.руб.",0,null,null,null,null,0,null,null,null,null,0]
["2.3.","расходы по охране труда","тыс.руб.",0,null,null,null,null,0,null,null,null,null,0]
["2.4.","услуги связи","тыс.руб.",0,null,null,null,null,0,null,null,null,null,0]
["2.5.","страхование","тыс.руб.",0,null,null,null,null,0,null,null,null,null,0]
["2.6.","информационные и консультационные услуги","тыс.руб.",0,null,null,null,null,0,null,null,null,null,0]
["2.7.","транспортные услуги","тыс.руб.",0,null,null,null,null,0,null,null,null,null,0]
["2.8.","энергоаудит, экспертиза","тыс.руб.",0,null,null,null,null,0,null,null,null,null,0]
["2.9.","повышение квалификации","тыс.руб.",0,null,null,null,null,0,null,null,null,null,0]
["2.10.","охрана","тыс.руб.",0,null,null,null,null,0,null,null,null,null,0]
["2.11.","услуги управления","тыс.руб.",0,null,null,null,null,0,null,null,null,null,0]
["2.12.","прочие расходы (с расшифровкой)","тыс.руб.",0,null,null,null,null,0,null,null,null,null,0]
["3.","Аренда ","тыс.руб.",0,null,null,null,null,0,null,null,null,null,0]
["Руководитель организации:",null,null,null,null,null,null,"К. Ю. Вергазов"]
["Должностное лицо, ответственное за составление формы:",null,null,null,null,null,null,"О. В. Костюкова"]
[null,null,null,null,null,"Подпись","ФИО"]

{"sheet":"20","index":17,"n_rows":26,"n_cols":11,"rows_kept":26,"cut":false,"hidden":true,"merged":[[25,0,25,1],[1,0,1,8],[3,0,4,0],[3,1,4,1],[3,2,3,10],[23,0,23,1]]}
[null,{"$f":"Анкета!B3","v":"АО \"Чепецкий механический завод\""},null,null,null,null,null,null,null,null,"Таблица № П1.20."]
["Расчет источников финансирования капитальных вложений "]
[null,null,null,null,null,null,null,null,null,null,"тыс. руб."]
["№ п.п.","Наименование показателей","Передача электроэнергии"]
[null,null,"2014 год утверждено","2014 год  факт","2015 год  утверждено","2015 год  ожидаемое","2016 год план","2017 год план","2018 год план","2019 год план","2020 год план"]
[1,2,{"$f":"B6+1","v":3},{"$f":"C6+1","v":4},5,6,7,8,9,{"$f":"I6+1","v":10},{"$f":"J6+1","v":11}]
["1.","Объем капитальных вложений - всего",{"$f":"'20.1'!B13","v":0},{"$f":"'20.1'!C13","v":0},{"$f":"'20.1'!F13","v":0},{"$f":"'20.1'!G13","v":0},{"$f":"'20.1'!H13","v":0},{"$f":"'20.1'!I13","v":0},{"$f":"'20.1'!J13","v":0},{"$f":"'20.1'!K13","v":0},{"$f":"'20.1'!L13","v":0}]
[null,"    в том числе:"]
["1.1."," - на производственное и научно-техническое развитие"]
["1.2."," - на непроизводственное развитие"]
["2.","Финансирование капитальных вложений из средств - всего",{"$f":"SUM(C13:C20)","v":0},0,0,0,0,0,0,{"$f":"SUM(J13:J20)","v":0},{"$f":"SUM(K13:K20)","v":0}]
[null,"    в том числе:"]
["2.1.","Амортизационных отчислений на полное восстановление основных фондов "]
["2.2.","Неиспользованных средств амортизации и прибыли предыдущих лет на начало  года, указанного в графе"]
["2.3.","Федерального бюджета"]
["2.4.","Республиканского бюджета"]
["2.5.","Местного бюждета "]
["2.6.","Прочих источников"]
["2.7.","Средства, полученные от реализации ценных бумаг"]
["2.8.","Кредитные средства"]
["2.9.","Итого по пп. 2.1. - 2.8.",{"$f":"SUM(C13:C20)","v":0},0,0,0,0,0,0,{"$f":"SUM(J13:J20)","v":0},{"$f":"SUM(K13:K20)","v":0}]
["2.10.","Прибыль (п. 1 - п. 2.9.):",{"$f":"IF(C7>C21, C7-C21, 0)","v":0},0,0,0,0,0,0,{"$f":"IF(J7>J21, J7-J21, 0)","v":0},{"$f":"IF(K7>K21, K7-K21, 0)","v":0}]
[]
["Руководитель организации",null,null,null,null,null,null,"         (подпись)                             (Ф.И.О.)"]
[]
["Должностное лицо, ответственное за составление формы",null,null,null,null,null,null,"         (подпись)                             (Ф.И.О.)"]

{"sheet":"20.1","index":18,"n_rows":17,"n_cols":11,"rows_kept":17,"cut":false,"hidden":false,"merged":[[14,0,14,1],[16,0,16,1],[3,10,4,10],[1,0,1,10],[3,0,4,0],[3,1,4,1],[3,2,3,3],[3,4,4,4],[3,5,4,5],[3,6,3,7],[3,8,4,8],[3,9,4,9]]}
[null,{"$f":"Анкета!B3","v":"АО \"Чепецкий механический завод\""},null,null,null,null,null,null,null,null,"Таблица № П1.20.1-4"]
["Справка о финансировании и освоении капитальных вложений"]
[null,null,null,null,null,null,null,null,null,null,"тыс.руб."]
["Наименование строек","Утверждено на 2014 год","В течение 2014 года",null,"Остаток финансиро-вания","Утверждено на 2015 год","В течение 2015 года",null,"Остаток финансиро-вания","План на 2016 год","Источник финанси-рования"]
[null,null,"Освоено фактически (ввод)","Профинан-сировано",null,null,"Ожидаемое освоение","Ожидаемое финансирование"]
[1,2,3,4,5,6,7,8,9,10,11]
[]
["Объект 1"]
["Объект 2"]
["Объект 3"]
["Объект 4"]
["Добавить строки"]
["Всего",{"$f":"SUM(B7:B12)","v":0},0,0,0,0,0,0,0,0]
[]
["Руководитель организации",null,null,null,null,null,null,"         (подпись)                             (Ф.И.О.)","К. Ю. Вергазов"]
[]
["Должностное лицо, ответственное за составление формы",null,null,null,null,null,null,"         (подпись)                             (Ф.И.О.)","О. В. Костюкова"]

{"sheet":"21","index":19,"n_rows":57,"n_cols":15,"rows_kept":57,"cut":false,"hidden":false,"merged":[[1,0,1,13],[54,0,54,1],[56,0,56,1]]}
[null,{"$f":"Анкета!B3","v":"АО \"Чепецкий механический завод\""},null,null,null,null,null,null,null,null,null,null,null,null,"Таблица № П1.21."]
["Анализ балансовой прибыли, принимаемой при установлении тарифов на передачу электрической энергии"]
[null,null,null,null,null,null,null,null,null,null,null,null,null,null,"тыс. руб."]
["№ п.п.","Наименование показателя","2014 год утверждено","2014 год  факт","2015 год  утверждено ","2015 год  факт 1 квартал","2015 год  ожидаемое","2016 год предложение организации","2017 год предложение организации","2018 год предложение организации","2019 год предложение организации","2020 год предложение организации","2016 год  признано обоснованным регулирующим органом","Рост, %","доля прибыли 2015 года, относимая на сторонних потребителей услуг "]
[1,{"$f":"A5+1","v":2},{"$f":"B5+1","v":3},4,5,6,7,8,{"$f":"H5+1","v":9},{"$f":"I5+1","v":10},11,12,13,14,15]
["1.","Прибыль на развитие производства",null,null,null,null,null,null,null,null,null,null,null,{"$f":"IF(ISERROR(M6/E6),0,M6/E6)","v":0},{"$f":"M6*O$49","v":{"$error":"#REF!"}}]
[null,"    в том числе:"]
["1.1."," - капитальные вложения",{"$f":"SUM(C9:C12)","v":0},0,0,0,0,0,{"$f":"SUM(I9:I12)","v":0},{"$f":"SUM(J9:J12)","v":0},{"$f":"SUM(K9:K12)","v":0},{"$f":"SUM(L9:L12)","v":0},0,{"$f":"IF(ISERROR(M8/E8),0,M8/E8)","v":0},{"$f":"(M8-M9-M10-M11-M12)*'2.3'!$F$39+'21'!O9+'21'!O10+'21'!O11+'21'!O12","v":{"$error":"#REF!"}}]
[null,"ВН",null,null,null,null,null,null,null,null,null,null,null,0,{"$f":"M9*'4'!#REF!","v":{"$error":"#REF!"}}]
[null,"СН1",null,null,null,null,null,null,null,null,null,null,null,0,{"$f":"M10*'4'!#REF!","v":{"$error":"#REF!"}}]
[null,"СН2",null,null,null,null,null,null,null,null,null,null,null,0,{"$f":"'4'!#REF!","v":{"$error":"#REF!"}}]
[null,"НН",null,null,null,null,null,null,null,null,null,null,null,0,{"$f":"'4'!#REF!","v":{"$error":"#REF!"}}]
["2.","Прибыль на социальное развитие ",null,null,null,null,null,null,null,null,null,null,null,0,{"$f":"M13*O$49","v":{"$error":"#REF!"}}]
[null,"    в том числе:"]
["2.1."," - капитальные вложения",null,null,null,null,null,null,null,null,null,null,null,{"$f":"IF(ISERROR(M15/E15),0,M15/E15)","v":0},{"$f":"M15*O$49","v":{"$error":"#REF!"}}]
["3.","Льготы, компенсации и проч.выплаты по Колдоговору",null,null,null,null,null,null,null,null,null,null,null,{"$f":"IF(ISERROR(M16/E16),0,M16/E16)","v":0},{"$f":"M16*O$49","v":{"$error":"#REF!"}}]
["4.","Дивиденды по акциям",null,null,null,null,null,null,null,null,null,null,null,{"$f":"IF(ISERROR(M17/E17),0,M17/E17)","v":0},{"$f":"M17*O$49","v":{"$error":"#REF!"}}]
["5.","Прибыль на прочие цели",null,null,null,null,null,null,null,null,null,null,null,{"$f":"IF(ISERROR(M18/E18),0,M18/E18)","v":0},{"$f":"M18*O$49","v":{"$error":"#REF!"}}]
[null,"    в том числе:"]
["5.1."," - % за пользование кредитом",null,null,null,null,null,null,null,null,null,null,null,{"$f":"IF(ISERROR(M20/E20),0,M20/E20)","v":0},{"$f":"M20*O$49","v":{"$error":"#REF!"}}]
["5.2."," - услуги банка",null,null,null,null,null,null,null,null,null,null,null,{"$f":"IF(ISERROR(M21/E21),0,M21/E21)","v":0},{"$f":"M21*O$49","v":{"$error":"#REF!"}}]
["5.3."," - другие (с расшифровкой)",{"$f":"SUM(C23:C26)","v":0},0,0,0,0,{"$f":"SUM(H23:H26)","v":0},{"$f":"SUM(I23:I26)","v":0},{"$f":"SUM(J23:J26)","v":0},{"$f":"SUM(K23:K26)","v":0},{"$f":"SUM(L23:L26)","v":0},0,{"$f":"IF(ISERROR(M22/E22),0,M22/E22)","v":0},{"$f":"M22*O$49","v":{"$error":"#REF!"}}]
[null,"    в том числе:"]
[null,"Другие прочие платежи из прибыли",null,null,null,null,null,null,null,null,null,null,null,{"$f":"IF(ISERROR(M24/E24),0,M24/E24)","v":0},{"$f":"M24*O$49","v":{"$error":"#REF!"}}]
[null,"Резерв по сомнительным долгам",null,null,null,null,null,null,null,null,null,null,null,{"$f":"IF(ISERROR(M25/E25),0,M25/E25)","v":0},{"$f":"M25*O$49","v":{"$error":"#REF!"}}]
[null,null,null,null,null,null,null,null,null,null,null,null,null,{"$f":"IF(ISERROR(M26/E26),0,M26/E26)","v":0},{"$f":"M26*O$49","v":{"$error":"#REF!"}}]
[null,"Добавить строки"]
["6.","Прибыль, облагаемая налогом",{"$f":"(C6+C13+C16+C17+C18-C20-C21)/0.8","v":0},{"$f":"(D6+D13+D16+D17+D18-D20-D21)/0.8","v":0},{"$f":"(E6+E13+E16+E17+E18-E20-E21)/0.8","v":0},0,0,0,0,0,0,0,0,{"$f":"IF(ISERROR(M28/E28),0,M28/E28)","v":0},{"$f":"M28*O$49","v":{"$error":"#REF!"}}]
["7.","Налоги, сборы, платежи - всего",{"$f":"C31+C36+C41+C42","v":0},0,0,0,0,{"$f":"H31+H36+H41+H42","v":0},{"$f":"I31+I36+I41+I42","v":0},{"$f":"J31+J36+J41+J42","v":0},{"$f":"K31+K36+K41+K42","v":0},{"$f":"L31+L36+L41+L42","v":0},0,{"$f":"IF(ISERROR(M29/E29),0,M29/E29)","v":0},{"$f":"O31+O36+O41+O42","v":{"$error":"#REF!"}}]
[null,"    в том числе:",null,null,null,null,null,null,null,null,null,null,null,null,{"$f":"M30*O73","v":0}]
["7.1.","Налог на прибыль",{"$f":"C28*0.2","v":0},{"$f":"D28*0.2","v":0},0,0,0,0,0,0,0,0,null,{"$f":"IF(ISERROR(M31/E31),0,M31/E31)","v":0},{"$f":"(M31-M32-M33-M34-M35)*'2.3'!$F$39+'21'!O32+'21'!O33+'21'!O34+'21'!O35","v":{"$error":"#REF!"}}]
[null,"ВН",{"$f":"C9/0.8*0.2","v":0},0,0,0,0,0,{"$f":"I9/0.8*0.2","v":0},0,0,0,null,0,{"$f":"M32*'4'!#REF!","v":{"$error":"#REF!"}}]
[null,"СН1",{"$f":"C10/0.8*0.2","v":0},0,0,0,0,0,0,0,0,0,null,0,{"$f":"M33*'4'!#REF!","v":{"$error":"#REF!"}}]
[null,"СН2",0,0,0,0,0,0,0,0,0,0,null,0,{"$f":"M34*'4'!#REF!","v":{"$error":"#REF!"}}]
[null,"НН",0,0,0,0,0,0,0,0,0,0,null,0,{"$f":"M35*'4'!#REF!","v":{"$error":"#REF!"}}]
["7.2.","Налог на имущество",null,null,null,null,null,null,null,null,null,null,null,0,{"$f":"(M36-M37-M38-M39-M40)*'2.3'!$F$39+'21'!O37+'21'!O38+'21'!O39+'21'!O40","v":{"$error":"#REF!"}}]
[null,"ВН",null,null,null,null,null,null,null,null,null,null,null,0,{"$f":"M37*'4'!#REF!","v":{"$error":"#REF!"}}]
[null,"СН1",null,null,null,null,null,null,null,null,null,null,null,0,{"$f":"M38*'4'!#REF!","v":{"$error":"#REF!"}}]
[null,"СН2",null,null,null,null,null,null,null,null,null,null,null,0,{"$f":"M39*'4'!#REF!","v":{"$error":"#REF!"}}]
[null,"НН",null,null,null,null,null,null,null,null,null,null,null,0,{"$f":"M40*'4'!#REF!","v":{"$error":"#REF!"}}]
["7.3.","Плата за выбросы загрязняющих веществ",null,null,null,null,null,null,null,null,null,null,null,0,{"$f":"M41*O84","v":0}]
["7.4.","другие налоги и обязательные сборы и платежи (с расшифровкой)",{"$f":"SUM(C43:C47)","v":0},0,0,0,0,{"$f":"SUM(H43:H47)","v":0},{"$f":"SUM(I43:I47)","v":0},{"$f":"SUM(J43:J47)","v":0},{"$f":"SUM(K43:K47)","v":0},{"$f":"SUM(L43:L47)","v":0},0,0,{"$f":"M42*O85","v":0}]
[null,"    в том числе:"]
[null,null,null,null,null,null,null,null,null,null,null,null,null,{"$f":"IF(ISERROR(M44/E44),0,M44/E44)","v":0},{"$f":"M44*O87","v":0}]
[null,null,null,null,null,null,null,null,null,null,null,null,null,{"$f":"IF(ISERROR(M45/E45),0,M45/E45)","v":0},{"$f":"M45*O88","v":0}]
[null,null,null,null,null,null,null,null,null,null,null,null,null,{"$f":"IF(ISERROR(M46/E46),0,M46/E46)","v":0},{"$f":"M46*O89","v":0}]
[null,"Добавить строки"]
["8."," Прибыль от реализации услуг по передаче электрической энергии",{"$f":"C6+C13+C16+C17+C18+C29","v":0},0,0,0,0,{"$f":"H6+H13+H16+H17+H18+H29","v":0},{"$f":"I6+I13+I16+I17+I18+I29","v":0},{"$f":"J6+J13+J16+J17+J18+J29","v":0},{"$f":"K6+K13+K16+K17+K18+K29","v":0},{"$f":"L6+L13+L16+L17+L18+L29","v":0},0,{"$f":"IF(ISERROR(M48/E48),0,M48/E48)","v":0},{"$f":"O50+O51+O52+O53","v":{"$error":"#REF!"}}]
[null,"    в том числе:",null,null,null,null,null,null,null,null,null,null,null,null,{"$f":"IF(O48=0,0,O48/M48)","v":{"$error":"#REF!"}}]
[null,"ВН",{"$f":"IF('18'!#REF!=0,0,C37+C32+C9+(C$48-C$37-C$38-C$39-C$40-C$32-C$33-C$34-C$35-C$9-C$10-C$11-C$12)/'18'!#REF!*'18'!#REF!)","v":{"$error":"#REF!"}},{"$f":"IF('18'!N$61=0,0,D37+D32+D9+(D$48-D$37-D$38-D$39-D$40-D$32-D$33-D$34-D$35-D$9-D$10-D$11-D$12)/'18'!N$61*'18'!N63)","v":0},{"$f":"IF('18'!E$61=0,0,E37+E32+E9+(E$48-E$37-E$38-E$39-E$40-E$32-E$33-E$34-E$35-E$9-E$10-E$11-E$12)/'18'!E$61*'18'!E63)","v":0},{"$f":"IF('18'!F$61=0,0,F37+F32+F9+(F$48-F$37-F$38-F$39-F$40-F$32-F$33-F$34-F$35-F$9-F$10-F$11-F$12)/'18'!F$61*'18'!F63)","v":0},{"$f":"IF('18'!G$61=0,0,G37+G32+G9+(G$48-G$37-G$38-G$39-G$40-G$32-G$33-G$34-G$35-G$9-G$10-G$11-G$12)/'18'!G$61*'18'!G63)","v":0},{"$f":"IF('18'!H$61=0,0,H37+H32+H9+(H$48-H$37-H$38-H$39-H$40-H$32-H$33-H$34-H$35-H$9-H$10-H$11-H$12)/'18'!H$61*'18'!H63)","v":0},{"$f":"IF('18'!I$61=0,0,I37+I32+I9+(I$48-I$37-I$38-I$39-I$40-I$32-I$33-I$34-I$35-I$9-I$10-I$11-I$12)/'18'!I$61*'18'!I63)","v":0},{"$f":"IF('18'!J$61=0,0,J37+J32+J9+(J$48-J$37-J$38-J$39-J$40-J$32-J$33-J$34-J$35-J$9-J$10-J$11-J$12)/'18'!J$61*'18'!J63)","v":0},{"$f":"IF('18'!K$61=0,0,K37+K32+K9+(K$48-K$37-K$38-K$39-K$40-K$32-K$33-K$34-K$35-K$9-K$10-K$11-K$12)/'18'!K$61*'18'!K63)","v":0},{"$f":"IF('18'!L$61=0,0,L37+L32+L9+(L$48-L$37-L$38-L$39-L$40-L$32-L$33-L$34-L$35-L$9-L$10-L$11-L$12)/'18'!L$61*'18'!L63)","v":0},{"$f":"IF('18'!N$61=0,0,M37+M32+M9+(M$48-M$37-M$38-M$39-M$40-M$32-M$33-M$34-M$35-M$9-M$10-M$11-M$12)/'18'!N$61*'18'!N63)","v":0},{"$f":"IF(ISERROR(M50/E50),0,M50/E50)","v":0},{"$f":"(M50-M9-M32-M37)*'4'!#REF!+'21'!O9+'21'!O32+'21'!O37","v":{"$error":"#REF!"}}]
[null,"СН1",{"$f":"IF('18'!#REF!=0,0,C38+C33+C10+(C$48-C$37-C$38-C$39-C$40-C$32-C$33-C$34-C$35-C$9-C$10-C$11-C$12)/'18'!#REF!*'18'!#REF!)","v":{"$error":"#REF!"}},{"$f":"IF('18'!#REF!=0,0,D38+D33+D10+(D$48-D$37-D$38-D$39-D$40-D$32-D$33-D$34-D$35-D$9-D$10-D$11-D$12)/'18'!#REF!*'18'!#REF!)","v":{"$error":"#REF!"}},{"$f":"IF('18'!E$61=0,0,E38+E33+E10+(E$48-E$37-E$38-E$39-E$40-E$32-E$33-E$34-E$35-E$9-E$10-E$11-E$12)/'18'!E$61*'18'!E64)","v":0},{"$f":"IF('18'!F$61=0,0,F38+F33+F10+(F$48-F$37-F$38-F$39-F$40-F$32-F$33-F$34-F$35-F$9-F$10-F$11-F$12)/'18'!F$61*'18'!F64)","v":0},{"$f":"IF('18'!G$61=0,0,G38+G33+G10+(G$48-G$37-G$38-G$39-G$40-G$32-G$33-G$34-G$35-G$9-G$10-G$11-G$12)/'18'!G$61*'18'!G64)","v":0},{"$f":"IF('18'!H$61=0,0,H38+H33+H10+(H$48-H$37-H$38-H$39-H$40-H$32-H$33-H$34-H$35-H$9-H$10-H$11-H$12)/'18'!H$61*'18'!H64)","v":0},{"$f":"IF('18'!I$61=0,0,I38+I33+I10+(I$48-I$37-I$38-I$39-I$40-I$32-I$33-I$34-I$35-I$9-I$10-I$11-I$12)/'18'!I$61*'18'!I64)","v":0},{"$f":"IF('18'!J$61=0,0,J38+J33+J10+(J$48-J$37-J$38-J$39-J$40-J$32-J$33-J$34-J$35-J$9-J$10-J$11-J$12)/'18'!J$61*'18'!J64)","v":0},{"$f":"IF('18'!K$61=0,0,K38+K33+K10+(K$48-K$37-K$38-K$39-K$40-K$32-K$33-K$34-K$35-K$9-K$10-K$11-K$12)/'18'!K$61*'18'!K64)","v":0},{"$f":"IF('18'!L$61=0,0,L38+L33+L10+(L$48-L$37-L$38-L$39-L$40-L$32-L$33-L$34-L$35-L$9-L$10-L$11-L$12)/'18'!L$61*'18'!L64)","v":0},{"$f":"IF('18'!N$61=0,0,M38+M33+M10+(M$48-M$37-M$38-M$39-M$40-M$32-M$33-M$34-M$35-M$9-M$10-M$11-M$12)/'18'!N$61*'18'!N64)","v":0},{"$f":"IF(ISERROR(M51/E51),0,M51/E51)","v":0},{"$f":"(M51-M10-M33-M38)*'4'!#REF!+'21'!O10+'21'!O33+'21'!O38","v":{"$error":"#REF!"}}]
[null,"СН2",{"$f":"IF('18'!#REF!=0,0,C39+C34+C11+(C$48-C$37-C$38-C$39-C$40-C$32-C$33-C$34-C$35-C$9-C$10-C$11-C$12)/'18'!#REF!*'18'!#REF!)","v":{"$error":"#REF!"}},{"$f":"IF('18'!#REF!=0,0,D39+D34+D11+(D$48-D$37-D$38-D$39-D$40-D$32-D$33-D$34-D$35-D$9-D$10-D$11-D$12)/'18'!#REF!*'18'!#REF!)","v":{"$error":"#REF!"}},{"$f":"IF('18'!E$61=0,0,E39+E34+E11+(E$48-E$37-E$38-E$39-E$40-E$32-E$33-E$34-E$35-E$9-E$10-E$11-E$12)/'18'!E$61*'18'!E65)","v":0},{"$f":"IF('18'!F$61=0,0,F39+F34+F11+(F$48-F$37-F$38-F$39-F$40-F$32-F$33-F$34-F$35-F$9-F$10-F$11-F$12)/'18'!F$61*'18'!F65)","v":0},{"$f":"IF('18'!G$61=0,0,G39+G34+G11+(G$48-G$37-G$38-G$39-G$40-G$32-G$33-G$34-G$35-G$9-G$10-G$11-G$12)/'18'!G$61*'18'!G65)","v":0},{"$f":"IF('18'!H$61=0,0,H39+H34+H11+(H$48-H$37-H$38-H$39-H$40-H$32-H$33-H$34-H$35-H$9-H$10-H$11-H$12)/'18'!H$61*'18'!H65)","v":0},{"$f":"IF('18'!I$61=0,0,I39+I34+I11+(I$48-I$37-I$38-I$39-I$40-I$32-I$33-I$34-I$35-I$9-I$10-I$11-I$12)/'18'!I$61*'18'!I65)","v":0},{"$f":"IF('18'!J$61=0,0,J39+J34+J11+(J$48-J$37-J$38-J$39-J$40-J$32-J$33-J$34-J$35-J$9-J$10-J$11-J$12)/'18'!J$61*'18'!J65)","v":0},{"$f":"IF('18'!K$61=0,0,K39+K34+K11+(K$48-K$37-K$38-K$39-K$40-K$32-K$33-K$34-K$35-K$9-K$10-K$11-K$12)/'18'!K$61*'18'!K65)","v":0},{"$f":"IF('18'!L$61=0,0,L39+L34+L11+(L$48-L$37-L$38-L$39-L$40-L$32-L$33-L$34-L$35-L$9-L$10-L$11-L$12)/'18'!L$61*'18'!L65)","v":0},{"$f":"IF('18'!N$61=0,0,M39+M34+M11+(M$48-M$37-M$38-M$39-M$40-M$32-M$33-M$34-M$35-M$9-M$10-M$11-M$12)/'18'!N$61*'18'!N65)","v":0},{"$f":"IF(ISERROR(M52/E52),0,M52/E52)","v":0},{"$f":"(M52-M11-M34-M39)*'4'!#REF!+'21'!O11+'21'!O34+'21'!O39","v":{"$error":"#REF!"}}]
[null,"НН",{"$f":"IF('18'!#REF!=0,0,C40+C35+C12+(C$48-C$37-C$38-C$39-C$40-C$32-C$33-C$34-C$35-C$9-C$10-C$11-C$12)/'18'!#REF!*'18'!#REF!)","v":{"$error":"#REF!"}},{"$f":"IF('18'!#REF!=0,0,D40+D35+D12+(D$48-D$37-D$38-D$39-D$40-D$32-D$33-D$34-D$35-D$9-D$10-D$11-D$12)/'18'!#REF!*'18'!#REF!)","v":{"$error":"#REF!"}},{"$f":"IF('18'!E$61=0,0,E40+E35+E12+(E$48-E$37-E$38-E$39-E$40-E$32-E$33-E$34-E$35-E$9-E$10-E$11-E$12)/'18'!E$61*'18'!E66)","v":0},{"$f":"IF('18'!F$61=0,0,F40+F35+F12+(F$48-F$37-F$38-F$39-F$40-F$32-F$33-F$34-F$35-F$9-F$10-F$11-F$12)/'18'!F$61*'18'!F66)","v":0},{"$f":"IF('18'!G$61=0,0,G40+G35+G12+(G$48-G$37-G$38-G$39-G$40-G$32-G$33-G$34-G$35-G$9-G$10-G$11-G$12)/'18'!G$61*'18'!G66)","v":0},{"$f":"IF('18'!H$61=0,0,H40+H35+H12+(H$48-H$37-H$38-H$39-H$40-H$32-H$33-H$34-H$35-H$9-H$10-H$11-H$12)/'18'!H$61*'18'!H66)","v":0},{"$f":"IF('18'!I$61=0,0,I40+I35+I12+(I$48-I$37-I$38-I$39-I$40-I$32-I$33-I$34-I$35-I$9-I$10-I$11-I$12)/'18'!I$61*'18'!I66)","v":0},{"$f":"IF('18'!J$61=0,0,J40+J35+J12+(J$48-J$37-J$38-J$39-J$40-J$32-J$33-J$34-J$35-J$9-J$10-J$11-J$12)/'18'!J$61*'18'!J66)","v":0},{"$f":"IF('18'!K$61=0,0,K40+K35+K12+(K$48-K$37-K$38-K$39-K$40-K$32-K$33-K$34-K$35-K$9-K$10-K$11-K$12)/'18'!K$61*'18'!K66)","v":0},{"$f":"IF('18'!L$61=0,0,L40+L35+L12+(L$48-L$37-L$38-L$39-L$40-L$32-L$33-L$34-L$35-L$9-L$10-L$11-L$12)/'18'!L$61*'18'!L66)","v":0},{"$f":"IF('18'!N$61=0,0,M40+M35+M12+(M$48-M$37-M$38-M$39-M$40-M$32-M$33-M$34-M$35-M$9-M$10-M$11-M$12)/'18'!N$61*'18'!N66)","v":0},{"$f":"IF(ISERROR(M53/E53),0,M53/E53)","v":0},{"$f":"(M53-M12-M35-M40)*'4'!#REF!+'21'!O12+'21'!O35+'21'!O40","v":{"$error":"#REF!"}}]
[]
["Руководитель организации",null,null,null,null,null,null,"         (подпись)                             (Ф.И.О.)","К. Ю. Вергазов"]
[]
["Должностное лицо, ответственное за составление формы",null,null,null,null,null,null,"         (подпись)                             (Ф.И.О.)","О. В. Костюкова"]

{"sheet":"25","index":20,"n_rows":55,"n_cols":20,"rows_kept":55,"cut":false,"hidden":false,"merged":[[54,0,54,1],[44,1,46,1],[1,0,1,15],[47,1,49,1],[41,0,50,0],[41,1,43,1],[52,0,52,1]]}
[null,{"$f":"Анкета!B3","v":"АО \"Чепецкий механический завод\""},null,null,null,null,null,null,null,null,null,null,null,"Таблица № П1.25"]
["Анализ расходов по оплате технологического расхода (потерь) электрической энергии на ее передачу"]
["№ п.п.","Наименование показателя","Единицы измерения","2013 год  факт","2014 год утверждено","2014 год  факт","2015 год утверждено","2015 год ожидаемое","2016 год предложение организации","2017 год предложение организации","2018 год предложение организации","2019 год предложение организации","2020 год предложение организации","2016 год  утверждено (до корректировки)","2016 год  признано обоснованным регулирующим органом с учетом корректировки","Прирост 2015г. к 2014г., %","Признано обоснованным  на 2017 год","Признано обоснованным  на 2018 год","Признано обоснованным  на 2019 год","Признано обоснованным  на 2020 год"]
[1,2,{"$f":"B4+1","v":3},{"$f":"C4+1","v":4},5,6,7,8,9,10,11,12,13,10,11,12,{"$f":"P4+1","v":13},{"$f":"Q4+1","v":14},{"$f":"R4+1","v":15},{"$f":"S4+1","v":16}]
["1.","Цена на электроэнергию (покупка потерь) ","руб/МВтч",1.715611,1.8864019999999999,{"$f":"+'Цена потерь'!E6","v":1.8234918628084718},1.9615450000000001,1.97,1.97,null,null,null,null,2.16,null,{"$f":"IF(ISERROR(O5/E5),0,O5/E5)","v":0},{"$f":"O5*1.093","v":0},{"$f":"Q5*1.093","v":0},{"$f":"R5*1.093","v":0},{"$f":"S5*1.093","v":0}]
["2.","Отпуск электрической энергии в сеть ","тыс.кВтч."]
["2.1.","ВН","тыс.кВтч.",{"$f":"'4'!D8","v":21510.379000000001},{"$f":"'4'!I8","v":36132.805},{"$f":"'4'!N8","v":29854.374},{"$f":"'4'!S8","v":4867.152},{"$f":"'4'!X8","v":29854.374},{"$f":"'4'!AC8","v":8717.6299999999992},{"$f":"'4'!AC8","v":8717.6299999999992},{"$f":"'4'!AH8","v":0},{"$f":"'4'!AM8","v":0},{"$f":"'4'!AR8","v":0},4867.1499999999996,{"$f":"'4'!#REF!","v":{"$error":"#REF!"}},{"$f":"IF(ISERROR(O7/E7),0,O7/E7)","v":0},{"$f":"'4'!#REF!","v":{"$error":"#REF!"}},{"$f":"'4'!#REF!","v":{"$error":"#REF!"}},{"$f":"'4'!#REF!","v":{"$error":"#REF!"}},{"$f":"'4'!#REF!","v":{"$error":"#REF!"}}]
["2.2.","СН","тыс.кВтч.",{"$f":"D10+D11","v":357826.4289},367601.57978650002,411461.82769999997,{"$f":"G10+G11","v":388624.4443004941},{"$f":"H10+H11","v":391407.44200000004},384639.53576569998,384639.53576569998,0,0,0,384011.52000000002,{"$error":"#REF!"},{"$f":"IF(ISERROR(O8/E8),0,O8/E8)","v":0},{"$f":"Q10+Q11","v":{"$error":"#REF!"}},{"$f":"R10+R11","v":{"$error":"#REF!"}},{"$f":"S10+S11","v":{"$error":"#REF!"}},{"$f":"T10+T11","v":{"$error":"#REF!"}}]
[null,"в том числе"]
[null,"СН1","тыс.кВтч.",{"$f":"'4'!E8","v":40219.788},{"$f":"'4'!J8","v":39987.983000000022},{"$f":"'4'!O8","v":86531.636999999988},{"$f":"'4'!T8","v":46995.080953599994},{"$f":"'4'!Y8","v":70650.456999999995},{"$f":"'4'!AD8","v":50241.07},{"$f":"'4'!AD8","v":50241.07},{"$f":"'4'!AI8","v":0},{"$f":"'4'!AN8","v":0},{"$f":"'4'!AS8","v":0},42228.68,{"$f":"'4'!#REF!","v":{"$error":"#REF!"}},{"$f":"IF(ISERROR(O10/E10),0,O10/E10)","v":0},{"$f":"'4'!#REF!","v":{"$error":"#REF!"}},{"$f":"'4'!#REF!","v":{"$error":"#REF!"}},{"$f":"'4'!#REF!","v":{"$error":"#REF!"}},{"$f":"'4'!#REF!","v":{"$error":"#REF!"}}]
[null,"СН2","тыс.кВтч.",{"$f":"'4'!F8","v":317606.6409},{"$f":"'4'!K8","v":327613.59678650001},{"$f":"'4'!P8","v":324930.19069999998},{"$f":"'4'!U8","v":341629.3633468941},{"$f":"'4'!Z8","v":320756.98500000004},{"$f":"'4'!AE8","v":334398.46576569998},{"$f":"'4'!AE8","v":334398.46576569998},{"$f":"'4'!AJ8","v":0},{"$f":"'4'!AO8","v":0},{"$f":"'4'!AT8","v":0},341782.84,{"$f":"'4'!#REF!","v":{"$error":"#REF!"}},{"$f":"IF(ISERROR(O11/E11),0,O11/E11)","v":0},{"$f":"'4'!#REF!","v":{"$error":"#REF!"}},{"$f":"'4'!#REF!","v":{"$error":"#REF!"}},{"$f":"'4'!#REF!","v":{"$error":"#REF!"}},{"$f":"'4'!#REF!","v":{"$error":"#REF!"}}]
["2.3.","НН","тыс.кВтч.",{"$f":"'4'!G8","v":828.45699999999999},{"$f":"'4'!L8","v":1151.0824772100077},{"$f":"'4'!Q8","v":752.30200000000002},{"$f":"'4'!V8","v":1001.0029116790574},{"$f":"'4'!AA8","v":868.5},{"$f":"'4'!AF8","v":757},{"$f":"'4'!AF8","v":757},{"$f":"'4'!AK8","v":0},{"$f":"'4'!AP8","v":0},{"$f":"'4'!AU8","v":0},1000.99,{"$f":"'4'!#REF!","v":{"$error":"#REF!"}},{"$f":"IF(ISERROR(O12/E12),0,O12/E12)","v":0},{"$f":"'4'!#REF!","v":{"$error":"#REF!"}},{"$f":"'4'!#REF!","v":{"$error":"#REF!"}},{"$f":"'4'!#REF!","v":{"$error":"#REF!"}},{"$f":"'4'!#REF!","v":{"$error":"#REF!"}}]
["3.","Потери электрической энергии "]
["3.1.","ВН","%",{"$f":"'4'!D19","v":4.1556985118672252},{"$f":"'4'!I19","v":2.9785220640910657},{"$f":"'4'!N19","v":3.3923967054207873},{"$f":"'4'!S19","v":2.0699999999999994},{"$f":"'4'!X19","v":5.1037077515006679},{"$f":"'4'!AC19","v":2.0699999999999994},{"$f":"'4'!AC19","v":2.0699999999999994},{"$f":"'4'!AH19","v":0},{"$f":"'4'!AM19","v":0},{"$f":"'4'!AR19","v":0},2.0699999999999998,{"$f":"'4'!#REF!","v":{"$error":"#REF!"}},{"$f":"IF(ISERROR(O14/E14),0,O14/E14)","v":0},{"$f":"'4'!#REF!","v":{"$error":"#REF!"}},{"$f":"'4'!#REF!","v":{"$error":"#REF!"}},{"$f":"'4'!#REF!","v":{"$error":"#REF!"}},{"$f":"'4'!#REF!","v":{"$error":"#REF!"}}]
["3.2.","СН","%"]
[null,"в том числе"]
[null,"СН1","%",{"$f":"'4'!E19","v":5.8424067277530165},{"$f":"'4'!J19","v":1.4901267818384321},{"$f":"'4'!O19","v":2.4444914869690955},{"$f":"'4'!T19","v":3.2199999999999998},{"$f":"'4'!Y19","v":2.0735421428342637},{"$f":"'4'!AD19","v":3.2299357742579931},{"$f":"'4'!AD19","v":3.2299357742579931},{"$f":"'4'!AI19","v":0},{"$f":"'4'!AN19","v":0},{"$f":"'4'!AS19","v":0},3.22,{"$f":"'4'!#REF!","v":{"$error":"#REF!"}},{"$f":"IF(ISERROR(O17/E17),0,O17/E17)","v":0},{"$f":"'4'!#REF!","v":{"$error":"#REF!"}},{"$f":"'4'!#REF!","v":{"$error":"#REF!"}},{"$f":"'4'!#REF!","v":{"$error":"#REF!"}},{"$f":"'4'!#REF!","v":{"$error":"#REF!"}}]
[null,"СН2","%",{"$f":"'4'!F19","v":3.7688899911160512},{"$f":"'4'!K19","v":3.1208212054315174},{"$f":"'4'!P19","v":2.7127213636291998},{"$f":"'4'!U19","v":3.7699999999999996},{"$f":"'4'!Z19","v":3.3066865246909583},{"$f":"'4'!AE19","v":3.2863151381190727},{"$f":"'4'!AE19","v":3.2863151381190727},{"$f":"'4'!AJ19","v":0},{"$f":"'4'!AO19","v":0},{"$f":"'4'!AT19","v":0},3.77,{"$f":"'4'!#REF!","v":{"$error":"#REF!"}},{"$f":"IF(ISERROR(O18/E18),0,O18/E18)","v":0},{"$f":"'4'!#REF!","v":{"$error":"#REF!"}},{"$f":"'4'!#REF!","v":{"$error":"#REF!"}},{"$f":"'4'!#REF!","v":{"$error":"#REF!"}},{"$f":"'4'!#REF!","v":{"$error":"#REF!"}}]
["3.3.","НН","%",{"$f":"'4'!G19","v":0},{"$f":"'4'!L19","v":4.0099948538768952},{"$f":"'4'!Q19","v":0},{"$f":"'4'!V19","v":7.2700000000000005},{"$f":"'4'!AA19","v":6.2843983880253305},{"$f":"'4'!AF19","v":7.2787318361955098},{"$f":"'4'!AF19","v":7.2787318361955098},{"$f":"'4'!AK19","v":0},{"$f":"'4'!AP19","v":0},{"$f":"'4'!AU19","v":0},7.27,{"$f":"'4'!#REF!","v":{"$error":"#REF!"}},{"$f":"IF(ISERROR(O19/E19),0,O19/E19)","v":0},{"$f":"'4'!#REF!","v":{"$error":"#REF!"}},{"$f":"'4'!#REF!","v":{"$error":"#REF!"}},{"$f":"'4'!#REF!","v":{"$error":"#REF!"}},{"$f":"'4'!#REF!","v":{"$error":"#REF!"}}]
["4.","Полезный отпуск электрической энергии"]
["4.1.","ВН","тыс.кВтч.",{"$f":"'4'!D22+'4'!D23","v":0},{"$f":"'4'!I22+'4'!I23","v":0},{"$f":"'4'!N22+'4'!N23","v":0},{"$f":"'4'!S22+'4'!S23","v":0},{"$f":"'4'!X22+'4'!X23","v":0},{"$f":"'4'!AC22+'4'!AC23","v":0},{"$f":"'4'!AC22+'4'!AC23","v":0},{"$f":"'4'!AH22+'4'!AH23","v":0},{"$f":"'4'!AM22+'4'!AM23","v":0},{"$f":"'4'!AR22+'4'!AR23","v":0},0,{"$f":"'4'!#REF!+'4'!#REF!","v":{"$error":"#REF!"}},{"$f":"IF(ISERROR(O21/E21),0,O21/E21)","v":0},{"$f":"'4'!#REF!+'4'!#REF!","v":{"$error":"#REF!"}},{"$f":"'4'!#REF!+'4'!#REF!","v":{"$error":"#REF!"}},{"$f":"'4'!#REF!+'4'!#REF!","v":{"$error":"#REF!"}},{"$f":"'4'!#REF!+'4'!#REF!","v":{"$error":"#REF!"}}]
["4.2.","СН","тыс.кВтч.",{"$f":"D24+D25","v":305210.05900000001},316534.15170889994,315900.38999999996,{"$f":"G24+G25","v":327748.93343703717},{"$f":"H24+H25","v":310076.38999999996},323446.40636360389,323446.40636360389,0,0,0,327896.63,{"$error":"#REF!"},{"$f":"IF(ISERROR(O22/E22),0,O22/E22)","v":0},{"$f":"Q24+Q25","v":{"$error":"#REF!"}},{"$f":"R24+R25","v":{"$error":"#REF!"}},{"$f":"S24+S25","v":{"$error":"#REF!"}},{"$f":"T24+T25","v":{"$error":"#REF!"}}]
[null,"в том числе"]
[null,"СН1","тыс.кВтч.",{"$f":"'4'!E22+'4'!E23","v":402.12},{"$f":"'4'!J22+'4'!J23","v":295.87200000000001},{"$f":"'4'!O22+'4'!O23","v":536.952},{"$f":"'4'!T22+'4'!T23","v":0},{"$f":"'4'!Y22+'4'!Y23","v":794.36800000000005},{"$f":"'4'!AD22+'4'!AD23","v":794.36800000000005},{"$f":"'4'!AD22+'4'!AD23","v":794.36800000000005},{"$f":"'4'!AI22+'4'!AI23","v":0},{"$f":"'4'!AN22+'4'!AN23","v":0},{"$f":"'4'!AS22+'4'!AS23","v":0},0,{"$f":"'4'!#REF!+'4'!#REF!","v":{"$error":"#REF!"}},{"$f":"IF(ISERROR(O24/E24),0,O24/E24)","v":0},{"$f":"'4'!#REF!+'4'!#REF!","v":{"$error":"#REF!"}},{"$f":"'4'!#REF!+'4'!#REF!","v":{"$error":"#REF!"}},{"$f":"'4'!#REF!+'4'!#REF!","v":{"$error":"#REF!"}},{"$f":"'4'!#REF!+'4'!#REF!","v":{"$error":"#REF!"}}]
[null,"СН2","тыс.кВтч.",{"$f":"'4'!F22+'4'!F23","v":304807.93900000001},{"$f":"'4'!K22+'4'!K23","v":316238.27970889997},{"$f":"'4'!P22+'4'!P23","v":315363.43799999997},{"$f":"'4'!U22+'4'!U23","v":327748.93343703717},{"$f":"'4'!Z22+'4'!Z23","v":309282.02199999994},{"$f":"'4'!AE22+'4'!AE23","v":322652.03836360388},{"$f":"'4'!AE22+'4'!AE23","v":322652.03836360388},{"$f":"'4'!AJ22+'4'!AJ23","v":0},{"$f":"'4'!AO22+'4'!AO23","v":0},{"$f":"'4'!AT22+'4'!AT23","v":0},327896.63,{"$f":"'4'!#REF!+'4'!#REF!","v":{"$error":"#REF!"}},{"$f":"IF(ISERROR(O25/E25),0,O25/E25)","v":0},{"$f":"'4'!#REF!+'4'!#REF!","v":{"$error":"#REF!"}},{"$f":"'4'!#REF!+'4'!#REF!","v":{"$error":"#REF!"}},{"$f":"'4'!#REF!+'4'!#REF!","v":{"$error":"#REF!"}},{"$f":"'4'!#REF!+'4'!#REF!","v":{"$error":"#REF!"}}]
["4.3.","НН","тыс.кВтч.",{"$f":"'4'!G22+'4'!G23","v":828.45699999999999},{"$f":"'4'!L22+'4'!L23","v":1104.924},{"$f":"'4'!Q22+'4'!Q23","v":752.30200000000002},{"$f":"'4'!V22+'4'!V23","v":928.23},{"$f":"'4'!AA22+'4'!AA23","v":813.95500000000004},{"$f":"'4'!AF22+'4'!AF23","v":701.94},{"$f":"'4'!AF22+'4'!AF23","v":701.94},{"$f":"'4'!AK22+'4'!AK23","v":0},{"$f":"'4'!AP22+'4'!AP23","v":0},{"$f":"'4'!AU22+'4'!AU23","v":0},928.23,{"$f":"'4'!#REF!+'4'!#REF!","v":{"$error":"#REF!"}},{"$f":"IF(ISERROR(O26/E26),0,O26/E26)","v":0},{"$f":"'4'!#REF!+'4'!#REF!","v":{"$error":"#REF!"}},{"$f":"'4'!#REF!+'4'!#REF!","v":{"$error":"#REF!"}},{"$f":"'4'!#REF!+'4'!#REF!","v":{"$error":"#REF!"}},{"$f":"'4'!#REF!+'4'!#REF!","v":{"$error":"#REF!"}}]
["5.","Расходы на компенсацию потерь","тыс.руб.",{"$f":"D28+D31+D32+D33","v":26101.228551504999},{"$f":"E28+E31+E32+E33","v":22528.333553754263},{"$f":"F28+F31+F32+F33","v":21777.029689687817},{"$f":"G28+G31+G32+G33","v":28282.547341039517},{"$f":"H28+H31+H32+H33","v":26889.820349999998},{"$f":"I28+I31+I32+I33","v":25309.962373700364},0,0,0,0,{"$f":"N28+N31+N32+N33","v":31110.789999999997},{"$f":"O5*1000/1000","v":0},{"$f":"IF(ISERROR(O27/E27),0,O27/E27)","v":0},{"$f":"Q28+Q31+Q32+Q33","v":{"$error":"#REF!"}},{"$f":"R28+R31+R32+R33","v":{"$error":"#REF!"}},{"$f":"S28+S31+S32+S33","v":{"$error":"#REF!"}},{"$f":"T28+T31+T32+T33","v":{"$error":"#REF!"}}]
["5.1.","ВН","тыс.руб.",{"$f":"D5*D7*D14/100","v":1533.5958243715002},{"$f":"E5*E7*E14/100","v":2030.190293574658},{"$f":"F5*F7*F14/100","v":1846.7939006249289},197.63,{"$f":"H5*H7*H14/100","v":3001.6495999999997},{"$f":"I5*I7*I14/100","v":355.49623376999983},{"$f":"J5*J7*J14/100/1000","v":0},0,0,0,217.39,{"$error":"#REF!"},{"$f":"IF(ISERROR(O28/E28),0,O28/E28)","v":0},{"$f":"Q5*Q7*Q14/100/1000","v":{"$error":"#REF!"}},{"$f":"R5*R7*R14/100/1000","v":{"$error":"#REF!"}},{"$f":"S5*S7*S14/100/1000","v":{"$error":"#REF!"}},{"$f":"T5*T7*T14/100/1000","v":{"$error":"#REF!"}}]
["5.2.","СН","тыс.руб."]
[null,"в том числе"]
[null,"СН1","тыс.руб.",{"$f":"D5*D10*D17/100","v":4031.3489039996011},{"$f":"E5*E10*E17/100","v":1124.0534613621678},{"$f":"F5*F10*F17/100","v":3857.1566624864527},2667.24,{"$f":"H5*H10*H17/100","v":2885.9849899999999},{"$f":"I5*I10*I17/100","v":3196.8259578010002},{"$f":"J5*J10*J17/100/1000","v":0},0,0,0,2933.96,{"$error":"#REF!"},{"$f":"IF(ISERROR(O31/E31),0,O31/E31)","v":0},{"$f":"Q5*Q10*Q17/100/1000","v":{"$error":"#REF!"}},{"$f":"R5*R10*R17/100/1000","v":{"$error":"#REF!"}},{"$f":"S5*S10*S17/100/1000","v":{"$error":"#REF!"}},{"$f":"T5*T10*T17/100/1000","v":{"$error":"#REF!"}}]
[null,"СН2","тыс.руб.",{"$f":"D5*D11*D18/100","v":20536.283823133897},{"$f":"E5*E11*E18/100","v":19287.016598644899},{"$f":"F5*F11*F18/100","v":16073.079126576436},25274.93,{"$f":"H5*H11*H18/100","v":20894.66316},{"$f":"I5*I11*I18/100","v":21649.093182129367},{"$f":"J5*J11*J18/100/1000","v":0},0,0,0,27802.42,{"$error":"#REF!"},{"$f":"IF(ISERROR(O32/E32),0,O32/E32)","v":0},{"$f":"Q5*Q11*Q18/100/1000","v":{"$error":"#REF!"}},{"$f":"R5*R11*R18/100/1000","v":{"$error":"#REF!"}},{"$f":"S5*S11*S18/100/1000","v":{"$error":"#REF!"}},{"$f":"T5*T11*T18/100/1000","v":{"$error":"#REF!"}}]
["5.3.","НН","тыс.руб.",{"$f":"D5*D12*D19/100","v":0},87.073200172536204,0,142.74734103951644,107.52259999999998,108.54700000000001,{"$f":"J5*J12*J19/100/1000","v":0},0,0,0,157.02000000000001,{"$error":"#REF!"},{"$f":"IF(ISERROR(O33/E33),0,O33/E33)","v":0},{"$f":"Q5*Q12*Q19/100/1000","v":{"$error":"#REF!"}},{"$f":"R5*R12*R19/100/1000","v":{"$error":"#REF!"}},{"$f":"S5*S12*S19/100/1000","v":{"$error":"#REF!"}},{"$f":"T5*T12*T19/100/1000","v":{"$error":"#REF!"}}]
["6.","Ставка на оплату технологического расхода (потерь ) электрической энергии на ее передачу по сетям"]
["6.1.","ВН","руб./МВт.ч",7.4399999999999994E-2,5.79E-2,{"$f":"IF((F7*(1-F14/100)=0),0,F28/(F7*(1-F14/100)))","v":6.403230777696127E-2},0.04,{"$f":"IF((H7*(1-H14/100)=0),0,H28/(H7*(1-H14/100)))","v":0.10595044371309788},{"$f":"IF((I7*(1-I14/100)=0),0,I28/(I7*(1-I14/100)))","v":4.1640968038394753E-2},{"$f":"IF((J7*(1-J14/100)=0),0,J28/(J7*(1-J14/100)))*1000","v":0},0,0,0,0.05,{"$error":"#REF!"},{"$f":"IF(ISERROR(O35/E35),0,O35/E35)","v":0},{"$f":"IF((Q7*(1-Q14/100)=0),0,Q28/(Q7*(1-Q14/100)))*1000","v":{"$error":"#REF!"}},{"$f":"IF((R7*(1-R14/100)=0),0,R28/(R7*(1-R14/100)))*1000","v":{"$error":"#REF!"}},{"$f":"IF((S7*(1-S14/100)=0),0,S28/(S7*(1-S14/100)))*1000","v":{"$error":"#REF!"}},{"$f":"IF((T7*(1-T14/100)=0),0,T28/(T7*(1-T14/100)))*1000","v":{"$error":"#REF!"}}]
["6.2.","СН","руб./МВт.ч"]
[null,"в том числе"]
[null,"СН1","руб./МВт.ч",0.1469,8.0100000000000005E-2,{"$f":"IF(( F10 * (1 - F17/100))=0,0,(F31+F43) / ( F10 * (1 - F17/100)))","v":6.7569240288025176E-2},7.0000000000000007E-2,{"$f":"IF(( H10 * (1 - H17/100))=0,0,(H31+H43) / ( H10 * (1 - H17/100)))","v":8.5099268502687495E-2},{"$f":"IF(( I10 * (1 - I17/100))=0,0,(I31+I43) / ( I10 * (1 - I17/100)))","v":7.3065513272839708E-2},{"$f":"IF(( J10 * (1 - J17/100))=0,0,(J31+J43) / ( J10 * (1 - J17/100)))*1000","v":0},0,0,0,0.08,{"$error":"#REF!"},{"$f":"IF(ISERROR(O38/E38),0,O38/E38)","v":0},{"$f":"IF(( Q10 * (1 - Q17/100))=0,0,(Q31+Q43) / ( Q10 * (1 - Q17/100)))*1000","v":{"$error":"#REF!"}},{"$f":"IF(( R10 * (1 - R17/100))=0,0,(R31+R43) / ( R10 * (1 - R17/100)))*1000","v":{"$error":"#REF!"}},{"$f":"IF(( S10 * (1 - S17/100))=0,0,(S31+S43) / ( S10 * (1 - S17/100)))*1000","v":{"$error":"#REF!"}},{"$f":"IF(( T10 * (1 - T17/100))=0,0,(T31+T43) / ( T10 * (1 - T17/100)))*1000","v":{"$error":"#REF!"}}]
[null,"СН2","руб./МВт.ч",8.5199999999999998E-2,7.0599999999999996E-2,{"$f":"IF(( F11 * (1 - F18/100))=0,0,(F32+F43+F46) / ( F11 * (1 - F18/100)))","v":6.8774646434804798E-2},0.09,{"$f":"IF(( H11 * (1 - H18/100))=0,0,(H32+H43+H46) / ( H11 * (1 - H18/100)))","v":8.6134611114943305E-2},{"$f":"IF(( I11 * (1 - I18/100))=0,0,(I32+I43+I46) / ( I11 * (1 - I18/100)))","v":7.7744801089920351E-2},{"$f":"IF(( J11 * (1 - J18/100))=0,0,(J32+J43+J46) / ( J11 * (1 - J18/100)))*1000","v":0},0,0,0,0.09,{"$error":"#REF!"},{"$f":"IF(ISERROR(O39/E39),0,O39/E39)","v":0},{"$f":"IF(( Q11 * (1 - Q18/100))=0,0,(Q32+Q43+Q46) / ( Q11 * (1 - Q18/100)))*1000","v":{"$error":"#REF!"}},{"$f":"IF(( R11 * (1 - R18/100))=0,0,(R32+R43+R46) / ( R11 * (1 - R18/100)))*1000","v":{"$error":"#REF!"}},{"$f":"IF(( S11 * (1 - S18/100))=0,0,(S32+S43+S46) / ( S11 * (1 - S18/100)))*1000","v":{"$error":"#REF!"}},{"$f":"IF(( T11 * (1 - T18/100))=0,0,(T32+T43+T46) / ( T11 * (1 - T18/100)))*1000","v":{"$error":"#REF!"}}]
["6.3.","НН","руб./МВт.ч",8.5199999999999998E-2,0.15240000000000001,{"$f":"IF(( F12 * (1 - F19/100))=0,0,(F33 +F43+F46+F49)/ ( F12 * (1 - F19/100)))","v":28.870133592665937},0.25,{"$f":"IF(( H12 * (1 - H19/100))=0,0,(H33 +H43+H46+H49)/ ( H12 * (1 - H19/100)))","v":0.22401897540878998},{"$f":"IF(( I12 * (1 - I19/100))=0,0,(I33 +I43+I46+I49)/ ( I12 * (1 - I19/100)))","v":0.23849967832613622},{"$f":"IF(( J12 * (1 - J19/100))=0,0,(J33 +J43+J46+J49)/ ( J12 * (1 - J19/100)))*1000","v":0},0,0,0,0.27,{"$error":"#REF!"},{"$f":"IF(ISERROR(O40/E40),0,O40/E40)","v":0},{"$f":"IF(( Q12 * (1 - Q19/100))=0,0,(Q33 +Q43+Q46+Q49)/ ( Q12 * (1 - Q19/100)))*1000","v":{"$error":"#REF!"}},{"$f":"IF(( R12 * (1 - R19/100))=0,0,(R33 +R43+R46+R49)/ ( R12 * (1 - R19/100)))*1000","v":{"$error":"#REF!"}},{"$f":"IF(( S12 * (1 - S19/100))=0,0,(S33 +S43+S46+S49)/ ( S12 * (1 - S19/100)))*1000","v":{"$error":"#REF!"}},{"$f":"IF(( T12 * (1 - T19/100))=0,0,(T33 +T43+T46+T49)/ ( T12 * (1 - T19/100)))*1000","v":{"$error":"#REF!"}}]
[]
[null,"Дельта НВВ ВН - СН",null,{"$f":"D35*('4'!D22+'4'!D23)","v":0},{"$f":"E35*('4'!I22+'4'!I23)","v":0},{"$f":"F35*('4'!N22+'4'!N23)","v":0},{"$f":"G35*('4'!S22+'4'!S23)","v":0},{"$f":"H35*('4'!X22+'4'!X23)","v":0},{"$f":"I35*('4'!AC22+'4'!AC23)","v":0},{"$f":"J35*('4'!AC22+'4'!AC23)","v":0},{"$f":"K35*('4'!AH22+'4'!AH23)","v":0},{"$f":"L35*('4'!AM22+'4'!AM23)","v":0},{"$f":"M35*('4'!AR22+'4'!AR23)","v":0},0,{"$f":"O35*('4'!#REF!+'4'!#REF!)","v":{"$error":"#REF!"}},{"$f":"IF(ISERROR(O42/E42),0,O42/E42)","v":0},{"$f":"Q35*('4'!#REF!+'4'!#REF!)","v":{"$error":"#REF!"}},{"$f":"R35*('4'!#REF!+'4'!#REF!)","v":{"$error":"#REF!"}},{"$f":"S35*('4'!#REF!+'4'!#REF!)","v":{"$error":"#REF!"}},{"$f":"T35*('4'!#REF!+'4'!#REF!)","v":{"$error":"#REF!"}}]
[null,null,null,{"$f":"D28-D42","v":1533.5958243715002},{"$f":"E28-E42","v":2030.190293574658},1846.7939006249289,197.63,{"$f":"H28-H42","v":3001.6495999999997},{"$f":"I28-I42","v":355.49623376999983},0,0,0,0,217.39,{"$error":"#REF!"},{"$f":"IF(ISERROR(O43/E43),0,O43/E43)","v":0},{"$f":"Q28-Q42","v":{"$error":"#REF!"}},{"$f":"R28-R42","v":{"$error":"#REF!"}},{"$f":"S28-S42","v":{"$error":"#REF!"}},{"$f":"T28-T42","v":{"$error":"#REF!"}}]
[]
[null,"Дельта НВВ СН1 - СН2",null,{"$f":"D38*('4'!E22+'4'!E23)","v":59.071428000000004},23.69,{"$f":"F38*('4'!O22+'4'!O23)","v":36.281438711135692},{"$f":"G38*('4'!T22+'4'!T23)","v":0},{"$f":"H38*('4'!Y22+'4'!Y23)","v":67.600135721942863},{"$f":"I38*('4'!AD22+'4'!AD23)","v":58.040905647519139},{"$f":"J38*('4'!AD22+'4'!AD23)","v":0},{"$f":"K38*('4'!AI22+'4'!AI23)","v":0},{"$f":"L38*('4'!AN22+'4'!AN23)","v":0},{"$f":"M38*('4'!AS22+'4'!AS23)","v":0},0,{"$f":"O38*('4'!#REF!+'4'!#REF!)","v":{"$error":"#REF!"}},{"$f":"IF(ISERROR(O45/E45),0,O45/E45)","v":0},{"$f":"Q38*('4'!#REF!+'4'!#REF!)","v":{"$error":"#REF!"}},{"$f":"R38*('4'!#REF!+'4'!#REF!)","v":{"$error":"#REF!"}},{"$f":"S38*('4'!#REF!+'4'!#REF!)","v":{"$error":"#REF!"}},{"$f":"T38*('4'!#REF!+'4'!#REF!)","v":{"$error":"#REF!"}}]
[null,null,null,{"$f":"D31-D45","v":3972.2774759996009},1100.3599999999999,{"$f":"F31-F45","v":3820.875223775317},2667.24,{"$f":"H31-H45","v":2818.384854278057},{"$f":"I31-I45","v":3138.785052153481},{"$f":"J31-J45","v":0},0,0,0,2933.96,{"$error":"#REF!"},{"$f":"IF(ISERROR(O46/E46),0,O46/E46)","v":0},{"$f":"Q31-Q45","v":{"$error":"#REF!"}},{"$f":"R31-R45","v":{"$error":"#REF!"}},{"$f":"S31-S45","v":{"$error":"#REF!"}},{"$f":"T31-T45","v":{"$error":"#REF!"}}]
[]
[null,"Дельта НВВ СН2 - НН",null,25971.55,22336.27,{"$f":"F39*('4'!P22+'4'!P23)/1000","v":21.68900894691448},28054.15,{"$f":"H39*('4'!Z22+'4'!Z23)","v":26639.886689813335},{"$f":"I39*('4'!AE22+'4'!AE23)","v":25084.518543835733},{"$f":"J39*('4'!AE22+'4'!AE23)","v":0},{"$f":"K39*('4'!AJ22+'4'!AJ23)","v":0},{"$f":"L39*('4'!AO22+'4'!AO23)","v":0},{"$f":"M39*('4'!AT22+'4'!AT23)","v":0},30859.56,{"$f":"O39*('4'!#REF!+'4'!#REF!)","v":{"$error":"#REF!"}},{"$f":"IF(ISERROR(O48/E48),0,O48/E48)","v":0},{"$f":"Q39*('4'!#REF!+'4'!#REF!)","v":{"$error":"#REF!"}},{"$f":"R39*('4'!#REF!+'4'!#REF!)","v":{"$error":"#REF!"}},{"$f":"S39*('4'!#REF!+'4'!#REF!)","v":{"$error":"#REF!"}},{"$f":"T39*('4'!#REF!+'4'!#REF!)","v":{"$error":"#REF!"}}]
[null,null,null,{"$f":"D32-D48","v":-5435.2661768661019},-3049.25,{"$f":"F32-F48","v":16051.390117629522},-2779.22,{"$f":"H32-H48","v":-5745.2235298133346},-3435.4253617063659,0,0,0,0,-3057.14,{"$error":"#REF!"},{"$f":"IF(ISERROR(O49/E49),0,O49/E49)","v":0},{"$f":"Q32-Q48","v":{"$error":"#REF!"}},{"$f":"R32-R48","v":{"$error":"#REF!"}},{"$f":"S32-S48","v":{"$error":"#REF!"}},{"$f":"T32-T48","v":{"$error":"#REF!"}}]
[]
[null,"Проверка",null,0,0,{"$f":"(F40*('4'!Q22+'4'!Q23)+'25'!F42+'25'!F45+'25'!F48)-'25'!F27","v":0},0,{"$f":"(H40*('4'!AA22+'4'!AA23)+'25'!H42+'25'!H45+'25'!H48)-'25'!H27","v":7.8406641405308619E-3},{"$f":"(I40*('4'!AF22+'4'!AF23)+'25'!I42+'25'!I45+'25'!I48)-'25'!I27","v":9.5399871352128685E-3},{"$f":"(J40*('4'!AF22+'4'!AF23)+'25'!J42+'25'!J45+'25'!J48)-'25'!J27","v":0},{"$f":"(K40*('4'!AK22+'4'!AK23)+'25'!K42+'25'!K45+'25'!K48)-'25'!K27","v":0},{"$f":"(L40*('4'!AP22+'4'!AP23)+'25'!L42+'25'!L45+'25'!L48)-'25'!L27","v":0},{"$f":"(M40*('4'!AU22+'4'!AU23)+'25'!M42+'25'!M45+'25'!M48)-'25'!M27","v":0},0,{"$f":"(O40*('4'!#REF!+'4'!#REF!)+'25'!O42+'25'!O45+'25'!O48)-'25'!O27","v":{"$error":"#REF!"}},null,{"$f":"(Q40*('4'!#REF!+'4'!#REF!)+'25'!Q42+'25'!Q45+'25'!Q48)-'25'!Q27","v":{"$error":"#REF!"}},{"$f":"(R40*('4'!#REF!+'4'!#REF!)+'25'!R42+'25'!R45+'25'!R48)-'25'!R27","v":{"$error":"#REF!"}},{"$f":"(S40*('4'!#REF!+'4'!#REF!)+'25'!S42+'25'!S45+'25'!S48)-'25'!S27","v":{"$error":"#REF!"}},{"$f":"(T40*('4'!#REF!+'4'!#REF!)+'25'!T42+'25'!T45+'25'!T48)-'25'!T27","v":{"$error":"#REF!"}}]
[]
["Руководитель организации",null,null,null,null,null,null,null,"         (подпись)                             (Ф.И.О.)",null,null,null,null,"К. Ю. Вергазов"]
[]
["Должностное лицо, ответственное за составление формы",null,null,null,null,null,null,null,"         (подпись)                             (Ф.И.О.)",null,null,null,null,"О. В. Костюкова"]

{"sheet":"Цена потерь","index":21,"n_rows":27,"n_cols":7,"rows_kept":27,"cut":false,"hidden":false,"merged":[[1,0,1,5],[24,1,24,2],[26,1,26,2],[4,2,4,5],[18,2,18,5]]}
[null,{"$f":"Анкета!B3","v":"АО \"Чепецкий механический завод\""},null,null,null,"Приложение к табл. № П1.25"]
["Расчет цены на электрическую энергию, покупаемую в целях компенсации  технологического расхода (потерь) электрической энергии на ее передачу"]
["№ п.п.","Месяц, год","№ договора на покупку потерь","Счет-фактура\n № и дата","Цена на электро-энергию (покупка потерь) , руб./МВт.ч","Объем потерь, тыс. кВт.ч"]
[1,{"$f":"A4+1","v":2},{"$f":"B4+1","v":3},{"$f":"C4+1","v":4},{"$f":"D4+1","v":5},{"$f":"E4+1","v":6}]
[null,"Сбытовая    →\nкомпания","ОАО \"Удмуртская энергосбытовая компания\""]
["1","2014 год",null,null,{"$f":"G6/F6","v":1.8234918628084718},{"$f":"SUM(F7:F18)","v":210.392},{"$f":"SUM(G7:G18)","v":383.6481}]
[{"$f":"A6+1","v":2},"Январь","Ц0013 от 18.01.12","0000053/0501 от 31.01.2014",1.7735717913985778,23.623999999999999,{"$f":"E7*F7","v":41.898859999999999}]
[{"$f":"A7+1","v":3},"Февраль","Ц0013 от 18.01.12","0000091/0501 от 28.02.2014",1.7394400718624348,23.378,{"$f":"E8*F8","v":40.664630000000002}]
[4,"Март","Ц0013 от 18.01.12","0000171/0501 от 31.03.2014",1.7968203055941407,15.837999999999999,28.45804]
[5,"Апрель","Ц0013 от 18.01.12","0000247/0501 от 30.04.2014",1.8603798958849778,16.135999999999999,30.019089999999998]
[6,"Май","Ц0013 от 18.01.12","0000298/051 от 31.05.2014",1.8631499884446499,12.981,24.185549999999999]
[7,"Июнь","Ц0013 от 18.01.12","0000366/0501 от 30.06.2014",1.9123803123399896,15.624000000000001,29.87903]
[8,"Июль","Ц0013 от 18.01.12","0000427/0501 от 31.07.2014",1.9554498780644332,15.582000000000001,30.469819999999999]
[9,"Август","Ц0013 от 18.01.12","0000488/0501 от 31,08,2014",1.8880201209517886,17.693000000000001,33.404739999999997]
[10,"Сентябрь","Ц0013 от 18.01.12","0000559/0501 от 30,09,2014",1.8429101302000637,15.744999999999999,29.01662]
[11,"Октябрь","Ц0013 от 18.01.12","0000070/0501 от 31.10.2014",1.8476302432763552,17.140999999999998,31.67023]
[12,"Ноябрь","Ц0013 от 18.01.12","0000137/0501 от 30.11.2014",1.7671201617562105,17.309999999999999,30.588850000000001]
[13,"Декабрь","Ц0013 от 18.01.12","0000190/0501 от 31.12.2014",1.7266101344364013,19.34,33.39264]
[null,"Сбытовая    →\nкомпания","ОАО \"ЭнергосбыТ Плюс\""]
[{"$f":"A18+1","v":14},"2015 год",null,null,{"$f":"(E21*F21+E22*F22+E23*F23)/F20","v":2.0918157514837188},{"$f":"SUM(F21:F23)","v":56.109000000000002}]
[15,"Январь","Ц0013 от 18.01.12","0000050/0501  от 31.01.2015",2.0083362970711294,19.12]
[16,"Февраль","Ц0013 от 18.01.12","0000100/0501 от 28.02.2015",2.1410156004606846,19.102]
[17,"Март","Ц0013 от 18.01.12","0000170/0501 от 31.03.2015",2.1285078548666627,17.887]
[]
[null,"Руководитель организации",null,null,null,"К.Ю. Вергазов"]
[]
[null,"Должностное лицо, ответственное за составление формы",null,null,null,"О.В. Костюкова"]

{"sheet":"Расчет долгосрочных параметров","index":22,"n_rows":121,"n_cols":22,"rows_kept":121,"cut":false,"hidden":true,"merged":[[120,0,120,1],[11,0,11,1],[10,0,10,1],[4,0,4,7],[5,0,5,1],[6,0,6,1],[7,0,7,1],[8,0,8,1],[9,0,9,1],[116,0,116,1],[12,0,12,1],[78,0,78,7],[106,0,106,7],[107,0,107,1],[108,0,108,1],[41,2,41,7],[41,0,41,1],[13,0,13,1],[14,0,14,1],[15,0,15,1],[109,0,109,1],[119,1,119,9],[110,0,110,1],[112,0,112,1],[113,0,113,1],[115,0,115,1],[118,0,118,1],[111,0,111,1],[114,0,114,1],[117,0,117,1]]}
[null,null,null,null,null,null,null,"Приложение к заключению "]
["ПРЕДЛОЖЕНИЕ ПО ТАРИФАМ И ДОЛГОСРОЧНЫМ ПАРАМЕТРАМ РЕГУЛИРОВАНИЯ НА  2015-2019 гг. "]
[{"$f":"Анкета!B3","v":"АО \"Чепецкий механический завод\""}]
[]
["ДОЛГОСРОЧНЫЕ ПАРАМЕТРЫ РЕГУЛИРОВАНИЯ НА  2016-2020 гг. "]
["Наименование параметра",null,"2014 утверждено",2015,2016,2017,2018,2019]
["Базовый уровень подконтрольных расходов, тыс.руб.","%"]
["Индекс эффективности подконтрольных расходов, %","%",null,null,null,null,null,null,null,{"$f":"C8","v":0},null,{"$f":"D10","v":0}]
["Коэффициент эластичности подконтрольных расходов по количеству  активов","%",0.75,0.75,0.75,0.75,0.75,0.75,null,{"$f":"C9","v":0.75},null,{"$f":"E10","v":0}]
["Уровень надежности  реализуемых товаров (услуг)",null,null,null,null,null,null,null,null,null,null,{"$f":"F10","v":0}]
["Показатель уровня качества осуществляемого технологического присоединения к сети",null,null,1,1,1,1,1,null,null,null,{"$f":"G10","v":0}]
["Показатель уровня качества обслуживания потребителей услуг",null,null,0.89749999999999996,0.89749999999999996,0.89749999999999996,0.89749999999999996,0.89749999999999996,null,null,null,{"$f":"H10","v":0}]
["Уровень потерь электрической энергии при ее передаче по электрическим сетям, %\n        ВН"]
["       СН1"]
["       СН2"]
["       НН"]
[]
["1. Расчет подконтрольных расходов"]
["№ п.п.","Показатели","2014 утверждено",2015,2016,2017,2018,2019,"2013 план","2013 факт"]
[null,"Индекс потребительских цен (прогноз СЭР)",null,6.7000000000000004E-2,4.3999999999999997E-2,4.2999999999999997E-2,4.2999999999999997E-2,4.2999999999999997E-2,5.1999999999999998E-2,6.8000000000000005E-2]
[null,"Размер активов (количество у.е.)",null,null,null,null,null,null,7564.5670799999989,{"$f":"'2.3'!F26","v":4370.4375}]
[null,"Коэффициент индексации подконтрольных расходов",1,{"$f":"IF(C37=0,1,D37/C37)","v":1},{"$f":"IF(D21=0,0,(1+E20)*(1-E8)*(1+E9*(E21-D21)/D21))","v":0},{"$f":"IF(E21=0,0,(1+F20)*(1-F8)*(1+F9*(F21-E21)/E21))","v":0},{"$f":"IF(F21=0,0,(1+G20)*(1-G8)*(1+G9*(G21-F21)/F21))","v":0},{"$f":"IF(G21=0,0,(1+H20)*(1-H8)*(1+H9*(H21-G21)/G21))","v":0},1.04148,{"$f":"IF(I21=0,0,(1+J20)*(1-J8)*(1+J9*(J21-I21)/I21))","v":0.72977868918045219}]
["1.1.","Сырье, основные материалы"]
["1.2.","Вспомогательные материалы"]
[null,"из них на ремонт"]
["1.3.","Работы и услуги производ. характера"]
[null,"из них на ремонт"]
["1.4.","Затраты на оплату труда"]
[null,"в том числе оплата труда производственного персонала"]
[null,"из них на ремонт"]
["1.5.","Прочие затраты "]
["1.6.","Прибыль на социальное развитие "]
["1.7.","Льготы, компенсации и проч.выплаты по Колдоговору"]
["1.8.","Дивиденды по акциям"]
["1.9.","Прибыль на прочие цели"]
[null,"в том числе расходы на обслуживание заемных средств"]
["1.10.","Подконтрольные расходы методом индексации",{"$f":"C23+C24+C26+C28+C31+C32+C33+C34+C35","v":0},0,0,0,0,0]
["1.11.","Подконтрольные расходы методом аналогов",null,null,{"$f":"(D39-D37)*E$22","v":0},{"$f":"E38*F$22","v":0},{"$f":"F38*G$22","v":0},{"$f":"G38*H$22","v":0}]
["1.12.","ИТОГО подконтрольные расходы",null,{"$f":"D37*0.8+D38*0.2","v":0},{"$f":"E37+E38","v":0},{"$f":"F37+F38","v":0},{"$f":"G37+G38","v":0},{"$f":"H37+H38","v":0}]
["1.13.","Рост подконтрольных расходов, %",null,{"$f":"IF(C37=0,1,D39/C37)","v":1},{"$f":"IF(D37=0,1,E39/D39)","v":1},{"$f":"IF(E37=0,1,F39/E39)","v":1},{"$f":"IF(F37=0,1,G39/F39)","v":1},{"$f":"IF(G37=0,1,H39/G39)","v":1},223637.5078927748,{"$f":"I40/I22*J22","v":156705.73353455873}]
[null,null,null,null,null,null,null,null,null,{"$f":"J40-I40","v":-66931.774358216062}]
["2. Расчет неподконтрольных расходов",null,"Плановые показатели"]
["№ п.п.","Показатели","2014 утверждено",2015,2016,2017,2018,2019,"2013 план","2013 факт"]
["2.1.","Финансирование капитальных вложений из прибыли "]
[null,"ВН"]
[null,"СН1"]
[null,"СН2"]
[null,"НН"]
["2.2.","Амортизация",null,null,null,null,null,null,24636.208242212746,{"$f":"'15'!D20","v":34018.082060000001}]
[null,"ВН",null,null,null,null,null,null,8219.8114800000003]
[null,"СН1",null,null,null,null,null,null,2591.7982400000001]
[null,"СН2",null,null,null,null,null,null,10953.370600000004]
[null,"НН",null,null,null,null,null,null,2511.7003199999999]
["2.3.","Коммунальные услуги (ресурсы) по регулируемым ценам, в том числе",null,null,null,null,null,null,1323.0750455660161,{"$f":"'ОПР -25 счет'!C12*'ОПР -25 счет'!C37","v":0}]
[null,"электрическая энергия",null,null,null,null,null,null,904.75520522135616]
[null,"отопление",null,null,null,null,null,null,409.11014144012211]
[null,"газ",null,null,null,null,null,null,0]
[null,"ГВС",null,null,null,null,null,null,9.2096989045377367]
[null,"водоснабжение "]
[null,"водоотведение"]
["2.4.","Страховые взносы социального характера",null,null,null,null,null,null,10424.874681293548,{"$f":"'15'!D18","v":0}]
["2.5.","Плата за аренду имущества и лизинг",null,null,null,null,null,null,3656.8975732677136,{"$f":"'15'!D34","v":7784.1610000000001}]
["2.6.","Налог на имущество",null,null,null,null,null,null,712.41160297387614,{"$f":"'ОХР -26 счет'!C27*'ОХР -26 счет'!C39","v":0}]
[null,"ВН"]
[null,"СН1"]
[null,"СН2"]
[null,"НН"]
["2.7.","Налог на прибыль",null,null,null,null,null,null,69.96931078499999,{"$f":"'21'!D31","v":0}]
["2.8.","Прочие налоги и сборы, в том числе",null,null,null,null,null,null,2.6000812635865032]
[null,"плата за землю",null,null,null,null,null,null,2.6000812635865032]
[null,"налог при упрощенной системе налогообложения"]
["2.9.","Расходы на возврат и обслуживание заемных средств",null,null,null,null,null,null,40826.036537362488,{"$f":"SUM(J49:J71)","v":41802.243060000001}]
[null,"в том числе расходы на обслуживание заемных средств",null,null,null,null,null,null,null,{"$f":"J72-I72","v":976.20652263751253}]
["2.10.","Прочие неподконтрольные расходы (услуги ОАО \"ФСК ЕЭС\")"]
["2.11.","Компенсация выпадающих доходов по технологическому присоединению (пункт 87 Основ ценообразования)"]
["2.12.","ИТОГО неподконтрольных расходов",{"$f":"C44+C49+C54+C61+C62+C63+C68+C69+C72+C75","v":0},0,0,0,0,0]
["2.13","Рост неподконтрольных расходов, %",null,{"$f":"IF(C76=0,1,D76/C76)","v":1},{"$f":"IF(D76=0,1,E76/D76)","v":1},{"$f":"IF(E76=0,1,F76/E76)","v":1},{"$f":"IF(F76=0,1,G76/F76)","v":1},{"$f":"IF(G76=0,1,H76/G76)","v":1}]
[]
["3. Расчет необходимой валовой выручки на содержание сетей"]
["№ п.п.","Показатели","2014 утверждено",2015,2016,2017,2018,2019]
["3.1.","Плановые подконтрольные расходы",{"$f":"C37","v":0},0,0,0,0,0]
["3.2.","Плановые неподконтрольные расходы",{"$f":"C76","v":0},0,0,0,0,0]
["3.3.","Корректировка по факту, \nв том числе",{"$f":"C84+C85","v":0},null,0,0,0,0]
["3.3.1.","результаты деятельности  до перехода к регулированию тарифов  на основе долгосрочных параметров регулирования (пункт 11 Методических указаний )"]
["3.3.2.","корректировка по итогам  истекшего года долгосрочного периода (пункт 9 Методических указаний ), в т.ч."]
["3.3.2.1.","корректировка подконтрольных расходов "]
["3.3.2.2.","корректировка неподконтрольных расходов "]
["3.3.2.3.","корректировка НВВ с учетом изменения полезного отпуска и цен на электрическую энергию (покупка потерь)"]
["3.3.2.4.","изменение (неисполнение) инвестиционной программы "]
["3.4.","Корректировка НВВ с учетом достижения установленного уровня надежности и качества услуг"]
["3.5.","ИТОГО НВВ",{"$f":"C81+C82+C83","v":0},0,0,0,0,0,null,null,"для вставки в постановление"]
[null,"% роста",null,{"$f":"IF(C91=0,1,D91/C91)","v":1},{"$f":"IF(D91=0,1,E91/D91)","v":1},{"$f":"IF(E91=0,1,F91/E91)","v":1},{"$f":"IF(F91=0,1,G91/F91)","v":1},{"$f":"IF(G91=0,1,H91/G91)","v":1},null,null,{"$f":"D91","v":0}]
["3.6.","Доля капитальных вложений за счет прибыли не более 12 % от НВВ  (п. 11 Методических указаний)",{"$f":"IF(C91=0,0,C44/(C91-C44-C62-IF(C68=0,0,C44/0.8*0.2)))","v":0},0,0,0,0,0,null,null,{"$f":"E91","v":0}]
["3.7.","Распределение НВВ по уровням напряжения",{"$f":"C95+C96+C97+C98","v":0},0,0,0,0,0,null,null,{"$f":"F91","v":0}]
[null,"ВН",null,null,null,null,null,null,null,null,{"$f":"G91","v":0}]
[null,"СН1",null,null,null,null,null,null,null,null,{"$f":"H91","v":0}]
[null,"СН2"]
[null,"НН"]
[]
[null,"в том числе доля, относимая на сторонних потребителей",{"$f":"IF(C94=0,0,C105/C94)","v":0},0,0,0,0,0]
[null,"ВН"]
[null,"СН1"]
[null,"СН2"]
[null,"НН"]
[null,"всего"]
[null,"% роста",null,{"$f":"IF(C105=0,1,D105/C105)","v":1},{"$f":"IF(D105=0,1,E105/D105)","v":1},{"$f":"IF(E105=0,1,F105/E105)","v":1},{"$f":"IF(F105=0,1,G105/F105)","v":1},{"$f":"IF(G105=0,1,H105/G105)","v":1}]
["ПРЕДЛОЖЕНИЕ ПО ТАРИФАМ",null,null,null,null,null,null,null,null,null,null,null,null,null,null,null,null,"проверка НВВ"]
["Наименование",null,"2014 утверждено",2015,2016,2017,2018,2019,null,"для вставки в постановление",null,null,null,null,null,null,null,{"$f":"(D110+D111)*(заключение!$D$32+заключение!$D$35)/2","v":{"$error":"#REF!"}},{"$f":"(E110+E111)*(заключение!$D$32+заключение!$D$35)/2","v":{"$error":"#REF!"}},{"$f":"(F110+F111)*(заключение!$D$32+заключение!$D$35)/2","v":{"$error":"#REF!"}},{"$f":"(G110+G111)*(заключение!$D$32+заключение!$D$35)/2","v":{"$error":"#REF!"}},{"$f":"(H110+H111)*(заключение!$D$32+заключение!$D$35)/2","v":{"$error":"#REF!"}}]
["Одноставочный тариф на услуги по передаче электрической энергии, руб./кВт.ч","%",null,null,null,null,null,null,null,{"$f":"D113","v":0},{"$f":"D116","v":0},{"$f":"D110","v":0},{"$f":"D114","v":0},{"$f":"D117","v":0},{"$f":"D111","v":0},null,null,{"$f":"R111+R115","v":{"$error":"#REF!"}},{"$f":"S111+S115","v":{"$error":"#REF!"}},{"$f":"T111+T115","v":{"$error":"#REF!"}},{"$f":"U111+U115","v":{"$error":"#REF!"}},{"$f":"V111+V115","v":{"$error":"#REF!"}}]
["в т.ч. 1 полугодие",null,null,null,null,null,null,null,null,{"$f":"E113","v":0},{"$f":"E116","v":0},{"$f":"E110","v":0},{"$f":"E114","v":0},{"$f":"E117","v":0},{"$f":"E111","v":0}]
["2 полугодие",null,null,null,null,null,null,null,null,{"$f":"F113","v":0},{"$f":"F116","v":0},{"$f":"F110","v":0},{"$f":"F114","v":0},{"$f":"F117","v":0},{"$f":"F111","v":0},null,null,{"$f":"(D113+'Расчет долгосрочных параметров'!D114)*6*'5'!$BF$23","v":0},{"$f":"(E113+'Расчет долгосрочных параметров'!E114)*6*'5'!$BF$23","v":0},{"$f":"(F113+'Расчет долгосрочных параметров'!F114)*6*'5'!$BF$23","v":0},{"$f":"(G113+'Расчет долгосрочных параметров'!G114)*6*'5'!$BF$23","v":0},{"$f":"(H113+'Расчет долгосрочных параметров'!H114)*6*'5'!$BF$23","v":0}]
["Двухставочный тариф на услуги по передаче электрической энергии:\n- ставка за содержание электрических сетей, руб./МВт","%",null,null,null,null,null,null,null,{"$f":"G113","v":0},{"$f":"G116","v":0},{"$f":"G110","v":0},{"$f":"G114","v":0},{"$f":"G117","v":0},{"$f":"G111","v":0}]
["в т.ч. 1 полугодие",null,null,null,null,null,null,null,null,{"$f":"H113","v":0},{"$f":"H116","v":0},{"$f":"H110","v":0},{"$f":"H114","v":0},{"$f":"H117","v":0},{"$f":"H111","v":0}]
["2 полугодие"]
["- ставка по оплате технологического расхода электрической энегии на ее передачу, руб./МВт.ч.",null,null,null,null,null,null,null,null,null,null,null,null,null,null,null,null,{"$f":"(D116+'Расчет долгосрочных параметров'!D117)*(заключение!$D$32+заключение!$D$35)/2","v":{"$error":"#REF!"}},{"$f":"(E116+'Расчет долгосрочных параметров'!E117)*(заключение!$D$32+заключение!$D$35)/2","v":{"$error":"#REF!"}},{"$f":"(F116+'Расчет долгосрочных параметров'!F117)*(заключение!$D$32+заключение!$D$35)/2","v":{"$error":"#REF!"}},{"$f":"(G116+'Расчет долгосрочных параметров'!G117)*(заключение!$D$32+заключение!$D$35)/2","v":{"$error":"#REF!"}},{"$f":"(H116+'Расчет долгосрочных параметров'!H117)*(заключение!$D$32+заключение!$D$35)/2","v":{"$error":"#REF!"}}]
["в т.ч. 1 полугодие"]
["2 полугодие"]
["Рост одноставочного тарифа (год к году), %",null,null,{"$f":"IF(C109=0,0,D109/C109)","v":0},{"$f":"IF(D109=0,0,E109/D109)","v":0},{"$f":"IF(E109=0,0,F109/E109)","v":0},{"$f":"IF(F109=0,0,G109/F109)","v":0},{"$f":"IF(G109=0,0,H109/G109)","v":0}]
["Рост одноставочного тарифа (2 полугодие к 1 полугодию), %",null,null,{"$f":"IF(D110=0,0,D111/D110)","v":0},{"$f":"IF(E110=0,0,E111/E110)","v":0},{"$f":"IF(F110=0,0,F111/F110)","v":0},{"$f":"IF(G110=0,0,G111/G110)","v":0},{"$f":"IF(H110=0,0,H111/H110)","v":0}]
[]
[{"$f":"заключение!B131","v":0},null,null,null,null,null,null,{"$f":"заключение!H131","v":0}]

{"sheet":"корректировка 2016 ","index":23,"n_rows":97,"n_cols":10,"rows_kept":97,"cut":false,"hidden":true,"merged":[[0,1,0,6],[4,4,4,6],[35,4,35,6]]}
[null,{"$f":"Анкета!B3","v":"АО \"Чепецкий механический завод\""}]
[]
["АНАЛИЗ НЕОБХОДИМОЙ ВЫРУЧКИ НА СОДЕРЖАНИЕ СЕТЕЙ  НА 2016г. "]
[]
[null,"Расчет коэффициента индексации",null,null,"Плановые показатели"]
[null,null,null,"2015 утв.","2016 (утв.)","2016 с учетом корректировки",null,"2014 факт","2014 план"]
[null,"индекс потребительских цен","%",{"$f":"'Расчет долгосрочных параметров'!D20","v":6.7000000000000004E-2},{"$f":"'Расчет долгосрочных параметров'!E20","v":4.3999999999999997E-2}]
[null,"индекс эффективности подконтрольных расходов","%",{"$f":"'Расчет долгосрочных параметров'!D8","v":0},{"$f":"'Расчет долгосрочных параметров'!E8","v":0},null,null,0.01,0.01]
[null,"количество активов","у.е.",null,{"$f":"'2.3'!F29","v":4434.3559999999998},{"$f":"'2.3'!F30","v":0}]
[null,"индекс изменения количества активов","%",null,null,{"$f":"IF(D9=0,0,(F9-'корректировка 2016 '!D9)/'корректировка 2016 '!D9)","v":0}]
[null,"коэффициент эластичности подконтрольных расходов по количеству  активов","%",0.75,0.75,0.75,null,0.75,0.75]
[null,"показатели надежности и качества услуг"]
[null,"максимальная возможная корректировка необходимой валовой выручки, осуществляемая с учетом достижения установленного уровня надежности и качества услуг","%",0.02,0.02,0.02]
[null,"итого коэффициент индексации",null,null,{"$f":"'Расчет долгосрочных параметров'!E22","v":0},{"$f":"(1+F7)*(1-F8)*(1+F10*F11)","v":1},null,{"$f":"(1+H7)*(1-H8)*(1+H10*H11)","v":0.99},{"$f":"(1+I7)*(1-I8)*(1+I10*I11)","v":0.99}]
[]
["1. Расчет подконтрольных расходов"]
["№ п.п.","Показатели","Единица измерения","2015 утв.","2016 (утв.)","2016 с учетом корректировки","Размер корректировки"]
["1.1.","Сырье, основные материалы","тыс.руб.",{"$f":"'Расчет долгосрочных параметров'!C23","v":0},null,{"$f":"D18*F$14","v":0},{"$f":"F18-E18","v":0}]
["1.2.","Вспомогательные материалы","тыс.руб.",{"$f":"'Расчет долгосрочных параметров'!C24","v":0},null,0,0]
[null,"из них на ремонт","тыс.руб.",{"$f":"'Расчет долгосрочных параметров'!C25","v":0},null,0,0]
["1.3.","Работы и услуги производ. характера","тыс.руб.",{"$f":"'Расчет долгосрочных параметров'!C26","v":0},null,0,0]
[null,"из них на ремонт","тыс.руб.",{"$f":"'Расчет долгосрочных параметров'!C27","v":0},null,0,0]
["1.4.","Затраты на оплату труда","тыс.руб.",{"$f":"'Расчет долгосрочных параметров'!C28","v":0},null,0,0]
[null,"в том числе оплата труда производственного персонала","тыс.руб.",{"$f":"'Расчет долгосрочных параметров'!C29","v":0},null,0,0]
[null,"из них на ремонт","тыс.руб.",{"$f":"'Расчет долгосрочных параметров'!C30","v":0},null,0,0]
["1.5.","Прочие затраты ","тыс.руб.",{"$f":"'Расчет долгосрочных параметров'!C31","v":0},null,0,0]
["1.6.","Прибыль на социальное развитие ","тыс.руб.",{"$f":"'Расчет долгосрочных параметров'!C32","v":0},null,0,0]
["1.7.","Льготы, компенсации и проч.выплаты по Колдоговору","тыс.руб.",{"$f":"'Расчет долгосрочных параметров'!C33","v":0},null,0,0]
["1.8.","Дивиденды по акциям","тыс.руб.",{"$f":"'Расчет долгосрочных параметров'!C34","v":0},null,0,0]
["1.9.","Прибыль на прочие цели","тыс.руб.",{"$f":"'Расчет долгосрочных параметров'!C35","v":0},null,0,0]
[null,"в том числе расходы на обслуживание заемных средств","тыс.руб.",{"$f":"'Расчет долгосрочных параметров'!C36","v":0},null,0,0]
["1.10","Подконтрольные расходы методом аналогов",null,null,null,0]
["1.11.","ИТОГО подконтрольные расходы","тыс.руб.",{"$f":"D18+D19+D21+D23+D26+D27+D28+D29+D30","v":0},{"$f":"E18+E19+E21+E23+E26+E27+E28+E29+E30","v":0},{"$f":"F18+F19+F21+F23+F26+F27+F28+F29+F30+F32","v":0},{"$f":"G18+G19+G21+G23+G26+G27+G28+G29+G30","v":0}]
[]
[]
["2. Расчет неподконтрольных расходов",null,null,null,"Плановые показатели"]
["№ п.п.","Показатели","Единица измерения","2015 утв.","2016 (утв.)","2016 с учетом корректировки","Размер корректировки","2014 факт","2014 план","корректировка по факту"]
["2.1.","Финансирование капитальных вложений из прибыли ","тыс.руб.",{"$f":"'Расчет долгосрочных параметров'!C44","v":0},null,null,{"$f":"F38-E38","v":0},null,null,{"$f":"H38-I38","v":0}]
[null,"ВН","тыс.руб.",{"$f":"'Расчет долгосрочных параметров'!C45","v":0},null,null,0,null,null,{"$f":"H39-I39","v":0}]
[null,"СН1","тыс.руб.",{"$f":"'Расчет долгосрочных параметров'!C46","v":0},null,null,0,null,null,0]
[null,"СН2","тыс.руб.",{"$f":"'Расчет долгосрочных параметров'!C47","v":0},null,null,0,null,null,0]
[null,"НН","тыс.руб.",{"$f":"'Расчет долгосрочных параметров'!C48","v":0},null,null,0,null,null,0]
["2.2.","Амортизация","тыс.руб.",{"$f":"'Расчет долгосрочных параметров'!C49","v":0},null,null,0,null,null,0]
[null,"ВН","тыс.руб.",{"$f":"'Расчет долгосрочных параметров'!C50","v":0},null,null,0,null,null,0]
[null,"СН1","тыс.руб.",{"$f":"'Расчет долгосрочных параметров'!C51","v":0},null,null,0,null,null,0]
[null,"СН2","тыс.руб.",{"$f":"'Расчет долгосрочных параметров'!C52","v":0},null,null,0,null,null,0]
[null,"НН","тыс.руб.",{"$f":"'Расчет долгосрочных параметров'!C53","v":0},null,null,0,null,null,0]
["2.3.","Коммунальные услуги, в том числе","тыс.руб.",{"$f":"'Расчет долгосрочных параметров'!C54","v":0},null,null,0,{"$f":"H49+H50+H51+H52","v":0},{"$f":"I49+I50+I51+I52","v":0},0]
[null,"электрическая энергия","тыс.руб.",{"$f":"'Расчет долгосрочных параметров'!C55","v":0},null,null,0,null,null,0]
[null,"отопление","тыс.руб.",{"$f":"'Расчет долгосрочных параметров'!C56","v":0},null,null,0,null,null,0]
[null,"ГВС","тыс.руб.",{"$f":"'Расчет долгосрочных параметров'!C59","v":0},null,null,0,null,null,0]
[null,"водоснабжение и водоотведение","тыс.руб.",{"$f":"'Расчет долгосрочных параметров'!C60","v":0},null,null,0,null,null,0]
["2.4.","Страховые взносы социального характера","тыс.руб.",{"$f":"'Расчет долгосрочных параметров'!C61","v":0},null,null,0,null,null,0]
["2.5.","Плата за аренду имущества и лизинг","тыс.руб.",{"$f":"'Расчет долгосрочных параметров'!C62","v":0},null,null,0,null,null,0]
["2.6.","Налог на имущество","тыс.руб.",{"$f":"'Расчет долгосрочных параметров'!C63","v":0},null,null,0,null,null,0]
[null,"ВН","тыс.руб.",{"$f":"'Расчет долгосрочных параметров'!C64","v":0},null,null,0,null,null,0]
[null,"СН1","тыс.руб.",{"$f":"'Расчет долгосрочных параметров'!C65","v":0},null,null,0,null,null,0]
[null,"СН2","тыс.руб.",{"$f":"'Расчет долгосрочных параметров'!C66","v":0},null,null,0,null,null,0]
[null,"НН","тыс.руб.",{"$f":"'Расчет долгосрочных параметров'!C67","v":0},null,null,0,null,null,0]
["2.7.","Налог на прибыль","тыс.руб.",{"$f":"'Расчет долгосрочных параметров'!C68","v":0},null,null,0,null,null,0]
["2.8.","Прочие налоги и сборы, в том числе","тыс.руб.",{"$f":"'Расчет долгосрочных параметров'!C69","v":0},null,null,{"$f":"F62-E61","v":0},null,null,0]
[null,"плата за землю","тыс.руб.",{"$f":"'Расчет долгосрочных параметров'!C70","v":0},null,null,{"$f":"F63-E62","v":0},null,null,0]
[null,"налог при упрощенной системе налогообложения","тыс.руб.",{"$f":"'Расчет долгосрочных параметров'!C71","v":0},null,null,{"$f":"F66-E63","v":0},null,null,0]
["2.9.","Расходы на возврат и обслуживание  заемных средств","тыс.руб.",{"$f":"'Расчет долгосрочных параметров'!C72","v":0}]
[null,"в том числе на обслуживание заемных средств","тыс.руб.",{"$f":"'Расчет долгосрочных параметров'!C73","v":0}]
["2.10.","Прочие неподконтрольные расходы (услуги ОАО \"ФСК ЕЭС\")","тыс.руб.",{"$f":"'Расчет долгосрочных параметров'!C74","v":0},null,null,{"$f":"F67-E66","v":0},null,null,0]
["2.11.","Компенсация выпадающих доходов по технологическому присоединению (пункт 87 Основ ценообразования)","тыс.руб.",{"$f":"'Расчет долгосрочных параметров'!C75","v":0},null,null,{"$f":"F68-E67","v":0},null,null,0]
["2.12.","ИТОГО неподконтрольных расходов","тыс.руб.",{"$f":"D38+D43+D48+D53+D54+D55+D60+D61+D66+D67+D64","v":0},{"$f":"E38+E43+E48+E53+E54+E55+E60+E61+E66+E67+E64","v":0},0,0,0,0,0]
[]
[]
["3. Расчет необходимой валовой выручки на содержание сетей"]
["№ п.п.","Показатели","Единица измерения","2015 утв.","2016 (утв.)","2016 с учетом корректировки","Размер корректировки"]
["3.1.","Плановые подконтрольные расходы","тыс.руб.",{"$f":"D33","v":0},{"$f":"E33","v":0},{"$f":"F33","v":0},{"$f":"F73-E73","v":0}]
["3.2.","Плановые неподконтрольные расходы","тыс.руб.",{"$f":"D68","v":0},{"$f":"E68","v":0},{"$f":"F68","v":0},{"$f":"F74-E74","v":0}]
["3.3.","Корректировка по факту, \nв том числе","тыс.руб.",{"$f":"D76+D77","v":0},{"$f":"E76+E77","v":0},{"$f":"F76+F77","v":0}]
["3.3.1.","результаты деятельности  до перехода к регулированию тарифов  на основе долгосрочных параметров регулирования (пункт 11 Методических указаний )","тыс.руб."]
["3.3.2.","корректировка по итогам  истекшего года долгосрочного периода (пункт 9 Методических указаний ), в т.ч.","тыс.руб."]
["3.3.2.1.","корректировка подконтрольных расходов ","тыс.руб."]
["3.3.2.2.","корректировка неподконтрольных расходов ","тыс.руб."]
["3.3.2.3.","корректировка НВВ с учетом изменения полезного отпуска и цен на электрическую энергию (покупка потерь)","тыс.руб."]
["3.3.2.4.","изменение (неисполнение) инвестиционной программы ","тыс.руб."]
["3.4.","Корректировка НВВ с учетом достижения установленного уровня надежности и качества услуг","тыс.руб."]
["3.5.","ИТОГО НВВ","тыс.руб.",{"$f":"D73+D74+D75","v":0},{"$f":"E73+E74+E75","v":0},{"$f":"F73+F74+F75","v":0},{"$f":"G73+G74+G75","v":0}]
["3.6.","Доля капитальных вложений за счет прибыли не более 12 % от НВВ  (п. 11 Методических указаний)","%",{"$f":"IF(D83=0,0,D38/(D83-D38/0.8-D54))","v":0},{"$f":"IF(E83=0,0,E38/(E83-E38/0.8-E54))","v":0},{"$f":"IF(F83=0,0,F38/(F83-F38/0.8-F54))","v":0},{"$f":"IF(G83=0,0,G38/(G83-G38/0.8-G54))","v":0}]
["3.7.","Распределение НВВ по уровням напряжения",null,{"$f":"D86+D87+D88+D89","v":0},{"$f":"E86+E87+E88+E89","v":0},{"$f":"F86+F87+F88+F89","v":0},{"$f":"F85-E85","v":0}]
[null,"ВН","тыс.руб.",{"$f":"'Расчет долгосрочных параметров'!D95","v":0},{"$f":"'Расчет долгосрочных параметров'!E95","v":0},{"$f":"IF('2.3'!$F$30=0,0,(F$83-F$39/0.8-F$40/0.8-F$41/0.8-F$42/0.8-F$44-F$45-F$46-F$47-F$56-F$57-F$58-F$59)/'2.3'!$F$30*'2.3'!$B$30+F39/0.8+F44+F56)","v":0},{"$f":"F86-E86","v":0}]
[null,"СН1","тыс.руб.",{"$f":"'Расчет долгосрочных параметров'!D96","v":0},{"$f":"'Расчет долгосрочных параметров'!E96","v":0},{"$f":"IF('2.3'!$F$30=0,0,(F$83-F$39/0.8-F$40/0.8-F$41/0.8-F$42/0.8-F$44-F$45-F$46-F$47-F$56-F$57-F$58-F$59)/'2.3'!$F$30*'2.3'!C30+F40/0.8+F45+F57)","v":0},{"$f":"F87-E87","v":0}]
[null,"СН2","тыс.руб.",{"$f":"'Расчет долгосрочных параметров'!D97","v":0},{"$f":"'Расчет долгосрочных параметров'!E97","v":0},{"$f":"IF('2.3'!$F$30=0,0,(F$83-F$39/0.8-F$40/0.8-F$41/0.8-F$42/0.8-F$44-F$45-F$46-F$47-F$56-F$57-F$58-F$59)/'2.3'!$F$30*'2.3'!D30+F41/0.8+F46+F58)","v":0},{"$f":"F88-E88","v":0}]
[null,"НН","тыс.руб.",{"$f":"'Расчет долгосрочных параметров'!D98","v":0},{"$f":"'Расчет долгосрочных параметров'!E98","v":0},{"$f":"IF('2.3'!$F$30=0,0,(F$83-F$39/0.8-F$40/0.8-F$41/0.8-F$42/0.8-F$44-F$45-F$46-F$47-F$56-F$57-F$58-F$59)/'2.3'!$F$30*'2.3'!E30+F42/0.8+F47+F59)","v":0},{"$f":"F89-E89","v":0}]
[]
[null,"в том числе доля, относимая на сторонних потребителей",null,{"$f":"D96/D83","v":{"$error":"#DIV/0!"}},{"$f":"E96/E83","v":{"$error":"#DIV/0!"}},{"$f":"F96/F83","v":{"$error":"#REF!"}},{"$f":"F91-E91","v":{"$error":"#REF!"}}]
[null,"ВН",null,{"$f":"'Расчет долгосрочных параметров'!D101","v":0},{"$f":"'Расчет долгосрочных параметров'!E101","v":0},{"$f":"F86*'4'!#REF!","v":{"$error":"#REF!"}},{"$f":"F92-E92","v":{"$error":"#REF!"}}]
[null,"СН1",null,{"$f":"'Расчет долгосрочных параметров'!D102","v":0},{"$f":"'Расчет долгосрочных параметров'!E102","v":0},{"$f":"F87*'4'!#REF!","v":{"$error":"#REF!"}},{"$f":"F93-E93","v":{"$error":"#REF!"}}]
[null,"СН2",null,{"$f":"'Расчет долгосрочных параметров'!D103","v":0},{"$f":"'Расчет долгосрочных параметров'!E103","v":0},{"$f":"F88*'4'!#REF!","v":{"$error":"#REF!"}},{"$f":"F94-E94","v":{"$error":"#REF!"}}]
[null,"НН",null,{"$f":"'Расчет долгосрочных параметров'!D104","v":0},{"$f":"'Расчет долгосрочных параметров'!E104","v":0},{"$f":"F89*'4'!#REF!","v":{"$error":"#REF!"}},{"$f":"F95-E95","v":{"$error":"#REF!"}}]
[null,"всего",null,{"$f":"SUM(D92:D95)","v":0},{"$f":"SUM(E92:E95)","v":0},{"$f":"SUM(F92:F95)","v":{"$error":"#REF!"}},{"$f":"SUM(G92:G95)","v":{"$error":"#REF!"}}]
[null,"% роста",null,null,{"$f":"E96/D96","v":{"$error":"#DIV/0!"}},{"$f":"F96/D96","v":{"$error":"#REF!"}},{"$f":"F97-E97","v":{"$error":"#REF!"}}]

{"sheet":"P2.1","index":24,"n_rows":49,"n_cols":20,"rows_kept":49,"cut":false,"hidden":false,"merged":[[1,0,1,13],[6,0,23,0],[3,0,4,0],[19,1,23,1],[14,1,18,1],[10,2,11,2],[3,1,4,1],[3,2,4,2],[8,1,9,1],[10,1,13,1],[14,2,16,2],[12,2,13,2],[3,3,4,3],[17,2,18,2],[2,0,2,13],[19,2,21,2],[8,2,9,2],[27,0,34,0],[24,0,25,0],[22,2,23,2],[48,1,48,3],[39,0,41,0],[39,1,41,1],[39,2,41,2],[27,2,29,2],[32,2,34,2],[46,1,46,3],[35,0,36,0],[32,1,34,1],[27,1,31,1],[30,2,31,2]]}
[null,null,null,null,null,null,null,null,null,null,null,null,null,"Таблица № П2.1"]
["Объем воздушных линий электропередач (ВЛЭП) и кабельных линий электропередач (КЛЭП) в условных единицах в зависимост от протяженности, напряжения, конструктивного использования и материала опор. "]
[{"$f":"Анкета!B3","v":"АО \"Чепецкий механический завод\""}]
["ЛЭП","Напряжение, кВ ","Количество цепей на опоре","Материал опор",null,"Количество условных единиц (у) на 100 км трассы ЛЭП","Протяженность (на 1.01.2014)","Объем условных единиц","Протяженность (на 1.01.2015)","Объем условных единиц","Протяженность (на 1.04.2015 = 2016 год)","Объем условных единиц","Протяженность (на 2016 год учтено до корректировки)","Объем условных единиц","Протяженность (на 2016 год после корректировки)","Объем условных единиц","Протяженность (на 1.01.2019)","Объем условных единиц","Протяженность (на 1.01.2020)","Объем условных единиц"]
[null,null,null,null,null,"у/100км","км","у","км","у","км","у","км","у","км","у","км","у","км","у"]
[1,{"$f":"+A6+1","v":2},{"$f":"+B6+1","v":3},{"$f":"+C6+1","v":4},null,{"$f":"+D6+1","v":5},{"$f":"+D6+1","v":5},"7 = 5 * 6 /100",{"$f":"+F6+1","v":6},"7 = 5 * 6 /100",8,"9 = 5 * 8 /100",10,"11 = 5 * 10 /100",12,"13 = 5 * 12 /100",12,"13 = 5 * 12 /100",12,"13 = 5 * 12 /100"]
["ВЛЭП",1150,"-","металл","ВЛЭП-1150кВ-металл",800,null,{"$f":"D7*G7/100","v":{"$error":"#VALUE!"}},null,{"$f":"F7*I7/100","v":0},null,{"$f":"F7*K7/100","v":0},null,{"$f":"F7*M7/100","v":0},null,{"$f":"N7*O7/100","v":0},null,{"$f":"P7*Q7/100","v":0},null,{"$f":"R7*S7/100","v":0}]
[null,750,1,"металл","ВЛЭП-750кВ-цепей:1-металл",600,null,{"$error":"#VALUE!"},null,0,null,{"$f":"F8*K8/100","v":0},null,{"$f":"F8*M8/100","v":0},null,0,null,0,null,0]
[null,"400-500",1,"металл","ВЛЭП-400-500кВ-цепей:1-металл",400,null,{"$error":"#VALUE!"},null,0,null,0,null,0,null,0,null,0,null,0]
[null,null,null,"ж/бетон","ВЛЭП-400-500кВ-ж/бетон",300,null,{"$error":"#VALUE!"},null,0,null,0,null,0,null,0,null,0,null,0]
[null,330,1,"металл","ВЛЭП-330кВ-цепей:1-металл",230,null,{"$error":"#VALUE!"},null,0,null,0,null,0,null,0,null,0,null,0]
[null,null,null,"ж/бетон","ВЛЭП-330кВ-ж/бетон",170,null,{"$error":"#VALUE!"},null,0,null,0,null,0,null,0,null,0,null,0]
[null,null,2,"металл","ВЛЭП-330кВ-цепей:2-металл",290,null,{"$error":"#VALUE!"},null,0,null,0,null,0,null,0,null,0,null,0]
[null,null,null,"ж/бетон","ВЛЭП-330кВ-ж/бетон",210,null,{"$error":"#VALUE!"},null,0,null,0,null,0,null,0,null,0,null,0]
[null,220,1,"дерево","ВЛЭП-220кВ-цепей:1-дерево",260,null,{"$f":"F15*G15/100","v":0},null,0,null,0,null,0,null,{"$f":"F15*O15/100","v":0},null,{"$f":"F15*Q15/100","v":0},null,{"$f":"F15*S15/100","v":0}]
[null,null,null,"металл","ВЛЭП-220кВ-металл",210,null,{"$f":"F16*G16/100","v":0},null,0,null,0,null,0,null,{"$f":"F16*O16/100","v":0},null,{"$f":"F16*Q16/100","v":0},null,{"$f":"F16*S16/100","v":0}]
[null,null,null,"ж/бетон","ВЛЭП-220кВ-ж/бетон",140,null,0,null,0,null,0,null,0,null,0,null,0,null,0]
[null,null,2,"металл","ВЛЭП-220кВ-цепей:2-металл",270,null,0,null,0,null,0,null,0,null,0,null,0,null,0]
[null,null,null,"ж/бетон","ВЛЭП-220кВ-ж/бетон",180,null,0,null,0,null,0,null,0,null,0,null,0,null,0]
[null,"110-150",1,"дерево","ВЛЭП-110-150кВ-цепей:1-дерево",180,null,0,null,0,null,0,null,0,null,0,null,0,null,0]
[null,null,null,"металл","ВЛЭП-110-150кВ-металл",160,null,0,null,0,null,0,null,0,null,0,null,0,null,0]
[null,null,null,"ж/бетон","ВЛЭП-110-150кВ-ж/бетон",130,null,0,null,0,null,0,null,0,null,0,null,0,null,0]
[null,null,2,"металл","ВЛЭП-110-150кВ-цепей:2-металл",190,0.8,1.52,0.8,1.52,0.8,1.52,0.8,1.52,null,0,null,0,null,0]
[null,null,null,"ж/бетон","ВЛЭП-110-150кВ-ж/бетон",160,null,0,null,0,null,0,null,0,null,0,null,0,null,0]
["КЛЭП",220,"-","-","КЛЭП-220кВ",3000,null,0,null,0,null,0,null,0,null,0,null,0,null,0]
[null,110,"-","-","КЛЭП-110кВ",2300,null,0,null,0,null,0,null,0,null,0,null,0,null,0]
["ВН, всего ",null,null,null,"Всего",null,{"$f":"SUM(G15:G24)","v":0.8},{"$f":"SUM(H15:H24)","v":1.52},{"$f":"SUM(I15:I24)","v":0.8},{"$f":"SUM(J15:J24)","v":1.52},{"$f":"SUM(K15:K24)+K24+K23+K18+K19","v":1.6},{"$f":"SUM(L15:L24)","v":1.52},{"$f":"SUM(M15:M24)+M24+M23+M18+M19","v":1.6},{"$f":"SUM(N15:N24)","v":1.52},{"$f":"SUM(O15:O24)+O24+O23+O18+O19","v":0},{"$f":"SUM(P15:P24)","v":0},null,{"$f":"SUM(R15:R24)","v":0},null,{"$f":"SUM(T15:T24)","v":0}]
["ВЛЭП",35,1,"дерево","ВЛЭП-35кВ-цепей:1-дерево",170,null,0,null,{"$f":"F28*I28/100","v":0},null,0,null,0,null,0,null,0,null,0]
[null,null,null,"металл","ВЛЭП-35кВ-металл",140,null,0,null,0,null,0,null,0,null,0,null,0,null,0]
[null,null,null,"ж/бетон","ВЛЭП-35кВ-ж/бетон",120,null,0,null,0,null,0,null,0,null,0,null,0,null,0]
[null,null,2,"металл","ВЛЭП-35кВ-цепей:2-металл",180,2.2999999999999998,4.1399999999999997,2.2999999999999998,4.1399999999999997,2.2999999999999998,4.1399999999999997,2.2999999999999998,4.1399999999999997,null,0,null,0,null,0]
[null,null,null,"ж/бетон","ВЛЭП-35кВ-ж/бетон",150,null,0,null,0,null,0,null,0,null,0,null,0,null,0]
[null," 1 - 20 ","-","дерево","ВЛЭП-1-20кВ-дерево",160,null,0,null,0,null,0,null,0,null,0,null,0,null,0]
[null,null,null,"дерево на ж/б пасынках","ВЛЭП-1-20кВ-дерево на ж/б пасынках",140,null,0,null,0,null,0,null,0,null,0,null,0,null,0]
[null,null,null,"ж/бетон, металл","ВЛЭП-1-20кВ-ж/бетон,металл",110,null,0,null,0,null,0,null,0,null,0,null,0,null,0]
["КЛЭП"," 20 -35","-","-","КЛЭП-20-35кВ",470,10,47,10,47,10,47,10,47,null,0,null,0,null,0]
[null," 3 - 10","-","-","КЛЭП-3-10кВ",350,203.965,713.87750000000005,210.256,735.89600000000007,210.256,735.89600000000007,210.256,735.89600000000007,null,0,null,0,null,0]
["СН-1, всего",null,null,null,"Всего",null,{"$f":"SUM(G28:G32)+G36","v":12.3},{"$f":"SUM(H28:H32)+H36","v":51.14},{"$f":"SUM(I28:I32)+I36","v":12.3},{"$f":"SUM(J28:J32)+J36","v":51.14},{"$f":"SUM(K28:K32)+K36+K31+K32","v":14.600000000000001},{"$f":"SUM(L28:L32)+L36","v":51.14},{"$f":"SUM(M28:M32)+M36+M31+M32","v":14.600000000000001},{"$f":"SUM(N28:N32)+N36","v":51.14},{"$f":"SUM(O28:O32)+O36+O31+O32","v":0},{"$f":"SUM(P28:P32)+P36","v":0},null,{"$f":"SUM(R28:R32)+R36","v":0},null,{"$f":"SUM(T28:T32)+T36","v":0}]
["СН-2, всего",null,null,null,"Всего",null,{"$f":"SUM(G33:G35)+G37","v":203.965},713.87750000000005,210.256,735.89600000000007,210.256,735.89600000000007,{"$f":"SUM(M33:M35)+M37","v":210.256},{"$f":"SUM(N33:N35)+N37","v":735.89600000000007},{"$f":"SUM(O33:O35)+O37","v":0},{"$f":"SUM(P33:P35)+P37","v":0},null,{"$f":"SUM(R33:R35)+R37","v":0},null,{"$f":"SUM(T33:T35)+T37","v":0}]
["ВЛЭП","0,4 кВ ","-","дерево","ВЛЭП-0,4кВ-дерево",260,null,0,null,{"$f":"F40*I40/100","v":0},null,{"$f":"F40*K40/100","v":0},null,{"$f":"F40*M40/100","v":0},null,0,null,0,null,0]
[null,null,null,"дерево на ж/б пасынках","ВЛЭП-0,4кВ-дерево на ж/б пасынках",220,null,0,null,{"$f":"F41*I41/100","v":0},null,{"$f":"F41*K41/100","v":0},null,{"$f":"F41*M41/100","v":0},null,0,null,0,null,0]
[null,null,null,"ж/бетон, металл","ВЛЭП-0,4кВ-ж/бетон,металл",150,null,0,null,{"$f":"F42*I42/100","v":0},null,{"$f":"F42*K42/100","v":0},null,{"$f":"F42*M42/100","v":0},null,0,null,0,null,0]
["КЛЭП","до 1 кВ ","-","-","КЛЭП-до1кВ",270,2,5.4,2,{"$f":"F43*I43/100","v":5.4},2,{"$f":"F43*K43/100","v":5.4},2,{"$f":"F43*M43/100","v":5.4},null,0,null,0,null,0]
["НН, всего",null,null,null,"Всего",null,{"$f":"SUM(G40:G43)","v":2},5.4,2,5.4,2,5.4,{"$f":"SUM(M40:M43)","v":2},{"$f":"SUM(N40:N43)","v":5.4},{"$f":"SUM(O40:O43)","v":0},{"$f":"SUM(P40:P43)","v":0},null,{"$f":"SUM(R40:R43)","v":0},null,{"$f":"SUM(T40:T43)","v":0}]
[]
[]
[null,"Руководитель организации",null,null,null,null,null,null,null,null,"К.Ю. Вергазов"]
[]
[null,"Должностное лицо, ответственное за составление формы",null,null,null,null,null,null,null,null,"О.В. Костюкова"]

{"sheet":"P2.1 (корректировка)","index":25,"n_rows":49,"n_cols":18,"rows_kept":49,"cut":false,"hidden":true,"merged":[[48,1,48,3],[35,0,36,0],[39,0,41,0],[39,1,41,1],[39,2,41,2],[46,1,46,3],[24,0,25,0],[27,0,34,0],[27,1,31,1],[27,2,29,2],[30,2,31,2],[32,1,34,1],[32,2,34,2],[6,0,23,0],[8,1,9,1],[8,2,9,2],[10,1,13,1],[10,2,11,2],[12,2,13,2],[14,1,18,1],[14,2,16,2],[17,2,18,2],[19,1,23,1],[19,2,21,2],[22,2,23,2],[1,0,1,13],[3,0,4,0],[3,1,4,1],[3,2,4,2],[3,3,4,3]]}
[null,null,null,null,null,null,null,null,null,null,null,null,null,"Таблица № П2.1"]
["Объем воздушных линий электропередач (ВЛЭП) и кабельных линий электропередач (КЛЭП) в условных единицах в зависимост от протяженности, напряжения, конструктивного использования и материала опор (корректировка условных единиц). "]
[]
["ЛЭП","Напряжение, кВ ","Количество цепей на опоре","Материал опор",null,"Количество условных единиц (у) на 100 км трассы ЛЭП","Протяженность (2012 год) принято при утверждении тарифов","Объем условных единиц","Протяженность (на 1 января 2012 года по факту)","Объем условных единиц","Разница","Пояснения ","Протяженность (2013 год) принято при утверждении тарифов","Объем условных единиц","Протяженность (на 1 января 2013 года по факту)","Объем условных единиц","Разница","Пояснения "]
[null,null,null,null,null,"у/100км","км","у","км","у","у",null,"км","у","км","у","у"]
[1,{"$f":"+A6+1","v":2},{"$f":"+B6+1","v":3},{"$f":"+C6+1","v":4},null,{"$f":"+D6+1","v":5},{"$f":"+F6+1","v":6},"7 = 5 * 6 /100",8,"9 = 5 * 8 /100","10=9-7",11,12,"13 = 5*12 /100",14,"15 = 5 * 14 /100","16=15-13",17]
["ВЛЭП",1150,"-","металл","ВЛЭП-1150кВ-металл",800,null,{"$f":"$F7*G7/100","v":0},null,{"$f":"$F7*I7/100","v":0},{"$f":"J7-H7","v":0},null,null,{"$f":"$F7*M7/100","v":0},null,0,{"$f":"P7-N7","v":0}]
[null,750,1,"металл","ВЛЭП-750кВ-цепей:1-металл",600,null,{"$f":"F8*G8/100","v":0},null,0,{"$f":"J8-H8","v":0},null,null,0,null,0,{"$f":"P8-N8","v":0}]
[null,"400-500",1,"металл","ВЛЭП-400-500кВ-цепей:1-металл",400,null,0,null,0,0,null,null,0,null,0,0]
[null,null,null,"ж/бетон","ВЛЭП-400-500кВ-ж/бетон",300,null,0,null,0,0,null,null,0,null,0,0]
[null,330,1,"металл","ВЛЭП-330кВ-цепей:1-металл",230,null,0,null,0,0,null,null,0,null,0,0]
[null,null,null,"ж/бетон","ВЛЭП-330кВ-ж/бетон",170,null,0,null,0,0,null,null,0,null,0,0]
[null,null,2,"металл","ВЛЭП-330кВ-цепей:2-металл",290,null,0,null,0,0,null,null,0,null,0,0]
[null,null,null,"ж/бетон","ВЛЭП-330кВ-ж/бетон",210,null,0,null,0,0,null,null,0,null,0,0]
[null,220,1,"дерево","ВЛЭП-220кВ-цепей:1-дерево",260,null,0,null,0,0,null,null,0,null,0,0]
[null,null,null,"металл","ВЛЭП-220кВ-металл",210,null,0,null,0,0,null,null,0,null,0,0]
[null,null,null,"ж/бетон","ВЛЭП-220кВ-ж/бетон",140,null,0,null,0,0,null,null,0,null,0,0]
[null,null,2,"металл","ВЛЭП-220кВ-цепей:2-металл",270,null,0,null,0,0,null,null,0,null,0,0]
[null,null,null,"ж/бетон","ВЛЭП-220кВ-ж/бетон",180,null,0,null,0,0,null,null,0,null,0,0]
[null,"110-150",1,"дерево","ВЛЭП-110-150кВ-цепей:1-дерево",180,null,0,null,0,0,null,null,0,null,0,0]
[null,null,null,"металл","ВЛЭП-110-150кВ-металл",160,null,0,null,0,0,null,null,0,null,0,0]
[null,null,null,"ж/бетон","ВЛЭП-110-150кВ-ж/бетон",130,null,0,null,0,0,null,null,0,null,0,0]
[null,null,2,"металл","ВЛЭП-110-150кВ-цепей:2-металл",190,null,0,null,0,0,null,null,0,null,0,0]
[null,null,null,"ж/бетон","ВЛЭП-110-150кВ-ж/бетон",160,null,0,null,0,0,null,null,0,null,0,0]
["КЛЭП",220,"-","-","КЛЭП-220кВ",3000,null,0,null,0,0,null,null,0,null,0,0]
[null,110,"-","-","КЛЭП-110кВ",2300,null,0,null,0,0,null,null,0,null,0,0]
["ВН, всего ",null,null,null,"Всего",null,null,{"$f":"SUM(H15:H24)","v":0},null,{"$f":"SUM(J15:J24)","v":0},0,null,null,{"$f":"SUM(N15:N24)","v":0},null,{"$f":"SUM(P15:P24)","v":0},0]
["ВЛЭП",35,1,"дерево","ВЛЭП-35кВ-цепей:1-дерево",170,null,{"$f":"F28*G28/100","v":0},null,0,0,null,null,0,null,0,0]
[null,null,null,"металл","ВЛЭП-35кВ-металл",140,null,0,null,0,0,null,null,0,null,0,0]
[null,null,null,"ж/бетон","ВЛЭП-35кВ-ж/бетон",120,null,0,null,0,0,null,null,0,null,0,0]
[null,null,2,"металл","ВЛЭП-35кВ-цепей:2-металл",180,null,0,null,0,0,null,null,0,null,0,0]
[null,null,null,"ж/бетон","ВЛЭП-35кВ-ж/бетон",150,null,0,null,0,0,null,null,0,null,0,0]
[null," 1 - 20 ","-","дерево","ВЛЭП-1-20кВ-дерево",160,null,0,null,0,0,null,null,0,null,0,0]
[null,null,null,"дерево на ж/б пасынках","ВЛЭП-1-20кВ-дерево на ж/б пасынках",140,null,0,null,0,0,null,null,0,null,0,0]
[null,null,null,"ж/бетон, металл","ВЛЭП-1-20кВ-ж/бетон,металл",110,null,0,null,0,0,null,null,0,null,0,0]
["КЛЭП"," 20 -35","-","-","КЛЭП-20-35кВ",470,null,0,null,0,0,null,null,0,null,0,0]
[null," 3 - 10","-","-","КЛЭП-3-10кВ",350,null,0,null,0,0,null,null,0,null,0,0]
["СН-1, всего",null,null,null,"Всего",null,null,{"$f":"SUM(H28:H32)+H36","v":0},null,{"$f":"SUM(J28:J32)+J36","v":0},0,null,null,{"$f":"SUM(N28:N32)+N36","v":0},null,{"$f":"SUM(P28:P32)+P36","v":0},0]
["СН-2, всего",null,null,null,"Всего",null,null,{"$f":"SUM(H33:H35)+H37","v":0},null,{"$f":"SUM(J33:J35)+J37","v":0},0,null,null,{"$f":"SUM(N33:N35)+N37","v":0},null,{"$f":"SUM(P33:P35)+P37","v":0},0]
["ВЛЭП","0,4 кВ ","-","дерево","ВЛЭП-0,4кВ-дерево",260,null,{"$f":"F40*G40/100","v":0},null,0,0,null,null,0,null,0,0]
[null,null,null,"дерево на ж/б пасынках","ВЛЭП-0,4кВ-дерево на ж/б пасынках",220,null,{"$f":"F41*G41/100","v":0},null,0,0,null,null,0,null,0,0]
[null,null,null,"ж/бетон, металл","ВЛЭП-0,4кВ-ж/бетон,металл",150,null,{"$f":"F42*G42/100","v":0},null,0,0,null,null,0,null,0,0]
["КЛЭП","до 1 кВ ","-","-","КЛЭП-до1кВ",270,null,{"$f":"F43*G43/100","v":0},null,0,0,null,null,0,null,0,0]
["НН, всего",null,null,null,"Всего",null,null,{"$f":"SUM(H40:H43)","v":0},null,{"$f":"SUM(J40:J43)","v":0},0,null,null,{"$f":"SUM(N40:N43)","v":0},null,{"$f":"SUM(P40:P43)","v":0},0]
[]
[]
[null,"Руководитель организации"]
[]
[null,"Должностное лицо, ответственное за составление формы"]

{"sheet":"P2.2","index":26,"n_rows":55,"n_cols":20,"rows_kept":55,"cut":false,"hidden":false,"merged":[[54,1,54,4],[53,1,53,4],[41,0,42,0],[41,1,42,1],[41,3,42,3],[47,0,50,0],[47,1,50,3],[33,1,37,1],[33,3,37,3],[13,3,20,3],[33,0,37,0],[21,0,28,0],[21,1,28,1],[21,3,28,3],[29,3,32,3],[29,0,32,0],[29,1,32,1],[13,0,20,0],[3,3,4,3],[13,1,20,1],[6,3,12,3],[6,0,12,0],[1,0,1,13],[3,4,4,4],[6,1,12,1],[3,0,4,0],[3,1,4,1]]}
[null,null,null,null,null,null,null,null,null,null,null,null,null,"Таблица № П2.2"]
["Объем подстанций 35-1150 кВ, трансформаторных подстанций (ТП), комплексных трансформаторных подстанций (КТП) и распределительных пунктов(РП) 0,4-20 кВ в условных единицах. "]
[]
["№ п.п.","Наименование",null,"Единица измерения","Напряжение, кВ ","Количество условных единиц (у) на единицу измерения","Количество единиц измерения (на 01.01.2014)","Объем условных единиц","Количество единиц измерения (на 01.01.2015)","Объем условных единиц","Количество единиц измерения (на 01.04.2015 = 2016 год)","Объем условных единиц","Количество единиц измерения (на  2016 год до корректировки)","Объем условных единиц","Количество единиц измерения (на  2016 год после корректировки)","Объем условных единиц","Количество единиц измерения (на 01.01.2019)","Объем условных единиц","Количество единиц измерения (на 01.01.2020)","Объем условных единиц"]
[null,null,null,null,null,"у/ед.изм.","ед.изм.","у","ед.изм.","у","ед.изм.","у","ед.изм.","у","ед.изм.","у","ед.изм.","у","ед.изм.","у"]
[1,{"$f":"+A6+1","v":2},null,{"$f":"+B6+1","v":3},{"$f":"+D6+1","v":4},{"$f":"+E6+1","v":5},{"$f":"F6+1","v":6},"7=5*6",8,"9=5*8",10,"11=5*10",12,"13=5*12",14,"15=5*14",16,"17=5*16",18,"19=5*18"]
[1,"Подстанция",{"$f":"B7","v":"Подстанция"},"П/ст",1150,1000,null,{"$f":"F7*G7","v":0},null,{"$f":"F7*I7","v":0},null,{"$f":"F7*K7","v":0},null,{"$f":"M7*F7","v":0},null,{"$f":"O7*J7","v":0},null,{"$f":"Q7*L7","v":0},null,{"$f":"S7*N7","v":0}]
[null,null,{"$f":"B7","v":"Подстанция"},null,750,600,null,0,null,{"$f":"F8*I8","v":0},null,{"$f":"F8*K8","v":0},null,{"$f":"M8*F8","v":0},null,{"$f":"O8*J8","v":0},null,{"$f":"Q8*L8","v":0},null,{"$f":"S8*N8","v":0}]
[null,null,{"$f":"B7","v":"Подстанция"},null,"400-500",500,null,0,null,{"$f":"F9*I9","v":0},null,0,null,0,null,{"$f":"O9*J9","v":0},null,{"$f":"Q9*L9","v":0},null,{"$f":"S9*N9","v":0}]
[null,null,{"$f":"B7","v":"Подстанция"},null,330,250,null,0,null,{"$f":"F10*I10","v":0},null,0,null,0,null,{"$f":"O10*J10","v":0},null,{"$f":"Q10*L10","v":0},null,{"$f":"S10*N10","v":0}]
[null,null,{"$f":"B7","v":"Подстанция"},null,220,210,null,0,null,{"$f":"F11*I11","v":0},null,0,null,0,null,{"$f":"O11*F11","v":0},null,{"$f":"Q11*F11","v":0},null,{"$f":"S11*F11","v":0}]
[null,null,{"$f":"B7","v":"Подстанция"},null,"110-150",105,1,105,1,105,1,105,1,105,null,{"$f":"O12*F12","v":0},null,{"$f":"Q12*F12","v":0},null,{"$f":"S12*F12","v":0}]
[null,null,{"$f":"B7","v":"Подстанция"},null,35,75,3,225,3,{"$f":"F13*I13","v":225},3,225,3,225,null,0,null,0,null,0]
[2,"Силовой трансформатор или реактор (одно- или трехфазный), или вольтодобавочный трансформатор",{"$f":"B14","v":"Силовой трансформатор или реактор (одно- или трехфазный), или вольтодобавочный трансформатор"},"Единица оборудования",1150,60,null,0,null,0,null,0,null,0,null,0,null,0,null,0]
[null,null,{"$f":"B14","v":"Силовой трансформатор или реактор (одно- или трехфазный), или вольтодобавочный трансформатор"},null,750,43,null,0,null,0,null,0,null,0,null,0,null,0,null,0]
[null,null,{"$f":"B14","v":"Силовой трансформатор или реактор (одно- или трехфазный), или вольтодобавочный трансформатор"},null,"400-500",28,null,0,null,0,null,0,null,0,null,0,null,0,null,0]
[null,null,{"$f":"B14","v":"Силовой трансформатор или реактор (одно- или трехфазный), или вольтодобавочный трансформатор"},null,330,18,null,0,null,0,null,0,null,0,null,0,null,0,null,0]
[null,null,{"$f":"B14","v":"Силовой трансформатор или реактор (одно- или трехфазный), или вольтодобавочный трансформатор"},null,220,14,null,0,null,0,null,0,null,0,null,0,null,0,null,0]
[null,null,{"$f":"B14","v":"Силовой трансформатор или реактор (одно- или трехфазный), или вольтодобавочный трансформатор"},null,"110-150",7.8,2,15.6,2,15.6,2,15.6,2,15.6,null,0,null,0,null,0]
[null,null,{"$f":"B14","v":"Силовой трансформатор или реактор (одно- или трехфазный), или вольтодобавочный трансформатор"},null,35,2.1,5,10.5,5,10.5,5,10.5,5,10.5,null,0,null,0,null,0]
[null,null,{"$f":"B14","v":"Силовой трансформатор или реактор (одно- или трехфазный), или вольтодобавочный трансформатор"},null,"1-20",1,280,280,292,292,292,292,294,294,null,0,null,0,null,0]
[3,"Воздушный выключатель",{"$f":"B22","v":"Воздушный выключатель"},"3 фазы",1150,180,null,0,null,0,null,0,null,0,null,0,null,0,null,0]
[null,null,{"$f":"B22","v":"Воздушный выключатель"},null,750,130,null,0,null,0,null,0,null,0,null,0,null,0,null,0]
[null,null,{"$f":"B22","v":"Воздушный выключатель"},null,"400-500",88,null,0,null,0,null,0,null,0,null,0,null,0,null,0]
[null,null,{"$f":"B22","v":"Воздушный выключатель"},null,330,66,null,0,null,0,null,0,null,0,null,0,null,0,null,0]
[null,null,{"$f":"B22","v":"Воздушный выключатель"},null,220,43,null,0,null,0,null,0,null,0,null,0,null,0,null,0]
[null,null,{"$f":"B22","v":"Воздушный выключатель"},null,"110-150",26,null,0,null,0,null,0,null,0,null,0,null,0,null,0]
[null,null,{"$f":"B22","v":"Воздушный выключатель"},null,35,11,null,0,null,0,null,0,null,0,null,0,null,0,null,0]
[null,null,{"$f":"B22","v":"Воздушный выключатель"},null,"1-20",5.5,null,0,null,0,null,0,null,0,null,0,null,0,null,0]
[4,"Масляный (вакуумный) выключатель",{"$f":"B30","v":"Масляный (вакуумный) выключатель"}," - \" -",220,23,null,0,null,0,null,0,null,0,null,0,null,0,null,0]
[null,null,{"$f":"B30","v":"Масляный (вакуумный) выключатель"},null,"110-150",14,null,0,null,0,null,0,null,0,null,0,null,0,null,0]
[null,null,{"$f":"B30","v":"Масляный (вакуумный) выключатель"},null,35,6.4,null,0,null,0,null,0,null,0,null,0,null,0,null,0]
[null,null,{"$f":"B30","v":"Масляный (вакуумный) выключатель"},null,"1-20",3.1,697,2160.7000000000003,706,2188.6,706,2188.6,706,2188.6,null,0,null,0,null,0]
[5,"Отделитель с короткозамыкателем",{"$f":"B34","v":"Отделитель с короткозамыкателем"},"Единица оборудования","400-500",35,null,0,null,0,null,0,null,0,null,0,null,0,null,0]
[null,null,{"$f":"B34","v":"Отделитель с короткозамыкателем"},null,330,24,null,0,null,0,null,0,null,0,null,0,null,0,null,0]
[null,null,{"$f":"B34","v":"Отделитель с короткозамыкателем"},null,220,19,null,0,null,0,null,0,null,0,null,0,null,0,null,0]
[null,null,{"$f":"B34","v":"Отделитель с короткозамыкателем"},null,"110-150",9.5,2,19,2,19,2,19,2,19,null,0,null,0,null,0]
[null,null,{"$f":"B34","v":"Отделитель с короткозамыкателем"},null,35,4.7,3,14.100000000000001,3,14.100000000000001,3,14.100000000000001,3,14.100000000000001,null,0,null,0,null,0]
[6,"Выключатель нагрузки",{"$f":"B39","v":"Выключатель нагрузки"}," - \" -","1-20",2.2999999999999998,150,345,150,345,150,345,150,345,null,0,null,0,null,0]
[7,"Синхронный компенсатор мощн. до 50 Мвар",{"$f":"B40","v":"Синхронный компенсатор мощн. до 50 Мвар"}," - \" -","1-20",26,null,0,null,0,null,0,null,0,null,0,null,0,null,0]
[8,"То же, 50 Мвар и более","Синхронный компенсатор мощн. 50 Мвар и выше"," - \" -","1-20",48,null,0,null,0,null,0,null,0,null,0,null,0,null,0]
[9,"Статические конденсаторы",{"$f":"B42","v":"Статические конденсаторы"},"100 конд.",35,2.4,null,{"$f":"F42*G42/100","v":0},null,{"$f":"F42*I42/100","v":0},null,{"$f":"F42*K42/100","v":0},null,{"$f":"M42*F42/100","v":0},null,{"$f":"O42*F42/100","v":0},null,{"$f":"Q42*F42/100","v":0},null,{"$f":"S42*F42/100","v":0}]
[null,null,{"$f":"B42","v":"Статические конденсаторы"},null,"1-20",2.4,null,{"$f":"F43*G43/100","v":0},null,{"$f":"F43*I43/100","v":0},null,{"$f":"F43*K43/100","v":0},null,{"$f":"M43*F43/100","v":0},null,{"$f":"O43*F43/100","v":0},null,{"$f":"Q43*F43/100","v":0},null,{"$f":"S43*F43/100","v":0}]
[10,"Мачтовая (столбовая) ТП",{"$f":"B44","v":"Мачтовая (столбовая) ТП"},"ТП","1-20",2.5,null,0,null,0,null,0,null,0,null,0,null,0,null,0]
[11,"Однотрансфор-маторная ТП, КТП",{"$f":"B45","v":"Однотрансфор-маторная ТП, КТП"},"ТП, КТП","1-20",2.2999999999999998,12,27.599999999999998,12,27.599999999999998,12,27.599999999999998,12,27.599999999999998,null,0,null,0,null,0]
[12,"Двухтрансформаторная ТП, КТП",{"$f":"B46","v":"Двухтрансформаторная ТП, КТП"},"ТП, КТП","1-20",3,132,396,132,396,132,396,132,396,null,0,null,0,null,0]
[13,"Однотрансфор-маторная подстанция 34/0,4 кВ ",{"$f":"B47","v":"Однотрансфор-маторная подстанция 34/0,4 кВ "},"п/ст",35,3.5,null,0,null,0,null,0,null,0,null,0,null,0,null,0]
["14.","Итого",null,null,"ВН",null,null,{"$f":"H37+H36+H31+H30+H27+H26+H19+H18+H12+H11","v":139.6},null,{"$f":"J37+J36+J31+J30+J27+J26+J19+J18+J12+J11","v":139.6},null,{"$f":"L37+L36+L31+L30+L27+L26+L19+L18+L12+L11","v":139.6},null,{"$f":"N37+N36+N31+N30+N27+N26+N19+N18+N12+N11","v":139.6},null,{"$f":"P37+P36+P31+P30+P27+P26+P19+P18+P12+P11","v":0},null,{"$f":"R37+R36+R31+R30+R27+R26+R19+R18+R12+R11","v":0},null,{"$f":"T37+T36+T31+T30+T27+T26+T19+T18+T12+T11","v":0}]
[null,null,null,null,"СН1",null,null,{"$f":"H13+H20+H28+H32+H38+H42+H47","v":249.6},null,{"$f":"J13+J20+J28+J32+J38+J42+J47","v":249.6},null,{"$f":"L13+L20+L28+L32+L38+L42+L47","v":249.6},null,{"$f":"N13+N20+N28+N32+N38+N42+N47","v":249.6},null,{"$f":"P13+P20+P28+P32+P38+P42+P47","v":0},null,{"$f":"R13+R20+R28+R32+R38+R42+R47","v":0},null,{"$f":"T13+T20+T28+T32+T38+T42+T47","v":0}]
[null,null,null,null,"СН2",null,null,{"$f":"H21+H29+H33+H39+H40+H41+H43+H44+H45+H46","v":3209.3},null,{"$f":"J21+J29+J33+J39+J40+J41+J43+J44+J45+J46","v":3249.2},null,{"$f":"L21+L29+L33+L39+L40+L41+L43+L44+L45+L46","v":3249.2},null,{"$f":"N21+N29+N33+N39+N40+N41+N43+N44+N45+N46","v":3251.2},null,{"$f":"P21+P29+P33+P39+P40+P41+P43+P44+P45+P46","v":0},null,{"$f":"R21+R29+R33+R39+R40+R41+R43+R44+R45+R46","v":0},null,{"$f":"T21+T29+T33+T39+T40+T41+T43+T44+T45+T46","v":0}]
[null,null,null,null,"НН",null,null,{"$f":"SUM(H7:H47) - H48-H49-H50","v":0},null,{"$f":"SUM(J7:J47) - J48-J49-J50","v":0},null,{"$f":"SUM(L7:L47) - L48-L49-L50","v":0},null,{"$f":"SUM(N7:N47) - N48-N49-N50","v":0},null,{"$f":"SUM(P7:P47) - P48-P49-P50","v":0},null,{"$f":"SUM(R7:R47) - R48-R49-R50","v":0},null,{"$f":"SUM(T7:T47) - T48-T49-T50","v":0}]
[]
[]
[null,"Руководитель организации",null,null,null,null,null,null,null,null,"К.Ю. Вергазов"]
[null,"Должностное лицо, ответственное за составление формы",null,null,null,null,null,null,null,null,"О.В. Костюкова"]

{"sheet":"P2.2 (корректировка)","index":27,"n_rows":55,"n_cols":18,"rows_kept":55,"cut":false,"hidden":true,"merged":[[33,0,37,0],[33,1,37,1],[33,3,37,3],[54,1,54,4],[41,0,42,0],[41,1,42,1],[41,3,42,3],[47,0,50,0],[47,1,50,3],[53,1,53,4],[21,0,28,0],[21,1,28,1],[21,3,28,3],[29,0,32,0],[29,1,32,1],[29,3,32,3],[6,0,12,0],[6,1,12,1],[6,3,12,3],[13,0,20,0],[13,1,20,1],[13,3,20,3],[1,0,1,13],[3,0,4,0],[3,1,4,1],[3,3,4,3],[3,4,4,4]]}
[null,null,null,null,null,null,null,null,null,null,null,null,null,"Таблица № П2.2"]
["Объем подстанций 35-1150 кВ, трансформаторных подстанций (ТП), комплексных трансформаторных подстанций (КТП) и распределительных пунктов(РП) 0,4-20 кВ в условных единицах (корректировка условных единиц). "]
[]
["№ п.п.","Наименование",null,"Единица измерения","Напряжение, кВ ","Количество условных единиц (у) на единицу измерения","Количество единиц измерения (2012 год) принято при утверждении тарифов","Объем условных единиц","Количество единиц измерения (на 1 января 2012 года по факту)","Объем условных единиц","Разница","Пояснения ","Количество единиц измерения (2013 год) принято при утверждении тарифов","Объем условных единиц","Количество единиц измерения (на 1 января 2013 года по факту)","Объем условных единиц","Разница","Пояснения "]
[null,null,null,null,null,"у/ед.изм.","ед.изм.","у","ед.изм.","у","у",null,"ед.изм.","у","ед.изм.","у","у"]
[1,{"$f":"+A6+1","v":2},null,{"$f":"+B6+1","v":3},{"$f":"+D6+1","v":4},{"$f":"+E6+1","v":5},{"$f":"+F6+1","v":6},"7=5*6",8,"9=5*8","10=9-7",11,12,"13 = 5*12 ",14,"15 = 5 * 14 ","16=15-13",17]
[1,"Подстанция",{"$f":"B7","v":"Подстанция"},"П/ст",1150,1000,null,{"$f":"$F7*G7","v":0},null,{"$f":"$F7*I7","v":0},{"$f":"J7-H7","v":0},null,null,{"$f":"$F7*M7","v":0},null,{"$f":"$F7*O7","v":0},{"$f":"P7-N7","v":0}]
[null,null,{"$f":"B7","v":"Подстанция"},null,750,600,null,{"$f":"F8*G8","v":0},null,{"$f":"$F8*I8","v":0},{"$f":"J8-H8","v":0},null,null,{"$f":"$F8*M8","v":0},null,0,{"$f":"P8-N8","v":0}]
[null,null,{"$f":"B7","v":"Подстанция"},null,"400-500",500,null,{"$f":"F9*G9","v":0},null,0,0,null,null,0,null,0,0]
[null,null,{"$f":"B7","v":"Подстанция"},null,330,250,null,{"$f":"F10*G10","v":0},null,0,0,null,null,0,null,0,0]
[null,null,{"$f":"B7","v":"Подстанция"},null,220,210,null,{"$f":"F11*G11","v":0},null,0,0,null,null,0,null,0,0]
[null,null,{"$f":"B7","v":"Подстанция"},null,"110-150",105,null,0,null,0,0,null,null,0,null,0,0]
[null,null,{"$f":"B7","v":"Подстанция"},null,35,75,null,0,null,0,0,null,null,0,null,0,0]
[2,"Силовой трансформатор или реактор (одно- или трехфазный), или вольтодобавочный трансформатор",{"$f":"B14","v":"Силовой трансформатор или реактор (одно- или трехфазный), или вольтодобавочный трансформатор"},"Единица оборудования",1150,60,null,0,null,0,0,null,null,0,null,0,0]
[null,null,{"$f":"B14","v":"Силовой трансформатор или реактор (одно- или трехфазный), или вольтодобавочный трансформатор"},null,750,43,null,0,null,0,0,null,null,0,null,0,0]
[null,null,{"$f":"B14","v":"Силовой трансформатор или реактор (одно- или трехфазный), или вольтодобавочный трансформатор"},null,"400-500",28,null,0,null,0,0,null,null,0,null,0,0]
[null,null,{"$f":"B14","v":"Силовой трансформатор или реактор (одно- или трехфазный), или вольтодобавочный трансформатор"},null,330,18,null,0,null,0,0,null,null,0,null,0,0]
[null,null,{"$f":"B14","v":"Силовой трансформатор или реактор (одно- или трехфазный), или вольтодобавочный трансформатор"},null,220,14,null,0,null,0,0,null,null,0,null,0,0]
[null,null,{"$f":"B14","v":"Силовой трансформатор или реактор (одно- или трехфазный), или вольтодобавочный трансформатор"},null,"110-150",7.8,null,0,null,0,0,null,null,0,null,0,0]
[null,null,{"$f":"B14","v":"Силовой трансформатор или реактор (одно- или трехфазный), или вольтодобавочный трансформатор"},null,35,2.1,null,0,null,0,0,null,null,0,null,0,0]
[null,null,{"$f":"B14","v":"Силовой трансформатор или реактор (одно- или трехфазный), или вольтодобавочный трансформатор"},null,"1-20",1,null,0,null,0,0,null,null,0,null,0,0]
[3,"Воздушный выключатель",{"$f":"B22","v":"Воздушный выключатель"},"3 фазы",1150,180,null,0,null,0,0,null,null,0,null,0,0]
[null,null,{"$f":"B22","v":"Воздушный выключатель"},null,750,130,null,0,null,0,0,null,null,0,null,0,0]
[null,null,{"$f":"B22","v":"Воздушный выключатель"},null,"400-500",88,null,0,null,0,0,null,null,0,null,0,0]
[null,null,{"$f":"B22","v":"Воздушный выключатель"},null,330,66,null,0,null,0,0,null,null,0,null,0,0]
[null,null,{"$f":"B22","v":"Воздушный выключатель"},null,220,43,null,0,null,0,0,null,null,0,null,0,0]
[null,null,{"$f":"B22","v":"Воздушный выключатель"},null,"110-150",26,null,0,null,0,0,null,null,0,null,0,0]
[null,null,{"$f":"B22","v":"Воздушный выключатель"},null,35,11,null,0,null,0,0,null,null,0,null,0,0]
[null,null,{"$f":"B22","v":"Воздушный выключатель"},null,"1-20",5.5,null,0,null,0,0,null,null,0,null,0,0]
[4,"Масляный (вакуумный) выключатель",{"$f":"B30","v":"Масляный (вакуумный) выключатель"}," - \" -",220,23,null,0,null,0,0,null,null,0,null,0,0]
[null,null,{"$f":"B30","v":"Масляный (вакуумный) выключатель"},null,"110-150",14,null,0,null,0,0,null,null,0,null,0,0]
[null,null,{"$f":"B30","v":"Масляный (вакуумный) выключатель"},null,35,6.4,null,0,null,0,0,null,null,0,null,0,0]
[null,null,{"$f":"B30","v":"Масляный (вакуумный) выключатель"},null,"1-20",3.1,null,0,null,0,0,null,null,0,null,0,0]
[5,"Отделитель с короткозамыкателем",{"$f":"B34","v":"Отделитель с короткозамыкателем"},"Единица оборудования","400-500",35,null,0,null,0,0,null,null,0,null,0,0]
[null,null,{"$f":"B34","v":"Отделитель с короткозамыкателем"},null,330,24,null,0,null,0,0,null,null,0,null,0,0]
[null,null,{"$f":"B34","v":"Отделитель с короткозамыкателем"},null,220,19,null,0,null,0,0,null,null,0,null,0,0]
[null,null,{"$f":"B34","v":"Отделитель с короткозамыкателем"},null,"110-150",9.5,null,0,null,0,0,null,null,0,null,0,0]
[null,null,{"$f":"B34","v":"Отделитель с короткозамыкателем"},null,35,4.7,null,0,null,0,0,null,null,0,null,0,0]
[6,"Выключатель нагрузки",{"$f":"B39","v":"Выключатель нагрузки"}," - \" -","1-20",2.2999999999999998,null,0,null,0,0,null,null,0,null,0,0]
[7,"Синхронный компенсатор мощн. до 50 Мвар",{"$f":"B40","v":"Синхронный компенсатор мощн. до 50 Мвар"}," - \" -","1-20",26,null,0,null,0,0,null,null,0,null,0,0]
[8,"То же, 50 Мвар и более","Синхронный компенсатор мощн. 50 Мвар и выше"," - \" -","1-20",48,null,0,null,0,0,null,null,0,null,0,0]
[9,"Статические конденсаторы",{"$f":"B42","v":"Статические конденсаторы"},"100 конд.",35,2.4,null,{"$f":"F42*G42/100","v":0},null,{"$f":"$F42*I42/100","v":0},0,null,null,{"$f":"$F42*M42/100","v":0},null,{"$f":"$F42*O42/100","v":0},0]
[null,null,{"$f":"B42","v":"Статические конденсаторы"},null,"1-20",2.4,null,{"$f":"F43*G43/100","v":0},null,{"$f":"$F43*I43/100","v":0},0,null,null,{"$f":"$F43*M43/100","v":0},null,{"$f":"$F43*O43/100","v":0},0]
[10,"Мачтовая (столбовая) ТП",{"$f":"B44","v":"Мачтовая (столбовая) ТП"},"ТП","1-20",2.5,null,0,null,0,0,null,null,0,null,0,0]
[11,"Однотрансфор-маторная ТП, КТП",{"$f":"B45","v":"Однотрансфор-маторная ТП, КТП"},"ТП, КТП","1-20",2.2999999999999998,null,0,null,0,0,null,null,0,null,0,0]
[12,"Двухтрансформаторная ТП, КТП",{"$f":"B46","v":"Двухтрансформаторная ТП, КТП"},"ТП, КТП","1-20",3,null,0,null,0,0,null,null,0,null,0,0]
[13,"Однотрансфор-маторная подстанция 34/0,4 кВ ",{"$f":"B47","v":"Однотрансфор-маторная подстанция 34/0,4 кВ "},"п/ст",35,3.5,null,0,null,0,0,null,null,0,null,0,0]
["14.","Итого",null,null,"ВН",null,null,{"$f":"H37+H36+H31+H30+H27+H26+H19+H18+H12+H11","v":0},null,{"$f":"J37+J36+J31+J30+J27+J26+J19+J18+J12+J11","v":0},0,null,null,{"$f":"N37+N36+N31+N30+N27+N26+N19+N18+N12+N11","v":0},null,{"$f":"P37+P36+P31+P30+P27+P26+P19+P18+P12+P11","v":0},0]
[null,null,null,null,"СН1",null,null,{"$f":"H13+H20+H28+H32+H38+H42+H47","v":0},null,{"$f":"J13+J20+J28+J32+J38+J42+J47","v":0},0,null,null,{"$f":"N13+N20+N28+N32+N38+N42+N47","v":0},null,{"$f":"P13+P20+P28+P32+P38+P42+P47","v":0},0]
[null,null,null,null,"СН2",null,null,{"$f":"H21+H29+H33+H39+H40+H41+H43+H44+H45+H46","v":0},null,{"$f":"J21+J29+J33+J39+J40+J41+J43+J44+J45+J46","v":0},0,null,null,{"$f":"N21+N29+N33+N39+N40+N41+N43+N44+N45+N46","v":0},null,{"$f":"P21+P29+P33+P39+P40+P41+P43+P44+P45+P46","v":0},0]
[null,null,null,null,"НН",null,null,{"$f":"SUM(H7:H47) - H48-H49-H50","v":0},null,{"$f":"SUM(J7:J47) - J48-J49-J50","v":0},0,null,null,{"$f":"SUM(N7:N47) - N48-N49-N50","v":0},null,{"$f":"SUM(P7:P47) - P48-P49-P50","v":0},0]
[]
[]
[null,"Руководитель организации"]
[null,"Должностное лицо, ответственное за составление формы"]

{"sheet":"2.3","index":28,"n_rows":39,"n_cols":14,"rows_kept":39,"cut":false,"hidden":false,"merged":[[33,0,33,2],[35,0,35,2],[1,0,1,12],[12,0,12,12],[22,0,22,12],[34,3,34,4],[34,5,34,6],[34,7,34,8],[32,0,32,12],[34,9,34,10],[34,11,34,12]]}
[null,null,null,null,null,null,null,null,null,null,null,null,"Таблица № П2.3"]
["Объем воздушных линий электропередач (ВЛЭП) и кабельных линий электропередач (КЛЭП) в условных единицах в зависимост от протяженности, напряжения, конструктивного использования и материала опор. "]
[]
[null,"ВН","СН-1","СН-2","НН","Всего"]
["2014 год факт (на 1.01.2014)",{"$f":"P2.1!H27","v":1.52},{"$f":"P2.1!H38","v":51.14},{"$f":"P2.1!H39","v":713.87750000000005},{"$f":"P2.1!H44","v":5.4},{"$f":"SUM(B5:E5)","v":771.9375}]
["2015 год факт (на 1.01.2015)",{"$f":"P2.1!J27","v":1.52},{"$f":"P2.1!J38","v":51.14},{"$f":"P2.1!J39","v":735.89600000000007},{"$f":"P2.1!J44","v":5.4},793.95600000000002]
["на 1.04.2015 = 2016 год",{"$f":"P2.1!L27","v":1.52},{"$f":"P2.1!L38","v":51.14},{"$f":"P2.1!L39","v":735.89600000000007},{"$f":"P2.1!L44","v":5.4},793.95600000000002]
["2016 год утверждено (до корректировки)",{"$f":"P2.1!N27","v":1.52},{"$f":"P2.1!N38","v":51.14},{"$f":"P2.1!N39","v":735.89600000000007},{"$f":"P2.1!N44","v":5.4},793.95600000000002]
["2016 год утверждено (после корректировки)",{"$f":"P2.1!P27","v":0},{"$f":"P2.1!P38","v":0},{"$f":"P2.1!P39","v":0},{"$f":"P2.1!P44","v":0},0]
[]
[]
[]
["Объем подстанций 35-1150 кВ, трансформаторных подстанций (ТП), комплексных трансформаторных подстанций (КТП) и распределительных пунктов (РП) 0,4-20 кВ в условных единицах. "]
[]
[null,"ВН","СН-1","СН-2","НН","Всего"]
["2014 год факт (на 1.01.2014)",{"$f":"P2.2!H48","v":139.6},{"$f":"P2.2!H49","v":249.6},{"$f":"P2.2!H50","v":3209.3},{"$f":"P2.2!H51","v":0},{"$f":"SUM(B16:E16)","v":3598.5}]
["2015 год факт  (на 1.01.2015)",{"$f":"P2.2!J48","v":139.6},{"$f":"P2.2!J49","v":249.6},{"$f":"P2.2!J50","v":3249.2},{"$f":"P2.2!J51","v":0},3638.3999999999996]
["на 1.04.2015 = 2016 год",{"$f":"P2.2!L48","v":139.6},{"$f":"P2.2!L49","v":249.6},{"$f":"P2.2!L50","v":3249.2},{"$f":"P2.2!L51","v":0},3638.3999999999996]
["2016 год утверждено (до корректировки)",{"$f":"P2.2!N48","v":139.6},{"$f":"P2.2!N49","v":249.6},{"$f":"P2.2!N50","v":3251.2},{"$f":"P2.2!N51","v":0},3640.3999999999996]
["2016 год утверждено (после корректировки)",{"$f":"P2.2!P48","v":0},{"$f":"P2.2!P49","v":0},{"$f":"P2.2!P50","v":0},{"$f":"P2.2!P51","v":0},0]
[]
[]
["Всего условных единиц"]
[]
[null,"ВН","СН-1","СН-2","НН","Всего","ИКА i - индекс изменения количества активов",null,null,null,null,null,null,"п.34 Основ При установлении индекса изменения количества активов количество активов, необходимых для осуществления регулируемой деятельности на соответствующий расчетный год долгосрочного периода регулирования, определяется регулирующими органами с учетом данных за последний отчетный период текущего года о фактически введенных в эксплуатацию в соответствии с долгосрочной инвестиционной программой объектах электросетевого хозяйства с учетом степени их фактической загрузки, определяемой в соответствии с методическими указаниями, утверждаемыми Министерством энергетики Российской Федерации.\n"]
["2014 год факт (на 1.01.2014)",{"$f":"B5+B16","v":141.12},300.74,3923.1775000000002,5.4,{"$f":"SUM(B26:E26)","v":4370.4375}]
["2015 год факт  (на 1.01.2015)",141.12,300.74,3985.096,5.4,4432.3559999999998,{"$f":"IF(F26=0,0,(F27-F26)/F26)","v":1.4167574756531758E-2}]
["на 1.04.2015 = 2016 год",141.12,300.74,3985.096,5.4,4432.3559999999998,0]
["2016 год утверждено (до корректировки)",141.12,300.74,3987.096,5.4,4434.3559999999998,4.5122729311454225E-4]
["2016 год утверждено (после корректировки)",0,0,0,0,0,-1]
[]
[]
[]
["Руководитель организации",null,null,null,null,null,"К. Ю. Вергазов"]
[]
["Должностное лицо, ответственное за составление формы",null,null,null,null,null,"О. В. Костюкова"]
[]
[null,{"$f":"IF($F30=0,0,B30/$F30)","v":0},{"$f":"IF($F30=0,0,C30/$F30)","v":0},{"$f":"IF($F30=0,0,D30/$F30)","v":0},{"$f":"IF($F30=0,0,E30/$F30)","v":0},{"$f":"SUM(B38:E38)","v":0}]
[null,{"$f":"B38*'4'!#REF!","v":{"$error":"#REF!"}},{"$f":"C38*'4'!#REF!","v":{"$error":"#REF!"}},{"$f":"D38*'4'!#REF!","v":{"$error":"#REF!"}},{"$f":"E38*'4'!#REF!","v":{"$error":"#REF!"}},{"$f":"SUM(B39:E39)","v":{"$error":"#REF!"}}]

{"sheet":"заключение 2016","index":29,"n_rows":113,"n_cols":18,"rows_kept":113,"cut":false,"hidden":true,"merged":[[105,1,105,9],[94,7,94,8],[95,7,95,8],[96,7,96,8],[97,7,97,8],[98,7,98,8],[102,7,102,8],[15,2,15,9],[16,2,16,9],[17,2,17,9],[18,2,18,9],[104,1,104,9],[75,5,75,9],[76,5,76,9],[77,5,77,9],[78,5,78,9],[79,5,79,9],[80,5,80,9],[81,5,81,9],[37,5,37,9],[38,5,38,9],[96,5,96,6],[97,5,97,6],[39,5,39,9],[90,1,90,9],[29,5,34,9],[70,5,70,9],[103,1,103,9],[93,7,93,8],[99,7,99,8],[92,5,92,6],[93,5,93,6],[94,5,94,6],[95,5,95,6],[101,7,101,8],[100,7,100,8],[82,5,82,9],[83,5,83,9],[84,5,84,9],[85,5,85,9],[86,5,86,9],[87,5,87,9],[89,1,89,9],[91,1,91,9],[92,7,92,8],[73,5,73,9],[74,5,74,9],[40,5,53,9],[67,5,67,9],[68,5,68,9],[69,5,69,9],[71,5,71,9],[72,5,72,9],[54,5,54,9],[55,5,55,9],[56,5,56,9],[57,5,57,9],[58,5,58,9],[59,5,59,9],[60,5,60,9],[61,5,61,9],[62,5,62,9],[102,5,102,6],[7,2,7,9],[9,2,9,9],[10,2,10,9],[11,2,11,9],[12,2,12,3],[19,2,19,9],[20,1,20,9],[98,5,98,6],[99,5,99,6],[100,5,100,6],[101,5,101,6],[23,2,23,9],[24,5,24,7],[24,8,24,9],[27,1,27,9],[28,5,28,9],[26,2,26,9],[35,1,35,9],[36,5,36,9],[63,5,63,9],[64,5,64,9],[65,5,65,9],[66,5,66,9],[14,2,14,3],[12,4,12,5],[12,6,12,7],[12,8,12,9],[0,0,0,9],[1,0,1,9],[2,0,2,9],[3,0,3,9],[5,1,5,9],[6,2,6,9],[4,0,4,9],[13,2,13,9],[14,6,14,7],[14,4,14,5],[14,8,14,9]]}
["Заключение"]
["по корректировке тарифа на передачу электрической энергии по сетям ",null,null,null,null,null,null,null,null,null,null,null,null,null,null,"(без НДС)","отсутствует","имеется "]
[0,null,null,null,null,null,null,null,null,null,null,null,null,null,null,"(с учетом ЕСХН)","предоставляется нерегулярно","отсутствует"]
["на 2016 год в рамках долгосрочного периода  2015-2019 годы.",null,null,null,null,null,null,null,null,null,null,null,null,null,null,"(с учетом УСНО)","предоставляется регулярно"]
["  Приказ об открытии дела об установлении тарифов - № от мая 2015 года.\nРасчет тарифа на услуги по передаче электрической энергии  произведен с использованием метода   долгосрочной индексации необходимой валовой выручки в соответствии с  Методическими указаниями по расчету тарифов  (приказ ФСТ от 17 февраля 2012 года № 98-э).  Корректировка необходимой валовой выручки на 2016 год  производится в соответствии с пунктом 9 Методических указаний. \n                Представленные ообосновывающие материалы, заверенные подписью руководителя организации или уполномоченного лица, можно считать достоверными. Ответственность за предоставление недостоверной информации несет организация."]
["1.","Краткая характеристика организации",null,null,null,null,null,null,null,null,null,null,null,null,null,"(с НДС)"]
["1. 1.            ","Основной вид деятельности организации–",{"$f":"Анкета!B10","v":"Производство ядерных материалов"}]
["1.2.            ","Право владения электросетевыми объектами",{"$f":"Анкета!B11","v":"Собственность"}]
["1.4.             ","Протяженность сетей, км","ВН-",{"$f":"Анкета!B14","v":"0,8"},"СН1-",{"$f":"Анкета!B15","v":"12,3"},"СН2-",{"$f":"Анкета!B16","v":210.256},"НН-",{"$f":"Анкета!B17","v":"2"}]
["1.5.             ","Установленная (присоединенная мощность), кВ*А",{"$f":"Анкета!#REF!","v":{"$error":"#REF!"}}]
["1.6.              ","Заявленная мощность сторонних потребителей, МВт",{"$f":"Анкета!B21","v":"1,02"}]
["1.7.              ","Количество сторонних потребителей",{"$f":"Анкета!B27","v":39}]
["1.8.              ","Действующий тариф на  услуги по передаче электрической энергии  (2 полугодие 2015 г.)","ставка на содержание сетей, руб./кВт в месяц",null,null,null,"ставка на компенсацию потерь, руб./кВт.ч"]
["1.9.              ","Реквизиты решения органа регулирования"]
["1.10.              ","Предлагаемые организацией к утверждению тарифы на 2016 год","ставка на содержание сетей, руб./МВт в месяц",null,{"$f":"'Долгосрочные параметры'!D102","v":207278.41380163006},null,"ставка на компенсацию потерь, руб./МВт.ч",{"$f":"'Долгосрочные параметры'!D102","v":207278.41380163006},{"$f":"'Долгосрочные параметры'!D103","v":3.2237731483696144},{"$f":"'Долгосрочные параметры'!E102","v":0}]
["1.11.              ","Отчетность по форме 46-ЭЭ за 2014 год и 1 полугодие 2015 года"]
["1.12.              ","Наличие утвержденной программы энергосбережения на период регулирования"]
["1.13.              ","Реквизиты решения органа регулирования, где отражены выпадающие доходов от ТП заявителей мощностью до 150 кВт"]
["1.14.              ","Реквизиты решения органа регулирования по инвест. программе"]
["1.14.              ","Отчетность по форме 46-ЭЭ","предоставляется регулярно"]
["2.","Анализ финансово-хозяйственной деятельности организации за прошедший период"]
["2.1.","Прибыль от продаж по итогам 2014 года в целом по предприятию",null,"тыс.руб."]
["2.2.","в том числе от реализации услуг по передаче электрической энергии",null,"тыс.руб."]
["2.3.","Причина избытка или недостатка средств по регулируемой деятельности"]
["2.4.","Изменение объемов полезного отпуска  по сравнению с планом за прошедший период",null,null,"тыс.кВт.ч","в том числе сторонним потребителям"]
["2.5.","Выполнение ремонтной и инвестиционной программ за 2014 год, тыс.руб. (план/факт)","план",null,"тыс.руб.","факт",null,"тыс.руб.","расхож-дение",{"$f":"G26-D26","v":0}]
["2.6.","Обоснованные расходы по регулируемой деятельности по факту 2014 года, не учтенные в тарифах"]
["3.","Анализ объемов  услуг по передаче электрической энергии"]
[null,null,"2016 год (утв.)","2016 год (предложение организации)","2016 год (с учетом корректировки)","пояснение к предложению регулирующего органа"]
["3.1.","Планируемый объем отпуска в сеть на 2016 год, тыс.кВт.ч",{"$f":"'4'!BA8","v":343243.35500000004},{"$f":"'4'!AB8","v":336996.04300000001},{"$f":"'4'!#REF!","v":{"$error":"#REF!"}},"Объем услуг по передаче электрической энергии  (расчет на сальдированный переток)  учтен в соответствии с договором с филиалом \"Удмуртэнерго\" на 2016 год (приложение 3 к договору), потери определены в соответствии с установленным  уровнем потерь на базовый период (2015 год)."]
["3.2.","полезный объем услуг  сторонним потребителям,  тыс.кВт.ч",{"$f":"'4'!BA23","v":7107},{"$f":"'4'!AB23","v":5502},{"$f":"'4'!#REF!","v":{"$error":"#REF!"}}]
["3.3.","заявленная мощность сторонних потребителей, МВт",{"$f":"'5'!BA23","v":1.1453666398066076},{"$f":"'5'!AB23","v":0.88670427074939573},{"$f":"'5'!BF23","v":0}]
["3.4.","потери в сетях всего, тыс.кВт.ч",{"$f":"'4'!BA18","v":13209.66},{"$f":"'4'!AB18","v":12847.696636396124},{"$f":"'4'!#REF!","v":{"$error":"#REF!"}}]
["3.5.","в том числе потери на сторонних потребителей",{"$f":"'4'!BA28","v":-1056.9262957446708},{"$f":"'Долгосрочные параметры'!D103*'4'!AB23/'25'!I5","v":9003.6547524515827},{"$f":"'4'!#REF!","v":{"$error":"#REF!"}}]
["3.6.","% потерь",{"$f":"C34/(C31+C34)","v":-0.1746964330370521},{"$f":"D34/(D31+D34)","v":0.62069964480092743},{"$f":"E34/(E31+E34)","v":{"$error":"#REF!"}}]
["4.","Анализ необходимой валовой выручки  по регулируемой деятельности  на 2016 год"]
[null,"Наименование статьи","2016 год (утв.)","2016 год (предложение организации)","2016 год (к утверждению с учетом корректировки)","пояснение к предложению регулирующего органа"]
["4.1.","индекс потребительских цен",{"$f":"'корректировка 2016 '!E7","v":4.3999999999999997E-2},{"$f":"'Долгосрочные параметры'!D16","v":0.15},{"$f":"'корректировка 2016 '!F7","v":0}]
["4.2.","индекс изменения количества активов",{"$f":"'корректировка 2016 '!E10","v":0},{"$f":"('Долгосрочные параметры'!D17-'Долгосрочные параметры'!C17)/'Долгосрочные параметры'!C17","v":{"$error":"#DIV/0!"}},{"$f":"'корректировка 2016 '!F10","v":0}]
["4.3.","итого коэффициент индексации",{"$f":"'корректировка 2016 '!E14","v":0},{"$f":"'Долгосрочные параметры'!D18","v":1.521107993246622},{"$f":"'корректировка 2016 '!F14","v":1}]
["4.4.","Сырье, основные материалы",null,null,null,"Корректировка подконтрольных расходов произведена в связи с изменением прогнозного уровня инфляции и измением количества активов организации, связанным с дополнительной арендой сетей\n\n"]
["4.5.","Вспомогательные материалы"]
[null,"из них на ремонт"]
["4.6.","Работы и услуги производ. характера"]
[null,"из них на ремонт"]
["4.7.","Затраты на оплату труда"]
["4.6.","в том числе оплата труда производственного персонала"]
["4.6.","   численность производственного персонала"]
["4.6.","   среднемесячная заработная плата, руб."]
["4.8.","Прочие затраты "]
["4.9.","Прибыль на социальное развитие "]
["4.10.","Льготы, компенсации и проч.выплаты по Колдоговору"]
["4.11.","Дивиденды по акциям"]
["4.12.","Прибыль на прочие цели"]
[null,"в том числе расходы на обслуживание заемных средств",null,0]
["4.13.","ИТОГО подконтрольные расходы",{"$f":"'корректировка 2016 '!E33","v":0},{"$f":"'Долгосрочные параметры'!D32","v":34991.752999999997},{"$f":"'корректировка 2016 '!F33","v":0}]
["4.14.","Финансирование капитальных вложений из прибыли ",{"$f":"'корректировка 2016 '!E38","v":0},{"$f":"'Долгосрочные параметры'!D37","v":0},{"$f":"'корректировка 2016 '!F38","v":0},"капвложения из прибыли признаны обоснованными в соответствии с утвержденной инвестпрограммой на 2016 год"]
["4.15.","Амортизация",{"$f":"'корректировка 2016 '!E43","v":0},{"$f":"'Долгосрочные параметры'!D42","v":39221.440000000002},{"$f":"'корректировка 2016 '!F43","v":0},"амортизация скорректирована на основании факта за 9 месяцев 2015 года"]
["4.16.","Коммунальные услуги, в том числе",{"$f":"'корректировка 2016 '!E48","v":0},{"$f":"'Долгосрочные параметры'!D47","v":0},{"$f":"'корректировка 2016 '!F48","v":0}]
[null,"электрическая энергия",{"$f":"'корректировка 2016 '!E49","v":0},{"$f":"'Долгосрочные параметры'!D48","v":0},{"$f":"'корректировка 2016 '!F49","v":0}]
[null,"отопление",{"$f":"'корректировка 2016 '!E50","v":0},{"$f":"'Долгосрочные параметры'!D49","v":0},{"$f":"'корректировка 2016 '!F50","v":0}]
[null,"ГВС",{"$f":"'корректировка 2016 '!E51","v":0},{"$f":"'Долгосрочные параметры'!D51","v":0},{"$f":"'корректировка 2016 '!F51","v":0}]
[null,"водоснабжение и водоотведение",{"$f":"'корректировка 2016 '!E52","v":0},{"$f":"'Долгосрочные параметры'!D52+'Долгосрочные параметры'!D53","v":0},{"$f":"'корректировка 2016 '!F52","v":0}]
["4.17.","Страховые взносы социального характера",{"$f":"'корректировка 2016 '!E53","v":0},{"$f":"'Долгосрочные параметры'!D54","v":0},{"$f":"'корректировка 2016 '!F53","v":0},"страховые взносы пересчитаны с учетом индексации фонда оплаты труда"]
["4.18.","Плата за аренду имущества и лизинг",{"$f":"'корректировка 2016 '!E54","v":0},{"$f":"'Долгосрочные параметры'!D55","v":0},{"$f":"'корректировка 2016 '!F54","v":0},"учтено увеличение арендной платы в связи с заключением дополнительных договоров аренды электросетевого имущества"]
["4.19.","Налог на имущество",{"$f":"'корректировка 2016 '!E55","v":0},{"$f":"'Долгосрочные параметры'!D56","v":0},{"$f":"'корректировка 2016 '!F55","v":0}]
["4.20.","Налог на прибыль",{"$f":"'корректировка 2016 '!E60","v":0},{"$f":"'Долгосрочные параметры'!D61","v":0},{"$f":"'корректировка 2016 '!F60","v":0},"Налог на прибыль определен согласно п. 20 Основ ценообразования по факту 2014 года на основании данных бухгалтерского учета, включая налог на прибыль от техприсоединения",null,null,null,null,"При установлении тарифов на услуги по передаче электрической энергии учитывается величина налога на прибыль организаций, которая относится по данным раздельного учета к деятельности по оказанию услуг по передаче электрической энергии и осуществлению технологического присоединения к электрическим сетям.\nДля организаций, осуществляющих регулируемые виды деятельности, которые не являются основным видом их деятельности, распределение величины суммы налога на прибыль организаций между регулируемыми и нерегулируемыми видами деятельности производится согласно учетной политике, принятой в организации.\nПри установлении тарифов на услуги по передаче электрической энергии учитывается величина налога на прибыль организаций, которая относится по данным раздельного учета к деятельности по оказанию услуг по передаче электрической энергии и осуществлению технологического присоединения к электрическим сетям.\nДля организаций, осуществляющих регулируемые виды деятельности, которые не являются основным видом их деятельности, распределение величины суммы налога на прибыль организаций между регулируемыми и нерегулируемыми видами деятельности производится согласно учетной политике, принятой в организации.\n"]
["4.21.","Прочие налоги и сборы, в том числе",{"$f":"'корректировка 2016 '!E61","v":0},{"$f":"'Долгосрочные параметры'!D62","v":7098},{"$f":"'корректировка 2016 '!F61","v":0}]
[null,"плата за землю",{"$f":"'корректировка 2016 '!E62","v":0},{"$f":"'Долгосрочные параметры'!D63","v":0},{"$f":"'корректировка 2016 '!F62","v":0}]
[null,"налог при упрощенной системе налогообложения",{"$f":"'корректировка 2016 '!E63","v":0},{"$f":"'Долгосрочные параметры'!D64","v":0},{"$f":"'корректировка 2016 '!F63","v":0}]
["4.22.","Расходы на возврат и обслуживание  заемных средств",{"$f":"'корректировка 2016 '!E64","v":0},{"$f":"'Долгосрочные параметры'!D65","v":0},{"$f":"'корректировка 2016 '!F64","v":0}]
["4.23.","Прочие неподконтрольные расходы",{"$f":"'корректировка 2016 '!E66","v":0},null,{"$f":"'корректировка 2016 '!F66","v":0}]
["4.24.","Компенсация выпадающих доходов по технологическому присоединению ",{"$f":"'корректировка 2016 '!E67","v":0},{"$f":"'Долгосрочные параметры'!D67","v":0},{"$f":"'корректировка 2016 '!F67","v":0}]
["4.25.","ИТОГО неподконтрольные расходы",{"$f":"'корректировка 2016 '!E68","v":0},{"$f":"'Долгосрочные параметры'!D68","v":46319.44},{"$f":"'корректировка 2016 '!F68","v":0}]
["4.26.","Корректировка по факту, \nв том числе",{"$f":"C76+C77+C78+C79+C80+C81","v":0},{"$f":"D76+D77+D78+D79+D80+D81","v":0},{"$f":"E76+E77+E78+E79+E80+E81","v":0}]
[null,"результаты деятельности  до перехода к регулированию тарифов  на основе долгосрочных параметров регулирования (пункт 10 Методических указаний )",{"$f":"'корректировка 2016 '!E76","v":0},{"$f":"'Долгосрочные параметры'!D76","v":0},{"$f":"'корректировка 2016 '!F76","v":0},null,null,null,null,null,0,{"$f":"E76+K76","v":0}]
[null,"корректировка по итогам  истекшего года долгосрочного периода (пункт 9 Методических указаний ), в т.ч.",{"$f":"'корректировка 2016 '!E77","v":0},{"$f":"'Долгосрочные параметры'!D77","v":0},{"$f":"'корректировка 2016 '!F77","v":0}]
[null,"корректировка подконтрольных расходов ",{"$f":"'корректировка 2016 '!E78","v":0},{"$f":"'Долгосрочные параметры'!D78","v":0},{"$f":"'корректировка 2016 '!F78","v":0}]
[null,"корректировка неподконтрольных расходов ",{"$f":"'корректировка 2016 '!E79","v":0},{"$f":"'Долгосрочные параметры'!D79","v":0},{"$f":"'корректировка 2016 '!F79","v":0}]
[null,"корректировка НВВ с учетом изменения полезного отпуска и цен на электрическую энергию (покупка потерь)",{"$f":"'корректировка 2016 '!E80","v":0},{"$f":"'Долгосрочные параметры'!D80","v":0},{"$f":"'корректировка 2016 '!F80","v":0}]
[null,"изменение (неисполнение) инвестиционной программы ",{"$f":"'корректировка 2016 '!E81","v":0},{"$f":"'Долгосрочные параметры'!D81","v":0},{"$f":"'корректировка 2016 '!F81","v":0}]
["4.27.","Корректировка НВВ с учетом достижения установленного уровня надежности и качества услуг",{"$f":"'корректировка 2016 '!E82","v":0},{"$f":"'Долгосрочные параметры'!D82","v":0},{"$f":"'корректировка 2016 '!F82","v":0}]
["4.28.","ИТОГО НВВ на содержание сетей",{"$f":"C56+C74+C75+C82","v":0},{"$f":"D56+D74+D75+D82","v":81311.192999999999},{"$f":"E56+E74+E75+E82","v":0}]
["4.29.","Доля НВВ на сторонних потребителей пропорционально полезному отпуску по уровням напряжения, %",{"$f":"'корректировка 2016 '!E91","v":{"$error":"#DIV/0!"}},{"$f":"D85/D83","v":2.7124627934370493E-2},{"$f":"'корректировка 2016 '!F91","v":{"$error":"#REF!"}}]
["4.30.","НВВ на содержание сетей, относимая на сторонних потребителей услуг, тыс.руб.",{"$f":"'корректировка 2016 '!E96","v":0},{"$f":"'Долгосрочные параметры'!D102*12*'5'!AB23/1000","v":2205.5358570247904},{"$f":"'корректировка 2016 '!F96","v":{"$error":"#REF!"}}]
["4.31.","Расходы на покупку потерь всего, тыс. руб.",{"$f":"'25'!N27","v":31110.789999999997},{"$f":"'25'!I27","v":25309.962373700364},{"$f":"'25'!O27","v":0},"Расходы на покупку потерь скорректированы в связи с изменением прогнозной цены покупки потерь и с учетом изменения величины потерь при сохранении уровня потерь на уровне 2015 года"]
["4.32.","Расходы на покупку потерь, относимые на сторонних потребителей, тыс. руб.",{"$f":"C88*C34/1000","v":-2.2829607988084892},{"$f":"'Долгосрочные параметры'!D103*'4'!AB23/1000","v":17.737199862329618},{"$f":"E88*E34/1000","v":{"$error":"#REF!"}},"п.4.31. = п.4.32. * п.3.5. / 1000"]
["4.33.","цена покупки потерь, руб. МВт.ч",{"$f":"'25'!N5","v":2.16},{"$f":"'25'!I5","v":1.97},{"$f":"'25'!O5","v":0}," цена покупки потерь рассчитана с учетом прогноза на 2015 год НП Совет рынка от 28 ноября 2015 года и с учетом увеличения сбытовой надбавки ГП с 1 июля 2016 года"]
[]
[null,"Индивидуальные тарифы на услуги по передаче электрической энергии для взаиморасчета между "]
[null,0]
[null,"и филиалом \"Удмуртэнерго\" ОАО \"МРСК Центра и Приволжья\"  без дифференциации по уровням напряжения (в расчете на сальдированный переток = полезный отпуск сторонним потребителям +потери в доле на сторонних потребителей) указаны в таблице:"]
[null,"Тарифы на услуги по передаче электрической энергии","Утверждено на 2015 год","Утверждено на 2016 год","2016 год с учетом коррек-тировки","Рост тарифов в 2016 2 полугодие к 1 полугодию., %",null,"Рост тарифов в 2016 г. к уровню 2015 г., %"]
[null,"Одноставочный тариф на услуги по передаче электрической энергии, руб./кВт.ч",{"$f":"'Расчет долгосрочных параметров'!D109","v":0},{"$f":"'Расчет долгосрочных параметров'!E109","v":0},{"$f":"IF('4'!#REF!=0,0,(E87+E85)/'4'!#REF!)","v":{"$error":"#REF!"}},null,null,{"$f":"E94/C94","v":{"$error":"#REF!"}}]
[null,"1 полугодие",{"$f":"'Расчет долгосрочных параметров'!D110","v":0},{"$f":"'Расчет долгосрочных параметров'!E110","v":0},{"$f":"D96","v":0},null,null,{"$f":"E95/C95","v":{"$error":"#DIV/0!"}}]
[null,"2 полугодие",{"$f":"'Расчет долгосрочных параметров'!D111","v":0},{"$f":"'Расчет долгосрочных параметров'!E111","v":0},{"$f":"IF(E99=0,0,E102/1000+E99*6*'5'!BF23/(E31+E34)*2/1000)","v":0},{"$f":"E96/E95","v":{"$error":"#DIV/0!"}},null,{"$f":"E96/C96","v":{"$error":"#DIV/0!"}}]
[null,"Двухставочный тариф на услуги по передаче электрической энергии"]
[null,"-плата за содержание электрических сетей на заявленную мощность, руб./МВт в месяц",{"$f":"'Расчет долгосрочных параметров'!D112","v":0},{"$f":"'Расчет долгосрочных параметров'!E112","v":0},{"$f":"IF(E32=0,0,E85/12/'5'!BF23*1000)","v":0},null,null,{"$f":"E98/C98","v":{"$error":"#DIV/0!"}}]
[null,"1 полугодие",{"$f":"'Расчет долгосрочных параметров'!D113","v":0},{"$f":"'Расчет долгосрочных параметров'!E113","v":0},{"$f":"D100","v":0},null,null,{"$error":"#DIV/0!"}]
[null,"2 полугодие",{"$f":"'Расчет долгосрочных параметров'!D114","v":0},{"$f":"'Расчет долгосрочных параметров'!E114","v":0},{"$f":"IF(E32=0,0,(E85-E99*6*'5'!BF23/1000)/'5'!BF23/6)*1000","v":0},{"$f":"E100/E99","v":{"$error":"#DIV/0!"}},null,{"$error":"#DIV/0!"}]
[null,"- ставка по оплате технологического расхода электрической энегии на ее передачу, руб./МВт.ч",{"$f":"'Расчет долгосрочных параметров'!D115","v":0},{"$f":"'Расчет долгосрочных параметров'!E115","v":0},{"$f":"IF('4'!#REF!=0,0,E87*1000/'4'!#REF!)","v":{"$error":"#REF!"}},null,null,{"$error":"#REF!"}]
[null,"1 полугодие",{"$f":"'Расчет долгосрочных параметров'!D116","v":0},{"$f":"'Расчет долгосрочных параметров'!E116","v":0},{"$f":"D103","v":0},null,null,{"$error":"#DIV/0!"}]
[null,"2 полугодие",{"$f":"'Расчет долгосрочных параметров'!D117","v":0},{"$f":"'Расчет долгосрочных параметров'!E117","v":0},{"$f":"IF('4'!#REF!=0,0,(E87*1000-E102*'4'!#REF!/2)/('4'!#REF!/2))","v":{"$error":"#REF!"}},{"$f":"E103/E102","v":{"$error":"#REF!"}},null,{"$error":"#REF!"}]
[null,"Организации  необходимо обеспечить ежемесячное предоставление отчетности по форме 46-ээ (передача) в РЭК и в ФСТ в электронном виде через систему ЕИАС \"ФСТ-РЭК - органы регулирования\"."]
[null,"В установленные сроки раскрыть информацию в соответствии со стандартами раскрытия информации "]
[null,"Приложения к заключению на ___ л."]
[null,"Экспертная группа:"]
[]
[null," Специалист - эксперт отдела регулирования тарифов на электрическую энергию"]
[]
[null,"Начальник отдела регулирования тарифов на электрическую энергию",null,null,null,null,null,"О.Ю. Ильина"]
[]
[null,"Заместитель министра",null,null,null,null,null,"А.А. Бобырь"]

{"sheet":"РЭК корректировка","index":30,"n_rows":106,"n_cols":18,"rows_kept":106,"cut":false,"hidden":true,"merged":[[102,1,102,9],[104,1,104,9],[95,1,95,9],[96,7,96,8],[97,7,97,8],[98,7,98,8],[99,7,99,8],[100,7,100,8],[85,5,85,9],[86,5,86,9],[87,5,87,9],[88,5,88,9],[16,4,16,7],[23,2,23,9],[81,5,81,9],[82,5,82,9],[83,5,83,9],[84,5,84,9],[77,5,77,9],[78,5,78,9],[79,5,79,9],[80,5,80,9],[73,5,73,9],[74,5,74,9],[89,5,89,9],[90,5,90,9],[91,5,91,9],[93,1,93,9],[94,1,94,9],[75,5,75,9],[76,5,76,9],[69,5,69,9],[70,5,70,9],[71,5,71,9],[72,5,72,9],[65,5,65,9],[66,5,66,9],[67,5,67,9],[68,5,68,9],[61,5,61,9],[62,5,62,9],[63,5,63,9],[64,5,64,9],[44,5,44,9],[45,5,58,9],[59,5,59,9],[60,5,60,9],[40,1,40,9],[41,5,41,9],[42,5,42,9],[43,5,43,9],[33,5,33,9],[34,5,38,9],[39,5,39,9],[27,2,27,9],[28,5,28,7],[28,8,28,9],[31,3,31,9],[32,1,32,9],[21,2,21,9],[22,2,22,9],[24,1,24,9],[12,2,12,9],[13,2,13,9],[19,2,19,9],[20,2,20,9],[14,4,14,7],[15,4,15,7],[18,2,18,3],[18,5,18,7],[17,4,17,7],[0,0,0,9],[1,0,1,9],[2,0,2,9],[3,0,3,9],[9,2,9,9],[4,1,4,9],[5,2,5,9],[6,2,6,9],[8,2,8,9],[10,2,10,9],[11,2,11,3],[11,4,11,5],[11,6,11,7],[11,8,11,9]]}
["Заключение"]
["по корректировке тарифа на передачу электрической энергии по сетям ",null,null,null,null,null,null,null,null,null,null,null,null,null,null,"(без НДС)","отсутствует","имеется "]
[{"$f":"Анкета!B3","v":"АО \"Чепецкий механический завод\""},null,null,null,null,null,null,null,null,null,null,null,null,null,null,"(с учетом ЕСХН)","предоставляется нерегулярно","отсутствует"]
["на 2014 год в рамках долгосрочного периода  2012-2014 годы.",null,null,null,null,null,null,null,null,null,null,null,null,null,null,"(с учетом УСНО)","предоставляется регулярно"]
["1.","Краткая характеристика организации",null,null,null,null,null,null,null,null,null,null,null,null,null,"(с НДС)"]
["1. 1.            ","Основной вид деятельности организации–",{"$f":"Анкета!B10","v":"Производство ядерных материалов"}]
["1.2.            ","Право владения теплоэнергетическими объектами",{"$f":"Анкета!B11","v":"Собственность"}]
["1.3.             ","Протяженность сетей, км","ВН-",{"$f":"Анкета!B14","v":"0,8"},"СН1-",{"$f":"Анкета!B15","v":"12,3"},"СН2-",{"$f":"Анкета!B16","v":210.256},"НН-",{"$f":"Анкета!B17","v":"2"}]
["1.4.             ","Присоединенная мощность, кВ*А",{"$f":"Анкета!#REF!","v":{"$error":"#REF!"}}]
["1.5.             ","Заявленная мощность сторонних потребителей, МВт",{"$f":"'5'!W23","v":0.9047566478646254}]
["1.6.              ","Количество сторонних потребителей",{"$f":"Анкета!B27","v":39}]
["1.7.              ","Действующий тариф на  услуги по передаче электрической энергии ","ставка на содержание сетей, руб./МВт в месяц",null,{"$f":"#REF!","v":{"$error":"#REF!"}},null,"ставка на компенсацию потерь, руб./МВт.ч",null,{"$f":"#REF!","v":{"$error":"#REF!"}}]
["1.8.              ","Дата ввода в действие тарифов "]
["1.9.              ","Реквизиты решения РЭК"]
["1.10.              ","Утвержденная НВВ на 2012 г.",{"$f":"#REF!","v":{"$error":"#REF!"}},"тыс.руб.","в том числе доля на сторонних потребителей",null,null,null,{"$f":"#REF!","v":{"$error":"#REF!"}},0.42315668779967536]
["1.11.              ","Утвержденная НВВ на 2013 г.",{"$f":"'корректировка 2016 '!D83","v":0},"тыс.руб.","в том числе доля на сторонних потребителей",null,null,null,{"$f":"'корректировка 2016 '!D91","v":{"$error":"#DIV/0!"}},0.42318946262729573]
["1.12.              ","Утвержденная НВВ на 2014 г.",{"$f":"'корректировка 2016 '!E83","v":0},"тыс.руб.","в том числе доля на сторонних потребителей",null,null,null,{"$f":"'корректировка 2016 '!E91","v":{"$error":"#DIV/0!"}}]
["1.13.              ","Предлагаемая организацией НВВ на 2014 год",{"$f":"'15'!J42+'21'!H48","v":81311.19},"тыс.руб.","в том числе доля на сторонних потребителей",null,null,null,{"$f":"C88","v":{"$error":"#DIV/0!"}}]
["1.14.              ","Предлагаемые предприятием к утверждению тарифы на 2014 год","ставка на содержание сетей, руб./МВт в месяц",{"$f":"#REF!","v":{"$error":"#REF!"}},{"$f":"#REF!","v":{"$error":"#REF!"}},"ставка на компенсацию потерь, руб./МВт.ч",null,null,{"$f":"#REF!","v":{"$error":"#REF!"}},{"$f":"#REF!","v":{"$error":"#REF!"}}]
["1.15.              ","Отчетность по форме 46-ЭЭ"]
["1.16.              ","Наличие утвержденных нормативов или экспертизы потерь  (реквизиты решения, на какой год)"]
["1.17.              ","Наличие утвержденной программы энергосбережения"]
["1.18.              ","Реквизиты решения  по инвест. программе"]
["1.19.              ","Раскрытие информации",{"$f":"Анкета!B33","v":"На официальном сайте ОАО \"ЧМЗ\" (WWW.CHMZ.NET) 05 февраля 2015 года"}]
["2.","Анализ финансово-хозяйственной деятельности организации за прошедший период"]
["2.1.","Прибыль от продаж по итогам 2012 года в целом по предприятию",{"$f":"Анкета!B25","v":1951922},"тыс.руб."]
["2.2.","в том числе от реализации услуг по передаче электрической энергии",{"$f":"Анкета!B26","v":541},"тыс.руб."]
["2.3.","Причина избытка или недостатка средств по регулируемой деятельности"]
["2.4.","Изменение объемов полезного отпуска  по сравнению с планом за прошедший период",null,null,"тыс.кВт.ч","в том числе сторонним потребителям"]
["2.5.","Выполнение ремонтной и инвестиционной программ за 2012 год, тыс.руб. (план/факт)","план",null,"тыс.руб.","факт",null,"тыс.руб.","расхож-дение",{"$f":"G30-D30","v":0}]
["2.6.","Уровень фактической средней заработной платы производственного персонала по сравнению с плановым уровнем по итогам 2012 года, руб. (план/факт)","план",null,"тыс.руб.","факт",null,"тыс.руб."]
["2.7.","Обоснованные расходы по регулируемой деятельности по факту 2012 года, не учтенные в тарифах"]
["3.","Анализ объемов  услуг по передаче электрической энергии"]
[null,null,"2014 год (утв.)","2014 год (предло-жение организации)","2014 год (к утверждению с учетом корректировки)","пояснение к предложению РЭК"]
["3.1.","Планируемый объем отпуска в сеть на 2014 год, тыс.кВт.ч",{"$f":"'4'!M8","v":328595.18},{"$f":"'4'!H8","v":329581.56400000001},{"$f":"'4'!#REF!","v":{"$error":"#REF!"}},"поступление в сеть и  объем услуг сторонним потребителям  учтены в соответствии с договором с филиалом \"Удмуртэнерго\" на 2014 год, \nна основании приказа Минэнерго на 2014 год признан обоснованным процент потерь при передаче электроэнергии сторонним потребителям  - % "]
["3.2.","полезный объем услуг  сторонним потребителям,  тыс.кВт.ч",{"$f":"'4'!M23","v":5685.6530000000002},{"$f":"'4'!H23","v":6682.8960000000006},{"$f":"'4'!#REF!","v":{"$error":"#REF!"}}]
["3.3.","заявленная мощность сторонних потребителей, МВт",{"$f":"'5'!M23","v":0.91630185334407743},{"$f":"'5'!H23","v":1.0770178887993556},{"$f":"'5'!W23","v":0.9047566478646254}]
["3.4.","потери в сетях всего, тыс.кВт.ч",{"$f":"'4'!M18","v":11942.487999999999},{"$f":"'4'!H18","v":11942.488161989999},{"$f":"'4'!#REF!","v":{"$error":"#REF!"}}]
["3.5.","в том числе потери на сторонних потребителей",{"$f":"C36/(1-'4'!M19/100)*'4'!M19/100","v":214.43317691631688},{"$f":"D36/(1-'4'!H19/100)*'4'!H19/100","v":251.26129761349682},{"$f":"E36/(1-'4'!#REF!/100)*'4'!#REF!/100","v":{"$error":"#REF!"}}]
["3.6.","% потерь",{"$f":"C39/(C36+C39)","v":3.6344075406096944E-2},{"$f":"D39/(D36+D39)","v":3.6235303992883529E-2},{"$f":"E39/(E36+E39)","v":{"$error":"#REF!"}}]
["4.","Анализ необходимой валовой выручки  по регулируемой деятельности  на 2014 год"]
[null,"Наименование статьи","2014 год (утв.)","2014 год (предло-жение организации)","2014 год (к утверждению с учетом корректировки)","пояснение к предложению РЭК"]
["4.1.","индекс потребительских цен",{"$f":"'корректировка 2016 '!E7","v":4.3999999999999997E-2},null,{"$f":"'корректировка 2016 '!F7","v":0}]
["4.2.","индекс изменения количества активов",{"$f":"'корректировка 2016 '!E10","v":0},{"$f":"'2.3'!G30","v":-1},{"$f":"'корректировка 2016 '!F10","v":0}]
["4.3.","итого коэффициент индексации",{"$f":"'корректировка 2016 '!E14","v":0},{"$f":"'15'!J16/'15'!I16","v":{"$error":"#DIV/0!"}},{"$f":"'корректировка 2016 '!F14","v":1}]
["4.4.","Сырье, основные материалы",null,{"$f":"'15'!J7","v":0},null,"Корректировка подконтрольных расходов не произведена в связи с тем, что планируемые параметры расчета тарифов не изменились (согласно п.11 Методических указаний ФСТ от 17 февраля 2012 года).\n\n"]
["4.5.","Вспомогательные материалы",null,{"$f":"'15'!J8","v":450}]
[null,"из них на ремонт",null,{"$f":"'15'!J9","v":0}]
["4.6.","Работы и услуги производ. характера",null,{"$f":"'15'!J10","v":32251.75}]
[null,"из них на ремонт",null,{"$f":"'15'!J11","v":8051}]
["4.7.","Затраты на оплату труда",null,{"$f":"'15'!J16","v":0}]
["4.6.","в том числе оплата труда производственного персонала",null,{"$f":"'18'!H6","v":0}]
["4.6.","   численность производственного персонала",null,21]
["4.6.","   среднемесячная заработная плата, руб.",null,30815.388477170483]
["4.8.","Прочие затраты ",null,{"$f":"'15'!J38+'21'!H48-D78-D46-D47-D49-D51-D56-D57-D58-D59","v":2290}]
["4.9.","Прибыль на социальное развитие ",null,{"$f":"'21'!H13","v":0}]
["4.10.","Льготы, компенсации и проч.выплаты по Колдоговору",null,{"$f":"'21'!H16","v":0}]
["4.11.","Дивиденды по акциям",null,{"$f":"'21'!H17","v":0}]
["4.12.","Прибыль на прочие цели",null,{"$f":"'21'!H18","v":0}]
[null,"в том числе расходы на обслуживание заемных средств",null,{"$f":"'21'!H20","v":0}]
["4.13.","ИТОГО подконтрольные расходы",{"$f":"'корректировка 2016 '!E33","v":0},{"$f":"SUM(D46:D60)-D52-D53-D54-D48-D60","v":43042.750000000007},{"$f":"'корректировка 2016 '!F33","v":0},{"$f":"E61-C61","v":0}]
["4.14.","Финансирование капитальных вложений из прибыли ",{"$f":"'корректировка 2016 '!E38","v":0},{"$f":"'21'!H8","v":0},{"$f":"'корректировка 2016 '!F38","v":0}]
["4.15.","Амортизация",{"$f":"'корректировка 2016 '!E43","v":0},{"$f":"'15'!J20","v":39221.440000000002},{"$f":"'корректировка 2016 '!F43","v":0}]
["4.16.","Коммунальные услуги, в том числе",{"$f":"'корректировка 2016 '!E48","v":0},{"$f":"'ОПР -25 счет'!F12*'ОПР -25 счет'!F$37+'ОХР -26 счет'!F12*'ОХР -26 счет'!F$39","v":0},{"$f":"'корректировка 2016 '!F48","v":0}]
[null,"электрическая энергия",{"$f":"'корректировка 2016 '!E49","v":0},{"$f":"'ОПР -25 счет'!F13*'ОПР -25 счет'!F$37+'ОХР -26 счет'!F13*'ОХР -26 счет'!F$39","v":0},{"$f":"'корректировка 2016 '!F49","v":0}]
[null,"отопление",{"$f":"'корректировка 2016 '!E50","v":0},{"$f":"'ОПР -25 счет'!F14*'ОПР -25 счет'!F$37+'ОХР -26 счет'!F14*'ОХР -26 счет'!F$39","v":0},{"$f":"'корректировка 2016 '!F50","v":0}]
[null,"ГВС",{"$f":"'корректировка 2016 '!E51","v":0},{"$f":"'ОПР -25 счет'!F16*'ОПР -25 счет'!F$37+'ОХР -26 счет'!F16*'ОХР -26 счет'!F$39","v":0},{"$f":"'корректировка 2016 '!F51","v":0}]
[null,"водоснабжение и водоотведение",{"$f":"'корректировка 2016 '!E52","v":0},{"$f":"'ОПР -25 счет'!F17*'ОПР -25 счет'!F$37+'ОХР -26 счет'!F18*'ОХР -26 счет'!F$39","v":0},{"$f":"'корректировка 2016 '!F52","v":0}]
["4.17.","Страховые взносы социального характера",{"$f":"'корректировка 2016 '!E53","v":0},{"$f":"'15'!J18","v":0},{"$f":"'корректировка 2016 '!F53","v":0}]
["4.18.","Плата за аренду имущества и лизинг",{"$f":"'корректировка 2016 '!E54","v":0},{"$f":"'15'!J34","v":0},{"$f":"'корректировка 2016 '!F54","v":0}]
["4.19.","Налог на имущество",{"$f":"'корректировка 2016 '!E55","v":0},{"$f":"'21'!H36","v":0},{"$f":"'корректировка 2016 '!F55","v":0}]
["4.20.","Налог на прибыль",{"$f":"'корректировка 2016 '!E60","v":0},{"$f":"'21'!H31","v":0},{"$f":"'корректировка 2016 '!F60","v":0}]
["4.21.","Прочие налоги и сборы, в том числе",{"$f":"'корректировка 2016 '!E61","v":0},{"$f":"'15'!J29","v":7098},{"$f":"'корректировка 2016 '!F62","v":0}]
[null,"плата за землю",null,{"$f":"'15'!J30","v":0}]
[null,"налог при упрощенной системе налогообложения"]
["4.22.","Прочие неподконтрольные расходы"]
["4.23.","Компенсация выпадающих доходов по технологическому присоединению (пункт 71 Основ ценообразования)"]
["4.24.","ИТОГО неподконтрольные расходы",{"$f":"C62+C63+C64+C69+C70+C71+C72+C73+C76+C77","v":0},{"$f":"D62+D63+D64+D69+D70+D71+D72+D73+D76+D77","v":46319.44},{"$f":"E62+E63+E64+E69+E70+E71+E72+E73+E76+E77","v":0},{"$f":"E78-C78","v":0}]
["4.25.","Корректировка по факту, \nв том числе",{"$f":"C80+C81+C82+C83+C84+C85","v":0},{"$f":"D80+D81+D82+D83+D84+D85","v":0},{"$f":"E80+E81+E82+E83+E84+E85","v":0}]
[null,"результаты деятельности  до перехода к регулированию тарифов  на основе долгосрочных параметров регулирования (пункт 10 Методических указаний )",{"$f":"'корректировка 2016 '!E75","v":0},{"$f":"'15'!J40-'15'!J41","v":0},{"$f":"'корректировка 2016 '!F76","v":0}]
[null,"корректировка по итогам  истекшего года долгосрочного периода (пункт 9 Методических указаний ), в т.ч.",null,null,{"$f":"'корректировка 2016 '!F77","v":0}]
[null,"корректировка подконтрольных расходов ",null,null,{"$f":"'корректировка 2016 '!F78","v":0}]
[null,"корректировка неподконтрольных расходов ",null,null,{"$f":"'корректировка 2016 '!F79","v":0}]
[null,"корректировка НВВ с учетом изменения полезного отпуска и цен на электрическую энергию (покупка потерь)",null,null,{"$f":"'корректировка 2016 '!F80","v":0}]
[null,"изменение (неисполнение) инвестиционной программы ",null,null,{"$f":"'корректировка 2016 '!F81","v":0}]
["4.26.","Корректировка НВВ с учетом достижения установленного уровня надежности и качества услуг",null,null,{"$f":"'корректировка 2016 '!F82","v":0}]
["4.27.","ИТОГО НВВ на содержание сетей",{"$f":"C61+C78+C79+C86","v":0},{"$f":"D61+D78+D79+D86","v":89362.19},{"$f":"E61+E78+E79+E86","v":0},{"$f":"E87-C87","v":0}]
["4.28.","Доля НВВ на сторонних потребителей пропорционально полезному отпуску по уровням напряжения, %",{"$f":"'корректировка 2016 '!E91","v":{"$error":"#DIV/0!"}},{"$f":"D89/D87","v":{"$error":"#REF!"}},{"$f":"'корректировка 2016 '!F91","v":{"$error":"#REF!"}},"доля НВВ на содержание сетей , относимая  на сторонних потребителей, изменилась в связи с "]
["4.29.","НВВ на содержание сетей, относимая на сторонних потребителей услуг, тыс.руб.",{"$f":"'корректировка 2016 '!E96","v":0},{"$f":"(#REF!*6*'5'!H23+#REF!*6*'5'!H23)/1000","v":{"$error":"#REF!"}},{"$f":"'корректировка 2016 '!F96","v":{"$error":"#REF!"}},{"$f":"E89-C89","v":{"$error":"#REF!"}}]
["4.30.","Расходы на покупку потерь всего, тыс. руб.",{"$f":"'25'!#REF!/1000","v":{"$error":"#REF!"}},{"$f":"'25'!I27/1000","v":25.309962373700365},{"$f":"'25'!O27/1000","v":0}]
["4.31.","Расходы на покупку потерь, относимые на сторонних потребителей, тыс. руб.",{"$f":"C92*C39/1000","v":{"$error":"#REF!"}},{"$f":"D92*D39/1000","v":0.49498475629858868},{"$f":"E92*E39/1000","v":{"$error":"#REF!"}},"п.4.31. = п.4.32. * п.3.5. / 1000"]
["4.32.","цена покупки потерь, руб. МВт.ч",{"$f":"'25'!#REF!","v":{"$error":"#REF!"}},{"$f":"'25'!I5","v":1.97},{"$f":"'25'!O5","v":0}]
[]
[null,"Индивидуальные тарифы на услуги по передаче электрической энергии для взаиморасчета между "]
[null,{"$f":"Анкета!B3","v":"АО \"Чепецкий механический завод\""}]
[null,"и филиалом \"Удмуртэнерго\" ОАО \"МРСК Центра и Приволжья\"  без дифференциации по уровням напряжения указаны в таблице:"]
[null,"Тарифы на услуги по передаче электрической энергии","Утверждено на 2013 год","2014 год до коррек-тировки","2014 год с учетом коррек-тировки","в том числе 2014 год\n1 полугодие"," 2014 год\n2 полугодие","Рост тарифов в 2014 г. к уровню 2013 г., %"]
[null,"Тариф на услуги по передаче электрической энергии, в том числе:",{"$f":"#REF!","v":{"$error":"#REF!"}},{"$f":"#REF!","v":{"$error":"#REF!"}},{"$f":"E99+E101","v":{"$error":"#REF!"}},{"$f":"#REF!","v":{"$error":"#REF!"}},{"$f":"#REF!","v":{"$error":"#REF!"}},{"$f":"E98/C98","v":{"$error":"#REF!"}}]
[null,"-плата за содержание электрических сетей (руб./МВт.ч.)",{"$f":"#REF!","v":{"$error":"#REF!"}},{"$f":"#REF!","v":{"$error":"#REF!"}},{"$f":"E89/E36*1000","v":{"$error":"#REF!"}},{"$f":"#REF!","v":{"$error":"#REF!"}},{"$f":"#REF!","v":{"$error":"#REF!"}},{"$f":"E99/C99","v":{"$error":"#REF!"}}]
[null,"-плата за содержание электрических сетей на заявленную мощность (руб./МВт в месяц)",{"$f":"#REF!","v":{"$error":"#REF!"}},{"$f":"#REF!","v":{"$error":"#REF!"}},{"$f":"E89/12/E37*1000","v":{"$error":"#REF!"}},{"$f":"#REF!","v":{"$error":"#REF!"}},{"$f":"#REF!","v":{"$error":"#REF!"}},{"$f":"E100/C100","v":{"$error":"#REF!"}}]
[null,"- ставка по оплате технологического расхода электрической энегии на ее передачу (руб./МВт.ч.)",{"$f":"#REF!","v":{"$error":"#REF!"}},{"$f":"#REF!","v":{"$error":"#REF!"}},{"$f":"E91/E36*1000","v":{"$error":"#REF!"}},{"$f":"#REF!","v":{"$error":"#REF!"}},{"$f":"#REF!","v":{"$error":"#REF!"}},{"$f":"E101/C101","v":{"$error":"#REF!"}}]
[]
[]
[]
[null,"Главный специалист-эксперт  отдела регулирования тарифов ТЭК"]
[null,"РЭК Удмуртской Республики:                                                                                                          _______________________"]

{"sheet":"заключение","index":31,"n_rows":123,"n_cols":18,"rows_kept":123,"cut":false,"hidden":true,"merged":[[126,1,126,9],[109,1,109,9],[112,1,112,9],[115,1,115,9],[116,1,116,9],[55,5,55,9],[53,5,53,9],[56,5,56,9],[69,5,69,9],[117,1,117,9],[124,1,124,9],[125,1,125,9],[64,5,64,9],[67,5,67,9],[68,5,68,9],[57,5,57,9],[58,5,58,9],[72,5,72,9],[73,5,73,9],[74,5,74,9],[71,5,71,9],[97,1,97,3],[98,1,98,3],[99,1,99,3],[50,5,50,9],[43,4,43,9],[21,1,21,9],[27,3,27,9],[25,8,25,9],[0,0,0,9],[1,0,1,9],[2,0,2,9],[3,0,3,9],[5,1,5,9],[25,5,25,7],[6,2,6,9],[7,2,7,9],[10,2,10,9],[12,2,12,9],[11,2,11,9],[13,2,13,3],[13,4,13,5],[14,2,14,9],[16,2,16,9],[13,6,13,7],[13,8,13,9],[17,2,17,9],[4,0,4,9],[18,2,18,9],[46,5,46,9],[44,4,44,9],[41,4,41,9],[19,2,19,9],[20,1,20,9],[24,2,24,9],[47,5,47,9],[48,5,48,9],[84,5,84,9],[87,5,87,9],[94,5,94,9],[28,1,28,9],[29,4,29,9],[96,1,96,8],[42,4,42,9],[45,1,45,9],[88,5,88,9],[81,5,81,9],[82,5,82,9],[83,5,83,9],[40,4,40,9],[79,5,79,9],[76,5,76,9],[77,5,77,9],[35,4,39,9],[30,4,34,9],[78,5,78,9],[65,5,65,9],[51,5,51,9],[52,5,52,9],[54,5,54,9],[49,5,49,9],[105,1,105,3],[106,1,106,3],[107,1,107,3],[102,1,102,3],[104,1,104,3],[85,5,85,9],[86,5,86,9],[92,5,92,9],[93,5,93,9],[101,1,101,3],[103,1,103,3],[100,1,100,3],[91,5,91,9],[90,5,90,9],[89,5,89,9],[66,5,66,9],[80,5,80,9],[75,5,75,9],[70,5,70,9],[59,5,59,9],[60,5,60,9],[61,5,61,9],[62,5,62,9],[63,5,63,9]]}
["Заключение"]
["по формированию тарифа на передачу электрической энергии по сетям ",null,null,null,null,null,null,null,null,null,null,null,null,null,null,"(без НДС)","отсутствует","имеется "]
[{"$f":"Анкета!B3","v":"АО \"Чепецкий механический завод\""},null,null,null,null,null,null,null,null,null,null,null,null,null,null,"(с учетом ЕСХН)","предоставляется нерегулярно","отсутствует"]
["на долгосрочный период 2015-2019 годы.",null,null,null,null,null,null,null,null,null,null,null,null,null,null,"(с учетом УСНО)","предоставляется регулярно"]
["  Приказ об открытии дела об установлении тарифов - № от мая 2015 года.\nРасчет тарифа на услуги по передаче электрической энергии  произведен с использованием метода   долгосрочной индексации необходимой валовой выручки в соответствии с  Методическими указаниями по расчету тарифов  (приказ ФСТ от 17 февраля 2012 года № 98-э) и с учетом Методических указаний по определению базового уровня операционных, подконтрольных расходов территориальных сетевых организаций, необходимых для осуществления регулируемой деятельности, и индекса эффективности операционных, подконтрольных расходов с применением метода сравнения аналогов (приказ ФСТ от 18 марта 2015 года № 421-э).\n\n   Представленные ообосновывающие материалы, заверенные подписью руководителя организации или уполномоченного лица, можно считать достоверными. Ответственность за предоставление недостоверной информации несет организация."]
["1.","Краткая характеристика организации",null,null,null,null,null,null,null,null,null,null,null,null,null,"(с НДС)"]
["1. 1.            ","Основной вид деятельности организации–"]
["1.2.            ","Право владения электросетевыми объектами",{"$f":"Анкета!B11","v":"Собственность"}]
["1.3.             ","Срок владения электросетевыми объектами"]
["1.4.             ","Протяженность сетей, км","ВН-",{"$f":"Анкета!B14","v":"0,8"},"СН1-",{"$f":"Анкета!B15","v":"12,3"},"СН2-",{"$f":"Анкета!B16","v":210.256},"НН-",{"$f":"Анкета!B17","v":"2"}]
["1.5.             ","Установленная (присоединенная мощность), кВ*А",{"$f":"Анкета!#REF!","v":{"$error":"#REF!"}}]
["1.6.              ","Заявленная мощность сторонних потребителей, МВт",{"$f":"'5'!M23","v":0.91630185334407743}]
["1.7.              ","Количество сторонних потребителей",{"$f":"Анкета!C27","v":0}]
["1.8.              ","Действующий тариф на  услуги по передаче электрической энергии  (2 полугодие 2015 г.)","ставка на содержание сетей, руб./кВт в месяц",null,{"$f":"'Расчет долгосрочных параметров'!C112","v":0},null,"ставка на компенсацию потерь, руб./кВт.ч",null,{"$f":"'Расчет долгосрочных параметров'!C115","v":0}]
["1.9.              ","Реквизиты решения органа регулирования"]
["1.10.              ","Предлагаемые организацией к утверждению тарифы на 2016 -2018 годы","ставка на содержание сетей, руб./МВт в месяц",{"$f":"'Долгосрочные параметры'!#REF!","v":{"$error":"#REF!"}},{"$f":"'Долгосрочные параметры'!D102","v":207278.41380163006},{"$f":"'Долгосрочные параметры'!E102","v":0},"ставка на компенсацию потерь, руб./МВт.ч",{"$f":"'Долгосрочные параметры'!D103","v":3.2237731483696144},{"$f":"'Долгосрочные параметры'!#REF!","v":{"$error":"#REF!"}},{"$f":"'Долгосрочные параметры'!E103","v":0}]
["1.11.              ","Отчетность по форме 46-ЭЭ за 2014 год и 1 полугодие 2015 года"]
["1.12.              ","Наличие утвержденной программы энергосбережения на период регулирования"]
["1.13.              ","Реквизиты решения органа регулирования, где отражены выпадающие доходов от ТП заявителей мощностью до 150 кВт"]
["1.14.              ","Реквизиты решения органа регулирования по инвест. программе"]
[]
["2.","Анализ финансово-хозяйственной деятельности организации за прошедший период"]
["2.1.","Прибыль от продаж по итогам 2014 года в целом по предприятию",null,"тыс.руб."]
["2.2.","в том числе от реализации услуг по передаче электрической энергии",null,"тыс.руб."]
["2.3.","Причина избытка или недостатка средств по регулируемой деятельности"]
["2.4.","Изменение объемов полезного отпуска  по сравнению с планом за прошедший период",null,null,"тыс.кВт.ч","в том числе сторонним потребителям"]
["2.5.","Выполнение ремонтной и инвестиционной программ за 2014 год, тыс.руб. (план/факт)","план",null,"тыс.руб.","факт",null,"тыс.руб.","расхож-дение",{"$f":"G27-D27","v":0}]
["2.7.","Обоснованные расходы по регулируемой деятельности по факту 2014 года, не учтенные в тарифах"]
["3.","Анализ объемов  услуг по передаче электрической энергии"]
[null,null,"предло-жение организации","предло-жение органа регулиро-вания","пояснение к предложению органа регулирования"]
["3.1.","Планируемый объем отпуска в сеть на 2015 год, тыс.кВт.ч",{"$f":"'4'!AB8","v":336996.04300000001},{"$f":"'4'!#REF!","v":{"$error":"#REF!"}},"Объем услуг по передаче электрической энергии  (расчет на сальдированный переток)  учтен в соответствии с договором с филиалом \"Удмуртэнерго\" на 2016 год (приложение 3 к договору), потери учтены в соответствии с п.38 Основ ценообразования, как минимальное значение из норматива потерь электрической энергии при ее передаче по электрическим сетям, утвержденного Минэнерго России (приказ от 30.09.2014 г. № 674), и уровня фактических потерь электрической энергии за последний истекший год (2014 год)."]
["3.1.1.","полезный объем услуг  сторонним потребителям,  тыс.кВт.ч",{"$f":"'4'!AB23","v":5502},{"$f":"'4'!#REF!","v":{"$error":"#REF!"}}]
["3.1.2.","заявленная мощность сторонних потребителей, МВт",{"$f":"'5'!AB23","v":0.88670427074939573},{"$f":"'5'!BF23","v":0}]
["3.1.3.","потери в сетях всего, тыс.кВт.ч",{"$f":"'4'!AB18","v":12847.696636396124},{"$f":"'4'!#REF!","v":{"$error":"#REF!"}}]
[null,"в том числе доля потерь на сторонних потребителей",{"$f":"C32/(1-'4'!AB19/100)*('4'!AB19/100)","v":218.07307575821861},{"$f":"'4'!#REF!","v":{"$error":"#REF!"}}]
["3.2.","Планируемый объем отпуска в сеть на 2016 -2019 годы, тыс.кВт.ч",{"$f":"'4'!AG8","v":0},{"$f":"D31","v":{"$error":"#REF!"}},"Объем услуг по передаче электрической энергии (сальдированный переток)  учтен в соответствии с договором с филиалом \"Удмуртэнерго\" на 2016 год (приложение 3 к договору) в связи с отсутствием согласованных в договоре объемов услуг на период 2017-2020  годы"]
["3.2.1.","полезный объем услуг  сторонним потребителям,  тыс.кВт.ч",{"$f":"'4'!AG23","v":0},{"$f":"D32","v":{"$error":"#REF!"}}]
["3.2.2.","заявленная мощность сторонних потребителей, МВт",{"$f":"'5'!AG23","v":0},0]
["3.2.3.","потери в сетях всего, тыс.кВт.ч",{"$f":"'4'!AG18","v":0},{"$error":"#REF!"}]
[null,"в том числе доля на сторонних потребителей",{"$f":"'4'!AG23/(1-'4'!AG19/100)*('4'!AG19/100)","v":0},{"$error":"#REF!"}]
["3.3.","Планируемый объем отпуска в сеть на 2016 год, тыс.кВт.ч",null,{"$error":"#REF!"}]
["3.3.1.","полезный объем услуг  сторонним потребителям,  тыс.кВт.ч",null,{"$error":"#REF!"}]
["3.3.2.","заявленная мощность сторонних потребителей, МВт",null,0]
["3.3.3.","потери в сетях всего, тыс.кВт.ч",null,{"$error":"#REF!"}]
[null,"в том числе доля на сторонних потребителей",null,{"$error":"#REF!"}]
["4.","Анализ необходимой валовой выручки  по регулируемой деятельности  на 2015 год"]
[null,"Наименование статьи","план организации","предло-жение органа регулиро-вания","расхож-дение \n(+ увеличение, \n- снижение)","пояснение к предложению органа регулирования"]
["4.1.","Сырье, основные материалы"]
["4.2.","Вспомогательные материалы"]
[null,"из них на ремонт"]
["4.3.","Работы и услуги производ. характера"]
[null,"из них на ремонт"]
["4.4.","Затраты на оплату труда"]
[null,"в том числе оплата труда производственного персонала"]
[null,"   численность производственного персонала"]
[null,"   среднемесячная заработная плата, руб."]
["4.5.","Прочие затраты "]
["4.6.","Прибыль на социальное развитие "]
["4.7.","Льготы, компенсации и проч.выплаты по Колдоговору"]
["4.8.","Дивиденды по акциям"]
["4.9.","Прибыль на прочие цели"]
[null,"в том числе расходы на обслуживание заемных средств"]
["4.10.","ИТОГО подконтрольные расходы"]
["4.11.","Финансирование капитальных вложений из прибыли "]
["4.12.","Амортизация"]
["4.13.","Коммунальные услуги, в том числе"]
[null,"электрическая энергия"]
[null,"отопление"]
[null,"ГВС"]
[null,"водоснабжение и водоотведение"]
["4.14.","Страховые взносы социального характера"]
["4.15.","Плата за аренду имущества и лизинг"]
["4.16.","Налог на имущество"]
["4.17.","Налог на прибыль"]
["4.18.","Прочие налоги и сборы, в том числе"]
[null,"плата за землю"]
[null,"налог при упрощенной системе налогообложения"]
["4.19.","Прочие неподконтрольные расходы"]
["4.20.","Компенсация выпадающих доходов по технологическому присоединению (пункт 71 Основ ценообразования)"]
["4.21.","ИТОГО неподконтрольные расходы"]
["4.22.","Корректировка по факту, \nв том числе"]
[null,"результаты деятельности  до перехода к регулированию тарифов  на основе долгосрочных параметров регулирования (пункт 10 Методических указаний )"]
[null,"корректировка по итогам  истекшего года долгосрочного периода (пункт 9 Методических указаний ), в т.ч."]
[null,"корректировка подконтрольных расходов "]
[null,"корректировка неподконтрольных расходов "]
[null,"корректировка НВВ с учетом изменения полезного отпуска и цен на электрическую энергию (покупка потерь)"]
[null,"изменение (неисполнение) инвестиционной программы "]
["4.23.","Корректировка НВВ с учетом достижения установленного уровня надежности и качества услуг"]
["4.24.","ИТОГО НВВ на содержание сетей"]
["4.25.","Доля НВВ на сторонних потребителей пропорционально полезному отпуску по уровням напряжения, %"]
["4.26.","НВВ на содержание сетей, относимая на сторонних потребителей услуг, тыс.руб."]
["4.27.","Расходы на покупку потерь, относимые на сторонних потребителей, тыс. руб."]
[null,"цена покупки потерь, руб. МВт.ч"]
[null,"объем потерь при передаче энергии сторонним потребителям, тыс.кВт.ч"]
[null,"% потерь"]
[]
[null,"Долгосрочные параметры регулирования на период 2015-2019 годы"]
[null,"Наименование параметра",null,null,2015,2016,2017,2018,2019]
[null,"Базовый уровень подконтрольных расходов, тыс.руб.","%",null,{"$f":"'Расчет долгосрочных параметров'!D7","v":0}]
[null,"Индекс эффективности подконтрольных расходов, %","%"]
[null,"Коэффициент эластичности подконтрольных расходов по количеству  активов","%",null,0.75,0.75,0.75,0.75,0.75]
[null,"Уровень надежности  реализуемых товаров (услуг)",null,null,{"$f":"'Расчет долгосрочных параметров'!D10","v":0},{"$f":"'Расчет долгосрочных параметров'!E10","v":0},{"$f":"'Расчет долгосрочных параметров'!F10","v":0},{"$f":"'Расчет долгосрочных параметров'!G10","v":0},{"$f":"'Расчет долгосрочных параметров'!H10","v":0}]
[null,"Показатель уровня качества осуществляемого технологического присоединения к сети\n",null,null,1,1,1,1,1]
[null,"Показатель уровня качества обслуживания потребителей услуг\n",null,null,0.89749999999999996,0.89749999999999996,0.89749999999999996,0.89749999999999996,0.89749999999999996]
[null,"Уровень потерь электрической энергии при ее передаче по электрическим сетям (ВН), %"]
[null,"Уровень потерь электрической энергии при ее передаче по электрическим сетям (СН 1), %"]
[null,"Уровень потерь электрической энергии при ее передаче по электрическим сетям (СН 2), %"]
[null,"Уровень потерь электрической энергии при ее передаче по электрическим сетям (НН), %"]
[]
[null,"С учетом принятых долгосрочных параметров регулирования  на 2016-2020 годы необходимая валовая выручка организации на содержание сетей в доле, относимой на сторонних потребителей услуг, составит:"]
[null,"2015 год","2016 год",null,"2017 год",null,"2018 год",null,"2019 год"]
[null,{"$f":"'Расчет долгосрочных параметров'!D105","v":0},{"$f":"'Расчет долгосрочных параметров'!E105","v":0},null,{"$f":"'Расчет долгосрочных параметров'!F105","v":0},null,{"$f":"'Расчет долгосрочных параметров'!G105","v":0},null,{"$f":"'Расчет долгосрочных параметров'!H105","v":0}]
[null,"Расходы на покупку потерь, относимые на сторонних потребителей, с учетом индексации цены покупки потерь составят:"]
[null,"2015 год","2016 год",null,"2017 год",null,"2018 год",null,"2019 год"]
[null,{"$f":"D92","v":0},{"$f":"$D$94*'25'!Q5","v":0},null,{"$f":"$D$94*'25'!R5","v":0},null,{"$f":"$D$94*'25'!S5","v":0},null,{"$f":"$D$94*'25'!T5","v":0}]
[null,"Индивидуальные тарифы на услуги по передаче электрической энергии для взаиморасчета между "]
[null,{"$f":"Анкета!B3","v":"АО \"Чепецкий механический завод\""}]
[null,"и филиалом \"Удмуртэнерго\" ОАО \"МРСК Центра и Приволжья\"  без дифференциации по уровням напряжения (в расчете на сальдированный переток = полезный отпуск сторонним потребителям +потери в доле на сторонних потребителей) указаны в таблице:"]
[null,"Тарифы на услуги по передаче электрической энергии"]
[null,"Тариф на услуги по передаче электрической энергии, в том числе:"]
[null,"-плата за содержание электрических сетей (руб./МВт.ч.)"]
[null,"-плата за содержание электрических сетей на заявленную мощность (руб./МВт в месяц)"]
[null,"- ставка по оплате технологического расхода электрической энегии на ее передачу (руб./МВт.ч.)"]